BEGIN:VCALENDAR
PRODID:-//nuDatenautomaten//framework iCal4j //DE
VERSION:2.0
CALSCALE:GREGORIAN
BEGIN:VTIMEZONE
TZID:Europe/Berlin
LAST-MODIFIED:20260306T231828Z
TZURL:https://www.tzurl.org/zoneinfo/Europe/Berlin
X-LIC-LOCATION:Europe/Berlin
X-PROLEPTIC-TZNAME:LMT
BEGIN:STANDARD
TZNAME:CET
TZOFFSETFROM:+005328
TZOFFSETTO:+0100
DTSTART:18930401T000000
END:STANDARD
BEGIN:DAYLIGHT
TZNAME:CEST
TZOFFSETFROM:+0100
TZOFFSETTO:+0200
DTSTART:19160430T230000
RDATE:19400401T020000
RDATE:19430329T020000
RDATE:19460414T020000
RDATE:19470406T030000
RDATE:19480418T020000
RDATE:19490410T020000
RDATE:19800406T020000
END:DAYLIGHT
BEGIN:STANDARD
TZNAME:CET
TZOFFSETFROM:+0200
TZOFFSETTO:+0100
DTSTART:19161001T010000
RDATE:19421102T030000
RDATE:19431004T030000
RDATE:19441002T030000
RDATE:19451118T030000
RDATE:19461007T030000
END:STANDARD
BEGIN:DAYLIGHT
TZNAME:CEST
TZOFFSETFROM:+0100
TZOFFSETTO:+0200
DTSTART:19170416T020000
RRULE:FREQ=YEARLY;UNTIL=19180415T010000Z;BYMONTH=4;BYDAY=3MO
END:DAYLIGHT
BEGIN:STANDARD
TZNAME:CET
TZOFFSETFROM:+0200
TZOFFSETTO:+0100
DTSTART:19170917T030000
RRULE:FREQ=YEARLY;UNTIL=19180916T010000Z;BYMONTH=9;BYDAY=3MO
END:STANDARD
BEGIN:DAYLIGHT
TZNAME:CEST
TZOFFSETFROM:+0100
TZOFFSETTO:+0200
DTSTART:19440403T020000
RRULE:FREQ=YEARLY;UNTIL=19450402T010000Z;BYMONTH=4;BYDAY=1MO
END:DAYLIGHT
BEGIN:DAYLIGHT
TZNAME:CEMT
TZOFFSETFROM:+0200
TZOFFSETTO:+0300
DTSTART:19450524T020000
RDATE:19470511T030000
END:DAYLIGHT
BEGIN:DAYLIGHT
TZNAME:CEST
TZOFFSETFROM:+0300
TZOFFSETTO:+0200
DTSTART:19450924T030000
RDATE:19470629T030000
END:DAYLIGHT
BEGIN:STANDARD
TZNAME:CET
TZOFFSETFROM:+0100
TZOFFSETTO:+0100
DTSTART:19460101T000000
RDATE:19800101T000000
END:STANDARD
BEGIN:STANDARD
TZNAME:CET
TZOFFSETFROM:+0200
TZOFFSETTO:+0100
DTSTART:19471005T030000
RRULE:FREQ=YEARLY;UNTIL=19491002T010000Z;BYMONTH=10;BYDAY=1SU
END:STANDARD
BEGIN:STANDARD
TZNAME:CET
TZOFFSETFROM:+0200
TZOFFSETTO:+0100
DTSTART:19800928T030000
RRULE:FREQ=YEARLY;UNTIL=19950924T010000Z;BYMONTH=9;BYDAY=-1SU
END:STANDARD
BEGIN:DAYLIGHT
TZNAME:CEST
TZOFFSETFROM:+0100
TZOFFSETTO:+0200
DTSTART:19810329T020000
RRULE:FREQ=YEARLY;BYMONTH=3;BYDAY=-1SU
END:DAYLIGHT
BEGIN:STANDARD
TZNAME:CET
TZOFFSETFROM:+0200
TZOFFSETTO:+0100
DTSTART:19961027T030000
RRULE:FREQ=YEARLY;BYMONTH=10;BYDAY=-1SU
END:STANDARD
END:VTIMEZONE
BEGIN:VEVENT
DTSTAMP:20260424T151027Z
DTSTART;TZID=Europe/Berlin:20251213T180000
DTEND;TZID=Europe/Berlin:20251213T210000
SUMMARY:STTL Women Neuhausen vs Uster (13)
UID:128de4a2-5525-4ad8-be4f-c86ee095ec11
STATUS:CONFIRMED
LAST-MODIFIED:20251216T085328Z
DESCRIPTION:Swiss Table Tennis League Women\nBegegnungs-Nr: 13\nHeim: Neuhausen\nGast: Uster\n\nAdresse: Ebnatstrasse 35\, 8200 Schaffhausen\n
LOCATION:Ebnatstrasse 35\, 8200 Schaffhausen
CATEGORIES:Saison 2025/26
END:VEVENT
BEGIN:VEVENT
DTSTAMP:20260424T151027Z
DTSTART;TZID=Europe/Berlin:20251011T180000
DTEND;TZID=Europe/Berlin:20251011T210000
SUMMARY:STTL Women Neuhausen vs ZZ-Lancy (1)
UID:8ff743cd-338f-4db6-b829-9fee03981cf1
STATUS:CONFIRMED
LAST-MODIFIED:20251016T144736Z
DESCRIPTION:Swiss Table Tennis League Women\nBegegnungs-Nr: 1\nHeim: Neuhausen\nGast: ZZ-Lancy\n\nAdresse: Ebnatstrasse 35\, 8200 Schaffhausen\n
LOCATION:Ebnatstrasse 35\, 8200 Schaffhausen
CATEGORIES:Saison 2025/26
END:VEVENT
BEGIN:VEVENT
DTSTAMP:20260424T151027Z
DTSTART;TZID=Europe/Berlin:20251108T140000
DTEND;TZID=Europe/Berlin:20251108T170000
SUMMARY:STTL Women Neuhausen vs Rio-Star Muttenz (7)
UID:68d034af-d171-49fa-8319-6782304a0cc5
STATUS:CONFIRMED
LAST-MODIFIED:20251110T075430Z
DESCRIPTION:Swiss Table Tennis League Women\nBegegnungs-Nr: 7\nHeim: Neuhausen\nGast: Rio-Star Muttenz\n\nAdresse: Ebnatstrasse 35\, 8200 Schaffhausen\n
LOCATION:Ebnatstrasse 35\, 8200 Schaffhausen
CATEGORIES:Saison 2025/26
END:VEVENT
BEGIN:VEVENT
DTSTAMP:20260424T151027Z
DTSTART;TZID=Europe/Berlin:20260131T180000
DTEND;TZID=Europe/Berlin:20260131T210000
SUMMARY:STTL Women Neuhausen vs Young Stars ZH (4)
UID:15df3950-73c3-4341-906a-91023c17db5b
STATUS:CONFIRMED
LAST-MODIFIED:20260203T081712Z
DESCRIPTION:Swiss Table Tennis League Women\nBegegnungs-Nr: 4\nHeim: Neuhausen\nGast: Young Stars ZH\n\nAdresse: Ebnatstrasse 35\, 8200 Schaffhausen\n
LOCATION:Ebnatstrasse 35\, 8200 Schaffhausen
CATEGORIES:Saison 2025/26
END:VEVENT
BEGIN:VEVENT
DTSTAMP:20260424T151027Z
DTSTART;TZID=Europe/Berlin:20260328T180000
DTEND;TZID=Europe/Berlin:20260328T210000
SUMMARY:STTL Women Neuhausen vs Zürich-Affoltern (10)
UID:ddec32ce-20c0-44ce-9dc4-8f3bf5fd30fc
STATUS:CONFIRMED
LAST-MODIFIED:20260330T081034Z
DESCRIPTION:Swiss Table Tennis League Women\nBegegnungs-Nr: 10\nHeim: Neuhausen\nGast: Zürich-Affoltern\n\nAdresse: Ebnatstrasse 35\, 8200 Schaffhausen\n
LOCATION:Ebnatstrasse 35\, 8200 Schaffhausen
CATEGORIES:Saison 2025/26
END:VEVENT
BEGIN:VEVENT
DTSTAMP:20260424T151027Z
DTSTART;TZID=Europe/Berlin:20260424T190000
DTEND;TZID=Europe/Berlin:20260424T220000
SUMMARY:STTL Women Play-Off 1/2-Final Neuhausen vs Rio-Star Muttenz (1)
UID:ec7d6ad4-29fc-4c6e-b770-b4f4a63b7aa1
STATUS:CONFIRMED
DESCRIPTION:Swiss Table Tennis League Women Play-Off 1/2-Final\nBegegnungs-Nr: 1\nHeim: Neuhausen\nGast: Rio-Star Muttenz\n\nAdresse: Ebnatstrasse 35\, 8200 Schaffhausen\n
LOCATION:Ebnatstrasse 35\, 8200 Schaffhausen
CATEGORIES:Saison 2025/26
END:VEVENT
BEGIN:VEVENT
DTSTAMP:20260424T151027Z
DTSTART;TZID=Europe/Berlin:20251012T120000
DTEND;TZID=Europe/Berlin:20251012T150000
SUMMARY:STTL Women Zürich-Affoltern vs Neuhausen (4)
UID:b0af1643-7c7c-4975-b983-eb4d976a3ee8
STATUS:CONFIRMED
LAST-MODIFIED:20251016T144911Z
DESCRIPTION:Swiss Table Tennis League Women\nBegegnungs-Nr: 4\nHeim: Zürich-Affoltern\nGast: Neuhausen\n\nAdresse: Rümlangstr. 89\, 8052 Zürich\n
LOCATION:Rümlangstr. 89\, 8052 Zürich
CATEGORIES:Saison 2025/26
END:VEVENT
BEGIN:VEVENT
DTSTAMP:20260424T151027Z
DTSTART;TZID=Europe/Berlin:20251109T140000
DTEND;TZID=Europe/Berlin:20251109T170000
SUMMARY:STTL Women Young Stars ZH vs Neuhausen (10)
UID:b9d81eb0-fa5e-4fa9-97d4-3a155a534562
STATUS:CONFIRMED
LAST-MODIFIED:20251110T080114Z
DESCRIPTION:Swiss Table Tennis League Women\nBegegnungs-Nr: 10\nHeim: Young Stars ZH\nGast: Neuhausen\n\nAdresse: Seefeldstrasse 93\, 8008 Zürich\n
LOCATION:Seefeldstrasse 93\, 8008 Zürich
CATEGORIES:Saison 2025/26
END:VEVENT
BEGIN:VEVENT
DTSTAMP:20260424T151027Z
DTSTART;TZID=Europe/Berlin:20260201T140000
DTEND;TZID=Europe/Berlin:20260201T170000
SUMMARY:STTL Women Rio-Star Muttenz vs Neuhausen (7)
UID:a3489d58-3e48-44c7-b86c-4825a9577ca8
STATUS:CONFIRMED
LAST-MODIFIED:20260203T081721Z
DESCRIPTION:Swiss Table Tennis League Women\nBegegnungs-Nr: 7\nHeim: Rio-Star Muttenz\nGast: Neuhausen\n\nAdresse: Gründenstrasse 32\, 4132 Muttenz\n
LOCATION:Gründenstrasse 32\, 4132 Muttenz
CATEGORIES:Saison 2025/26
END:VEVENT
BEGIN:VEVENT
DTSTAMP:20260424T151027Z
DTSTART;TZID=Europe/Berlin:20260329T140000
DTEND;TZID=Europe/Berlin:20260329T170000
SUMMARY:STTL Women ZZ-Lancy vs Neuhausen (13)
UID:3dca419d-ae05-4acd-a0cf-df39bd58b338
STATUS:CONFIRMED
LAST-MODIFIED:20260330T081149Z
DESCRIPTION:Swiss Table Tennis League Women\nBegegnungs-Nr: 13\nHeim: ZZ-Lancy\nGast: Neuhausen\n\nAdresse: Avenue du Curé-Baud 40\, 1212 Grand-Lancy\n
LOCATION:Avenue du Curé-Baud 40\, 1212 Grand-Lancy
CATEGORIES:Saison 2025/26
END:VEVENT
BEGIN:VEVENT
DTSTAMP:20260424T151027Z
DTSTART;TZID=Europe/Berlin:20251214T113000
DTEND;TZID=Europe/Berlin:20251214T143000
SUMMARY:STTL Women Uster vs Neuhausen (1)
UID:895a9c71-b79c-4cbe-9615-871a9efcb43a
STATUS:CONFIRMED
LAST-MODIFIED:20251216T085349Z
DESCRIPTION:Swiss Table Tennis League Women\nBegegnungs-Nr: 1\nHeim: Uster\nGast: Neuhausen\n\nAdresse: Wilstrasse 30 / Zürcherstrasse\, 8610 Uster\n
LOCATION:Wilstrasse 30 / Zürcherstrasse\, 8610 Uster
CATEGORIES:Saison 2025/26
END:VEVENT
BEGIN:VEVENT
DTSTAMP:20260424T151027Z
DTSTART;TZID=Europe/Berlin:20260426T130000
DTEND;TZID=Europe/Berlin:20260426T160000
SUMMARY:STTL Women Play-Off 1/2-Final Rio-Star Muttenz vs Neuhausen (1)
UID:a02fae9e-1623-44ce-b879-48938583e7b6
STATUS:CONFIRMED
DESCRIPTION:Swiss Table Tennis League Women Play-Off 1/2-Final\nBegegnungs-Nr: 1\nHeim: Rio-Star Muttenz\nGast: Neuhausen\n\nAdresse: Gründenstrasse 32\, 4132 Muttenz\n
LOCATION:Gründenstrasse 32\, 4132 Muttenz
CATEGORIES:Saison 2025/26
END:VEVENT
BEGIN:VEVENT
DTSTAMP:20260424T151027Z
DTSTART;TZID=Europe/Berlin:20260425T140000
DTEND;TZID=Europe/Berlin:20260425T170000
SUMMARY:STTL Women Play-Off 1/2-Final Rio-Star Muttenz vs Neuhausen (1)
UID:eff9ec6b-55b7-4c9a-8655-68561b8baaaf
STATUS:CONFIRMED
DESCRIPTION:Swiss Table Tennis League Women Play-Off 1/2-Final\nBegegnungs-Nr: 1\nHeim: Rio-Star Muttenz\nGast: Neuhausen\n\nAdresse: Gründenstrasse 32\, 4132 Muttenz\n
LOCATION:Gründenstrasse 32\, 4132 Muttenz
CATEGORIES:Saison 2025/26
END:VEVENT
END:VCALENDAR
