BEGIN:VCALENDAR
PRODID:-//nuDatenautomaten//framework iCal4j //DE
VERSION:2.0
CALSCALE:GREGORIAN
BEGIN:VTIMEZONE
TZID:Europe/Berlin
LAST-MODIFIED:20260306T231828Z
TZURL:https://www.tzurl.org/zoneinfo/Europe/Berlin
X-LIC-LOCATION:Europe/Berlin
X-PROLEPTIC-TZNAME:LMT
BEGIN:STANDARD
TZNAME:CET
TZOFFSETFROM:+005328
TZOFFSETTO:+0100
DTSTART:18930401T000000
END:STANDARD
BEGIN:DAYLIGHT
TZNAME:CEST
TZOFFSETFROM:+0100
TZOFFSETTO:+0200
DTSTART:19160430T230000
RDATE:19400401T020000
RDATE:19430329T020000
RDATE:19460414T020000
RDATE:19470406T030000
RDATE:19480418T020000
RDATE:19490410T020000
RDATE:19800406T020000
END:DAYLIGHT
BEGIN:STANDARD
TZNAME:CET
TZOFFSETFROM:+0200
TZOFFSETTO:+0100
DTSTART:19161001T010000
RDATE:19421102T030000
RDATE:19431004T030000
RDATE:19441002T030000
RDATE:19451118T030000
RDATE:19461007T030000
END:STANDARD
BEGIN:DAYLIGHT
TZNAME:CEST
TZOFFSETFROM:+0100
TZOFFSETTO:+0200
DTSTART:19170416T020000
RRULE:FREQ=YEARLY;UNTIL=19180415T010000Z;BYMONTH=4;BYDAY=3MO
END:DAYLIGHT
BEGIN:STANDARD
TZNAME:CET
TZOFFSETFROM:+0200
TZOFFSETTO:+0100
DTSTART:19170917T030000
RRULE:FREQ=YEARLY;UNTIL=19180916T010000Z;BYMONTH=9;BYDAY=3MO
END:STANDARD
BEGIN:DAYLIGHT
TZNAME:CEST
TZOFFSETFROM:+0100
TZOFFSETTO:+0200
DTSTART:19440403T020000
RRULE:FREQ=YEARLY;UNTIL=19450402T010000Z;BYMONTH=4;BYDAY=1MO
END:DAYLIGHT
BEGIN:DAYLIGHT
TZNAME:CEMT
TZOFFSETFROM:+0200
TZOFFSETTO:+0300
DTSTART:19450524T020000
RDATE:19470511T030000
END:DAYLIGHT
BEGIN:DAYLIGHT
TZNAME:CEST
TZOFFSETFROM:+0300
TZOFFSETTO:+0200
DTSTART:19450924T030000
RDATE:19470629T030000
END:DAYLIGHT
BEGIN:STANDARD
TZNAME:CET
TZOFFSETFROM:+0100
TZOFFSETTO:+0100
DTSTART:19460101T000000
RDATE:19800101T000000
END:STANDARD
BEGIN:STANDARD
TZNAME:CET
TZOFFSETFROM:+0200
TZOFFSETTO:+0100
DTSTART:19471005T030000
RRULE:FREQ=YEARLY;UNTIL=19491002T010000Z;BYMONTH=10;BYDAY=1SU
END:STANDARD
BEGIN:STANDARD
TZNAME:CET
TZOFFSETFROM:+0200
TZOFFSETTO:+0100
DTSTART:19800928T030000
RRULE:FREQ=YEARLY;UNTIL=19950924T010000Z;BYMONTH=9;BYDAY=-1SU
END:STANDARD
BEGIN:DAYLIGHT
TZNAME:CEST
TZOFFSETFROM:+0100
TZOFFSETTO:+0200
DTSTART:19810329T020000
RRULE:FREQ=YEARLY;BYMONTH=3;BYDAY=-1SU
END:DAYLIGHT
BEGIN:STANDARD
TZNAME:CET
TZOFFSETFROM:+0200
TZOFFSETTO:+0100
DTSTART:19961027T030000
RRULE:FREQ=YEARLY;BYMONTH=10;BYDAY=-1SU
END:STANDARD
END:VTIMEZONE
BEGIN:VEVENT
DTSTAMP:20260424T022713Z
DTSTART;TZID=Europe/Berlin:20250901T201500
DTEND;TZID=Europe/Berlin:20250901T231500
SUMMARY:ME L5 Gr 4\, Tours 1&2 Yverdon VI vs Yverdon V (0)
UID:c55ae0de-fa09-4dd0-9cef-2c514c9243e6
STATUS:CONFIRMED
LAST-MODIFIED:20250902T114949Z
DESCRIPTION:5ème ligue Hommes Groupe 4\, Tours 1&2\nBegegnungs-Nr: 0\nHeim: Yverdon VI\nGast: Yverdon V\n\nAdresse: Avenue des Quatre Marroniers 1\, 1400 Yverdon-les-Bains\n
LOCATION:Avenue des Quatre Marroniers 1\, 1400 Yverdon-les-Bains
CATEGORIES:Saison 2025/26
END:VEVENT
BEGIN:VEVENT
DTSTAMP:20260424T022713Z
DTSTART;TZID=Europe/Berlin:20250915T201500
DTEND;TZID=Europe/Berlin:20250915T231500
SUMMARY:ME L5 Gr 4\, Tours 1&2 Yverdon VI vs Orbe (0)
UID:141fc05b-a377-43a6-b138-e8938eb26b07
STATUS:CONFIRMED
LAST-MODIFIED:20250916T005926Z
DESCRIPTION:5ème ligue Hommes Groupe 4\, Tours 1&2\nBegegnungs-Nr: 0\nHeim: Yverdon VI\nGast: Orbe\n\nAdresse: Avenue des Quatre Marroniers 1\, 1400 Yverdon-les-Bains\n
LOCATION:Avenue des Quatre Marroniers 1\, 1400 Yverdon-les-Bains
CATEGORIES:Saison 2025/26
END:VEVENT
BEGIN:VEVENT
DTSTAMP:20260424T022713Z
DTSTART;TZID=Europe/Berlin:20251021T201500
DTEND;TZID=Europe/Berlin:20251021T231500
SUMMARY:ME L5 Gr 4\, Tours 1&2 Yverdon VI vs Sainte-Croix (0)
UID:362b7d8c-4fdc-4086-89fc-15ac3141647f
STATUS:CONFIRMED
LAST-MODIFIED:20251024T105323Z
DESCRIPTION:5ème ligue Hommes Groupe 4\, Tours 1&2\nBegegnungs-Nr: 0\nHeim: Yverdon VI\nGast: Sainte-Croix\n\nAdresse: Avenue des Quatre Marroniers 1\, 1400 Yverdon-les-Bains\n
LOCATION:Avenue des Quatre Marroniers 1\, 1400 Yverdon-les-Bains
CATEGORIES:Saison 2025/26
END:VEVENT
BEGIN:VEVENT
DTSTAMP:20260424T022713Z
DTSTART;TZID=Europe/Berlin:20251103T201500
DTEND;TZID=Europe/Berlin:20251103T231500
SUMMARY:ME L5 Gr 4\, Tours 1&2 Yverdon VI vs Domdidier II (0)
UID:b24c4b7a-a83b-495f-8334-a2c6c0430652
STATUS:CONFIRMED
LAST-MODIFIED:20251104T233553Z
DESCRIPTION:5ème ligue Hommes Groupe 4\, Tours 1&2\nBegegnungs-Nr: 0\nHeim: Yverdon VI\nGast: Domdidier II\n\nAdresse: Avenue des Quatre Marroniers 1\, 1400 Yverdon-les-Bains\n
LOCATION:Avenue des Quatre Marroniers 1\, 1400 Yverdon-les-Bains
CATEGORIES:Saison 2025/26
END:VEVENT
BEGIN:VEVENT
DTSTAMP:20260424T022713Z
DTSTART;TZID=Europe/Berlin:20251124T201500
DTEND;TZID=Europe/Berlin:20251124T231500
SUMMARY:ME L5 Gr 4\, Tours 1&2 Yverdon VI vs Cheyres II (0)
UID:bd36b4fe-8263-440d-94e8-abf3a6d68db3
STATUS:CONFIRMED
LAST-MODIFIED:20251125T150549Z
DESCRIPTION:5ème ligue Hommes Groupe 4\, Tours 1&2\nBegegnungs-Nr: 0\nHeim: Yverdon VI\nGast: Cheyres II\n\nAdresse: Avenue des Quatre Marroniers 1\, 1400 Yverdon-les-Bains\n
LOCATION:Avenue des Quatre Marroniers 1\, 1400 Yverdon-les-Bains
CATEGORIES:Saison 2025/26
END:VEVENT
BEGIN:VEVENT
DTSTAMP:20260424T022713Z
DTSTART;TZID=Europe/Berlin:20260126T201500
DTEND;TZID=Europe/Berlin:20260126T231500
SUMMARY:ME L4 Gr 3\, Tours 3&4 Yverdon VI vs Cheyres (0)
UID:d0794c8a-8d7d-42b8-961b-6be1155bf909
STATUS:CONFIRMED
LAST-MODIFIED:20260128T205435Z
DESCRIPTION:4ème ligue Hommes Groupe 3\, Tours 3&4\nBegegnungs-Nr: 0\nHeim: Yverdon VI\nGast: Cheyres\n\nAdresse: Avenue des Quatre Marroniers 1\, 1400 Yverdon-les-Bains\n
LOCATION:Avenue des Quatre Marroniers 1\, 1400 Yverdon-les-Bains
CATEGORIES:Saison 2025/26
END:VEVENT
BEGIN:VEVENT
DTSTAMP:20260424T022713Z
DTSTART;TZID=Europe/Berlin:20260209T201500
DTEND;TZID=Europe/Berlin:20260209T231500
SUMMARY:ME L4 Gr 3\, Tours 3&4 Yverdon VI vs Estavayer (0)
UID:7afe7823-dfba-460e-adcb-9361e41c5a06
STATUS:CONFIRMED
LAST-MODIFIED:20260212T112934Z
DESCRIPTION:4ème ligue Hommes Groupe 3\, Tours 3&4\nBegegnungs-Nr: 0\nHeim: Yverdon VI\nGast: Estavayer\n\nAdresse: Avenue des Quatre Marroniers 1\, 1400 Yverdon-les-Bains\n
LOCATION:Avenue des Quatre Marroniers 1\, 1400 Yverdon-les-Bains
CATEGORIES:Saison 2025/26
END:VEVENT
BEGIN:VEVENT
DTSTAMP:20260424T022713Z
DTSTART;TZID=Europe/Berlin:20260223T201500
DTEND;TZID=Europe/Berlin:20260223T231500
SUMMARY:ME L4 Gr 3\, Tours 3&4 Yverdon VI vs Fribourg VI (0)
UID:a40e3cb6-845d-4869-b244-8c857914dd42
STATUS:CONFIRMED
LAST-MODIFIED:20260225T224636Z
DESCRIPTION:4ème ligue Hommes Groupe 3\, Tours 3&4\nBegegnungs-Nr: 0\nHeim: Yverdon VI\nGast: Fribourg VI\n\nAdresse: Avenue des Quatre Marroniers 1\, 1400 Yverdon-les-Bains\n
LOCATION:Avenue des Quatre Marroniers 1\, 1400 Yverdon-les-Bains
CATEGORIES:Saison 2025/26
END:VEVENT
BEGIN:VEVENT
DTSTAMP:20260424T022713Z
DTSTART;TZID=Europe/Berlin:20260309T201500
DTEND;TZID=Europe/Berlin:20260309T231500
SUMMARY:ME L4 Gr 3\, Tours 3&4 Yverdon VI vs Mézières II (0)
UID:bd33a185-93ab-4b48-95c3-10a64aab95dd
STATUS:CONFIRMED
LAST-MODIFIED:20260310T113024Z
DESCRIPTION:4ème ligue Hommes Groupe 3\, Tours 3&4\nBegegnungs-Nr: 0\nHeim: Yverdon VI\nGast: Mézières II\n\nAdresse: Avenue des Quatre Marroniers 1\, 1400 Yverdon-les-Bains\n
LOCATION:Avenue des Quatre Marroniers 1\, 1400 Yverdon-les-Bains
CATEGORIES:Saison 2025/26
END:VEVENT
BEGIN:VEVENT
DTSTAMP:20260424T022713Z
DTSTART;TZID=Europe/Berlin:20260330T201500
DTEND;TZID=Europe/Berlin:20260330T231500
SUMMARY:ME L4 Gr 3\, Tours 3&4 Yverdon VI vs Fribourg VII (0)
UID:94330d35-6d3e-4f60-b699-abb433b18795
STATUS:CONFIRMED
LAST-MODIFIED:20260401T092411Z
DESCRIPTION:4ème ligue Hommes Groupe 3\, Tours 3&4\nBegegnungs-Nr: 0\nHeim: Yverdon VI\nGast: Fribourg VII\n\nAdresse: Avenue des Quatre Marroniers 1\, 1400 Yverdon-les-Bains\n
LOCATION:Avenue des Quatre Marroniers 1\, 1400 Yverdon-les-Bains
CATEGORIES:Saison 2025/26
END:VEVENT
BEGIN:VEVENT
DTSTAMP:20260424T022713Z
DTSTART;TZID=Europe/Berlin:20250908T201500
DTEND;TZID=Europe/Berlin:20250908T231500
SUMMARY:ME L5 Gr 4\, Tours 1&2 Domdidier II vs Yverdon VI (0)
UID:0409cd61-fb90-4e56-aedf-4a54827b8332
STATUS:CONFIRMED
LAST-MODIFIED:20250910T230837Z
DESCRIPTION:5ème ligue Hommes Groupe 4\, Tours 1&2\nBegegnungs-Nr: 0\nHeim: Domdidier II\nGast: Yverdon VI\n\nAdresse: Pré-de-la-Cour\, 1564 Domdidier\n
LOCATION:Pré-de-la-Cour\, 1564 Domdidier
CATEGORIES:Saison 2025/26
END:VEVENT
BEGIN:VEVENT
DTSTAMP:20260424T022713Z
DTSTART;TZID=Europe/Berlin:20250925T194500
DTEND;TZID=Europe/Berlin:20250925T224500
SUMMARY:ME L5 Gr 4\, Tours 1&2 Cheyres II vs Yverdon VI (0)
UID:9ee13411-f614-40cb-a0bf-191ffdd945e2
STATUS:CONFIRMED
LAST-MODIFIED:20250927T150010Z
DESCRIPTION:5ème ligue Hommes Groupe 4\, Tours 1&2\nBegegnungs-Nr: 0\nHeim: Cheyres II\nGast: Yverdon VI\n\nAdresse: Rue de la Gare 10\, 1468 Cheyres\n
LOCATION:Rue de la Gare 10\, 1468 Cheyres
CATEGORIES:Saison 2025/26
END:VEVENT
BEGIN:VEVENT
DTSTAMP:20260424T022713Z
DTSTART;TZID=Europe/Berlin:20251029T201500
DTEND;TZID=Europe/Berlin:20251029T231500
SUMMARY:ME L5 Gr 4\, Tours 1&2 Yverdon V vs Yverdon VI (0)
UID:0b2258f0-e8e2-416f-8617-61053c9f42ee
STATUS:CONFIRMED
LAST-MODIFIED:20251101T154107Z
DESCRIPTION:5ème ligue Hommes Groupe 4\, Tours 1&2\nBegegnungs-Nr: 0\nHeim: Yverdon V\nGast: Yverdon VI\n\nAdresse: Avenue des Quatre Marroniers 1\, 1400 Yverdon-les-Bains\n
LOCATION:Avenue des Quatre Marroniers 1\, 1400 Yverdon-les-Bains
CATEGORIES:Saison 2025/26
END:VEVENT
BEGIN:VEVENT
DTSTAMP:20260424T022713Z
DTSTART;TZID=Europe/Berlin:20251118T201500
DTEND;TZID=Europe/Berlin:20251118T231500
SUMMARY:ME L5 Gr 4\, Tours 1&2 Orbe vs Yverdon VI (0)
UID:aa2c1cc7-af80-45ff-95da-5908df8d1499
STATUS:CONFIRMED
LAST-MODIFIED:20251119T171219Z
DESCRIPTION:5ème ligue Hommes Groupe 4\, Tours 1&2\nBegegnungs-Nr: 0\nHeim: Orbe\nGast: Yverdon VI\n\nAdresse: Rue du Suchet\, 1350 Orbe\n
LOCATION:Rue du Suchet\, 1350 Orbe
CATEGORIES:Saison 2025/26
END:VEVENT
BEGIN:VEVENT
DTSTAMP:20260424T022713Z
DTSTART;TZID=Europe/Berlin:20251208T200000
DTEND;TZID=Europe/Berlin:20251208T230000
SUMMARY:ME L5 Gr 4\, Tours 1&2 Sainte-Croix vs Yverdon VI (0)
UID:fe1aba57-51d7-4c5e-8cd1-4f1a0e050f0e
STATUS:CONFIRMED
LAST-MODIFIED:20251209T113042Z
DESCRIPTION:5ème ligue Hommes Groupe 4\, Tours 1&2\nBegegnungs-Nr: 0\nHeim: Sainte-Croix\nGast: Yverdon VI\n\nAdresse: Av. de la Gare 23\, 1450 Sainte-Croix\n
LOCATION:Av. de la Gare 23\, 1450 Sainte-Croix
CATEGORIES:Saison 2025/26
END:VEVENT
BEGIN:VEVENT
DTSTAMP:20260424T022713Z
DTSTART;TZID=Europe/Berlin:20260114T200000
DTEND;TZID=Europe/Berlin:20260114T230000
SUMMARY:ME L4 Gr 3\, Tours 3&4 Mézières II vs Yverdon VI (0)
UID:31def7dd-255c-4bf8-9a87-25af79539567
STATUS:CONFIRMED
LAST-MODIFIED:20260116T194533Z
DESCRIPTION:4ème ligue Hommes Groupe 3\, Tours 3&4\nBegegnungs-Nr: 0\nHeim: Mézières II\nGast: Yverdon VI\n\nAdresse: -\, 1083 Mézières\n
LOCATION:-\, 1083 Mézières
CATEGORIES:Saison 2025/26
END:VEVENT
BEGIN:VEVENT
DTSTAMP:20260424T022713Z
DTSTART;TZID=Europe/Berlin:20260205T193000
DTEND;TZID=Europe/Berlin:20260205T223000
SUMMARY:ME L4 Gr 3\, Tours 3&4 Fribourg VII vs Yverdon VI (0)
UID:39c6036c-21a2-43f6-85b7-1315466bfbfb
STATUS:CONFIRMED
LAST-MODIFIED:20260205T224610Z
DESCRIPTION:4ème ligue Hommes Groupe 3\, Tours 3&4\nBegegnungs-Nr: 0\nHeim: Fribourg VII\nGast: Yverdon VI\n\nAdresse: Route du Centre sportif\, 1752 Villars-sur-Glâne\n
LOCATION:Route du Centre sportif\, 1752 Villars-sur-Glâne
CATEGORIES:Saison 2025/26
END:VEVENT
BEGIN:VEVENT
DTSTAMP:20260424T022713Z
DTSTART;TZID=Europe/Berlin:20260319T194500
DTEND;TZID=Europe/Berlin:20260319T224500
SUMMARY:ME L4 Gr 3\, Tours 3&4 Cheyres vs Yverdon VI (0)
UID:1cb4d373-bc74-474b-8def-3116707ac585
STATUS:CONFIRMED
LAST-MODIFIED:20260321T102548Z
DESCRIPTION:4ème ligue Hommes Groupe 3\, Tours 3&4\nBegegnungs-Nr: 0\nHeim: Cheyres\nGast: Yverdon VI\n\nAdresse: Rue de la Gare 10\, 1468 Cheyres\n
LOCATION:Rue de la Gare 10\, 1468 Cheyres
CATEGORIES:Saison 2025/26
END:VEVENT
BEGIN:VEVENT
DTSTAMP:20260424T022713Z
DTSTART;TZID=Europe/Berlin:20260424T193000
DTEND;TZID=Europe/Berlin:20260424T223000
SUMMARY:ME L4 Gr 3\, Tours 3&4 Estavayer vs Yverdon VI (0)
UID:5d87e8d8-585b-42b6-80e2-8d5c93ca9f08
STATUS:CONFIRMED
DESCRIPTION:4ème ligue Hommes Groupe 3\, Tours 3&4\nBegegnungs-Nr: 0\nHeim: Estavayer\nGast: Yverdon VI\n\nAdresse: Avenue de la Gare 111\, 1470 Estavayer-le-Lac\n
LOCATION:Avenue de la Gare 111\, 1470 Estavayer-le-Lac
CATEGORIES:Saison 2025/26
END:VEVENT
BEGIN:VEVENT
DTSTAMP:20260424T022713Z
DTSTART;TZID=Europe/Berlin:20260430T191500
DTEND;TZID=Europe/Berlin:20260430T221500
SUMMARY:ME L4 Gr 3\, Tours 3&4 Fribourg VI vs Yverdon VI (0)
UID:e6e9483b-ccab-401e-88cb-f57d72540c8d
STATUS:CONFIRMED
DESCRIPTION:4ème ligue Hommes Groupe 3\, Tours 3&4\nBegegnungs-Nr: 0\nHeim: Fribourg VI\nGast: Yverdon VI\n\nAdresse: Avenue Général Guisan 61\, 1700 Fribourg\n
LOCATION:Avenue Général Guisan 61\, 1700 Fribourg
CATEGORIES:Saison 2025/26
END:VEVENT
END:VCALENDAR
