BEGIN:VCALENDAR
PRODID:-//nuDatenautomaten//framework iCal4j //DE
VERSION:2.0
CALSCALE:GREGORIAN
BEGIN:VTIMEZONE
TZID:Europe/Berlin
LAST-MODIFIED:20260306T231828Z
TZURL:https://www.tzurl.org/zoneinfo/Europe/Berlin
X-LIC-LOCATION:Europe/Berlin
X-PROLEPTIC-TZNAME:LMT
BEGIN:STANDARD
TZNAME:CET
TZOFFSETFROM:+005328
TZOFFSETTO:+0100
DTSTART:18930401T000000
END:STANDARD
BEGIN:DAYLIGHT
TZNAME:CEST
TZOFFSETFROM:+0100
TZOFFSETTO:+0200
DTSTART:19160430T230000
RDATE:19400401T020000
RDATE:19430329T020000
RDATE:19460414T020000
RDATE:19470406T030000
RDATE:19480418T020000
RDATE:19490410T020000
RDATE:19800406T020000
END:DAYLIGHT
BEGIN:STANDARD
TZNAME:CET
TZOFFSETFROM:+0200
TZOFFSETTO:+0100
DTSTART:19161001T010000
RDATE:19421102T030000
RDATE:19431004T030000
RDATE:19441002T030000
RDATE:19451118T030000
RDATE:19461007T030000
END:STANDARD
BEGIN:DAYLIGHT
TZNAME:CEST
TZOFFSETFROM:+0100
TZOFFSETTO:+0200
DTSTART:19170416T020000
RRULE:FREQ=YEARLY;UNTIL=19180415T010000Z;BYMONTH=4;BYDAY=3MO
END:DAYLIGHT
BEGIN:STANDARD
TZNAME:CET
TZOFFSETFROM:+0200
TZOFFSETTO:+0100
DTSTART:19170917T030000
RRULE:FREQ=YEARLY;UNTIL=19180916T010000Z;BYMONTH=9;BYDAY=3MO
END:STANDARD
BEGIN:DAYLIGHT
TZNAME:CEST
TZOFFSETFROM:+0100
TZOFFSETTO:+0200
DTSTART:19440403T020000
RRULE:FREQ=YEARLY;UNTIL=19450402T010000Z;BYMONTH=4;BYDAY=1MO
END:DAYLIGHT
BEGIN:DAYLIGHT
TZNAME:CEMT
TZOFFSETFROM:+0200
TZOFFSETTO:+0300
DTSTART:19450524T020000
RDATE:19470511T030000
END:DAYLIGHT
BEGIN:DAYLIGHT
TZNAME:CEST
TZOFFSETFROM:+0300
TZOFFSETTO:+0200
DTSTART:19450924T030000
RDATE:19470629T030000
END:DAYLIGHT
BEGIN:STANDARD
TZNAME:CET
TZOFFSETFROM:+0100
TZOFFSETTO:+0100
DTSTART:19460101T000000
RDATE:19800101T000000
END:STANDARD
BEGIN:STANDARD
TZNAME:CET
TZOFFSETFROM:+0200
TZOFFSETTO:+0100
DTSTART:19471005T030000
RRULE:FREQ=YEARLY;UNTIL=19491002T010000Z;BYMONTH=10;BYDAY=1SU
END:STANDARD
BEGIN:STANDARD
TZNAME:CET
TZOFFSETFROM:+0200
TZOFFSETTO:+0100
DTSTART:19800928T030000
RRULE:FREQ=YEARLY;UNTIL=19950924T010000Z;BYMONTH=9;BYDAY=-1SU
END:STANDARD
BEGIN:DAYLIGHT
TZNAME:CEST
TZOFFSETFROM:+0100
TZOFFSETTO:+0200
DTSTART:19810329T020000
RRULE:FREQ=YEARLY;BYMONTH=3;BYDAY=-1SU
END:DAYLIGHT
BEGIN:STANDARD
TZNAME:CET
TZOFFSETFROM:+0200
TZOFFSETTO:+0100
DTSTART:19961027T030000
RRULE:FREQ=YEARLY;BYMONTH=10;BYDAY=-1SU
END:STANDARD
END:VTIMEZONE
BEGIN:VEVENT
DTSTAMP:20260424T151708Z
DTSTART;TZID=Europe/Berlin:20260409T201500
DTEND;TZID=Europe/Berlin:20260409T231500
SUMMARY:HE 5. Liga Gr. 5 Pinguin Zürich V vs Libera Zürich (0)
UID:63c8dde7-8187-4be8-9971-40796c41886b
STATUS:CONFIRMED
LAST-MODIFIED:20260420T123426Z
DESCRIPTION:5. Liga Herren Gruppe 5\nBegegnungs-Nr: 0\nHeim: Pinguin Zürich V\nGast: Libera Zürich\n\nAdresse: Grindelstrasse 20\, 8303 Bassersdorf\n
LOCATION:Grindelstrasse 20\, 8303 Bassersdorf
CATEGORIES:Saison 2025/26
END:VEVENT
BEGIN:VEVENT
DTSTAMP:20260424T151708Z
DTSTART;TZID=Europe/Berlin:20260416T200000
DTEND;TZID=Europe/Berlin:20260416T230000
SUMMARY:HE 5. Liga Gr. 5 Pinguin Zürich V vs Niederhasli VI (0)
UID:4fd31e1d-d05b-4b10-8162-5276fceda2ee
STATUS:CONFIRMED
LAST-MODIFIED:20260420T123448Z
DESCRIPTION:5. Liga Herren Gruppe 5\nBegegnungs-Nr: 0\nHeim: Pinguin Zürich V\nGast: Niederhasli VI\n\nAdresse: Grindelstrasse 20\, 8303 Bassersdorf\n
LOCATION:Grindelstrasse 20\, 8303 Bassersdorf
CATEGORIES:Saison 2025/26
END:VEVENT
BEGIN:VEVENT
DTSTAMP:20260424T151708Z
DTSTART;TZID=Europe/Berlin:20250904T200000
DTEND;TZID=Europe/Berlin:20250904T230000
SUMMARY:HE 5. Liga Gr. 5 Pinguin Zürich V vs BW-Wollishofen IV (0)
UID:8b6c6883-2d6c-47f7-8be0-47077376e441
STATUS:CONFIRMED
LAST-MODIFIED:20250905T124433Z
DESCRIPTION:5. Liga Herren Gruppe 5\nBegegnungs-Nr: 0\nHeim: Pinguin Zürich V\nGast: BW-Wollishofen IV\n\nAdresse: Grindelstrasse 20\, 8303 Bassersdorf\n
LOCATION:Grindelstrasse 20\, 8303 Bassersdorf
CATEGORIES:Saison 2025/26
END:VEVENT
BEGIN:VEVENT
DTSTAMP:20260424T151708Z
DTSTART;TZID=Europe/Berlin:20250925T200000
DTEND;TZID=Europe/Berlin:20250925T230000
SUMMARY:HE 5. Liga Gr. 5 Pinguin Zürich V vs Seebach-Kügeliloo II (0)
UID:370a6ac8-e49e-4e97-b14c-17ee3b909044
STATUS:CONFIRMED
LAST-MODIFIED:20250926T132702Z
DESCRIPTION:5. Liga Herren Gruppe 5\nBegegnungs-Nr: 0\nHeim: Pinguin Zürich V\nGast: Seebach-Kügeliloo II\n\nAdresse: Grindelstrasse 20\, 8303 Bassersdorf\n
LOCATION:Grindelstrasse 20\, 8303 Bassersdorf
CATEGORIES:Saison 2025/26
END:VEVENT
BEGIN:VEVENT
DTSTAMP:20260424T151708Z
DTSTART;TZID=Europe/Berlin:20251030T200000
DTEND;TZID=Europe/Berlin:20251030T230000
SUMMARY:HE 5. Liga Gr. 5 Pinguin Zürich V vs Dübendorf-Volketswil IV (0)
UID:d015ead0-44b4-44a8-9809-7203d5e01e73
STATUS:CONFIRMED
LAST-MODIFIED:20251031T144027Z
DESCRIPTION:5. Liga Herren Gruppe 5\nBegegnungs-Nr: 0\nHeim: Pinguin Zürich V\nGast: Dübendorf-Volketswil IV\n\nAdresse: Grindelstrasse 20\, 8303 Bassersdorf\n
LOCATION:Grindelstrasse 20\, 8303 Bassersdorf
CATEGORIES:Saison 2025/26
END:VEVENT
BEGIN:VEVENT
DTSTAMP:20260424T151708Z
DTSTART;TZID=Europe/Berlin:20260129T200000
DTEND;TZID=Europe/Berlin:20260129T230000
SUMMARY:HE 5. Liga Gr. 5 Pinguin Zürich V vs Bülach V (0)
UID:2a1b076c-ca1a-4c7b-97d9-83fa6afa3266
STATUS:CONFIRMED
LAST-MODIFIED:20260130T101727Z
DESCRIPTION:5. Liga Herren Gruppe 5\nBegegnungs-Nr: 0\nHeim: Pinguin Zürich V\nGast: Bülach V\n\nAdresse: Grindelstrasse 20\, 8303 Bassersdorf\n
LOCATION:Grindelstrasse 20\, 8303 Bassersdorf
CATEGORIES:Saison 2025/26
END:VEVENT
BEGIN:VEVENT
DTSTAMP:20260424T151708Z
DTSTART;TZID=Europe/Berlin:20260108T200000
DTEND;TZID=Europe/Berlin:20260108T230000
SUMMARY:HE 5. Liga Gr. 5 Pinguin Zürich V vs Meilen-Männedorf V (0)
UID:24259a60-87bf-44c0-87ee-20f94bc49cad
STATUS:CONFIRMED
LAST-MODIFIED:20260112T095642Z
DESCRIPTION:5. Liga Herren Gruppe 5\nBegegnungs-Nr: 0\nHeim: Pinguin Zürich V\nGast: Meilen-Männedorf V\n\nAdresse: Grindelstrasse 20\, 8303 Bassersdorf\n
LOCATION:Grindelstrasse 20\, 8303 Bassersdorf
CATEGORIES:Saison 2025/26
END:VEVENT
BEGIN:VEVENT
DTSTAMP:20260424T151708Z
DTSTART;TZID=Europe/Berlin:20260312T194500
DTEND;TZID=Europe/Berlin:20260312T224500
SUMMARY:HE 5. Liga Gr. 5 Dübendorf-Volketswil IV vs Pinguin Zürich V (0)
UID:ef44b67f-ef11-4d0d-9dda-e65485bdfd9a
STATUS:CONFIRMED
LAST-MODIFIED:20260313T132035Z
DESCRIPTION:5. Liga Herren Gruppe 5\nBegegnungs-Nr: 0\nHeim: Dübendorf-Volketswil IV\nGast: Pinguin Zürich V\n\nAdresse: Wasserfurrenstrasse 7\, 8600 Dübendorf\n
LOCATION:Wasserfurrenstrasse 7\, 8600 Dübendorf
CATEGORIES:Saison 2025/26
END:VEVENT
BEGIN:VEVENT
DTSTAMP:20260424T151708Z
DTSTART;TZID=Europe/Berlin:20250909T200000
DTEND;TZID=Europe/Berlin:20250909T230000
SUMMARY:HE 5. Liga Gr. 5 Meilen-Männedorf V vs Pinguin Zürich V (0)
UID:e6729a08-fbd9-41cf-9730-e5c5599b9f4f
STATUS:CONFIRMED
LAST-MODIFIED:20250911T100107Z
DESCRIPTION:5. Liga Herren Gruppe 5\nBegegnungs-Nr: 0\nHeim: Meilen-Männedorf V\nGast: Pinguin Zürich V\n\nAdresse: Schulhausstr. 27\, 8706 Meilen\n
LOCATION:Schulhausstr. 27\, 8706 Meilen
CATEGORIES:Saison 2025/26
END:VEVENT
BEGIN:VEVENT
DTSTAMP:20260424T151708Z
DTSTART;TZID=Europe/Berlin:20250918T201500
DTEND;TZID=Europe/Berlin:20250918T231500
SUMMARY:HE 5. Liga Gr. 5 Bülach V vs Pinguin Zürich V (0)
UID:f441da80-c518-4d39-abd7-b83dc3766c1c
STATUS:CONFIRMED
LAST-MODIFIED:20250926T132636Z
DESCRIPTION:5. Liga Herren Gruppe 5\nBegegnungs-Nr: 0\nHeim: Bülach V\nGast: Pinguin Zürich V\n\nAdresse: Unterweg 51\, 8180 Bülach\n
LOCATION:Unterweg 51\, 8180 Bülach
CATEGORIES:Saison 2025/26
END:VEVENT
BEGIN:VEVENT
DTSTAMP:20260424T151708Z
DTSTART;TZID=Europe/Berlin:20251106T200000
DTEND;TZID=Europe/Berlin:20251106T230000
SUMMARY:HE 5. Liga Gr. 5 Libera Zürich vs Pinguin Zürich V (0)
UID:d9342779-0f95-414d-be62-825e550a232f
STATUS:CONFIRMED
LAST-MODIFIED:20251114T142403Z
DESCRIPTION:5. Liga Herren Gruppe 5\nBegegnungs-Nr: 0\nHeim: Libera Zürich\nGast: Pinguin Zürich V\n\nAdresse: Sperletweg 71\, 8052 Zürich\n
LOCATION:Sperletweg 71\, 8052 Zürich
CATEGORIES:Saison 2025/26
END:VEVENT
BEGIN:VEVENT
DTSTAMP:20260424T151708Z
DTSTART;TZID=Europe/Berlin:20251201T193000
DTEND;TZID=Europe/Berlin:20251201T223000
SUMMARY:HE 5. Liga Gr. 5 Niederhasli VI vs Pinguin Zürich V (0)
UID:3720eb14-df15-4108-b4b2-389a7d675f16
STATUS:CONFIRMED
LAST-MODIFIED:20251205T130906Z
DESCRIPTION:5. Liga Herren Gruppe 5\nBegegnungs-Nr: 0\nHeim: Niederhasli VI\nGast: Pinguin Zürich V\n\nAdresse: Dorfstrasse 22\, 8155 Niederhasli\n
LOCATION:Dorfstrasse 22\, 8155 Niederhasli
CATEGORIES:Saison 2025/26
END:VEVENT
BEGIN:VEVENT
DTSTAMP:20260424T151708Z
DTSTART;TZID=Europe/Berlin:20260123T200000
DTEND;TZID=Europe/Berlin:20260123T230000
SUMMARY:HE 5. Liga Gr. 5 BW-Wollishofen IV vs Pinguin Zürich V (0)
UID:86afc228-d2a9-4a56-8b4b-596f10543cd7
STATUS:CONFIRMED
LAST-MODIFIED:20260130T101640Z
DESCRIPTION:5. Liga Herren Gruppe 5\nBegegnungs-Nr: 0\nHeim: BW-Wollishofen IV\nGast: Pinguin Zürich V\n\nAdresse: Kilchbergstr. 28\, 8038 Zürich\n
LOCATION:Kilchbergstr. 28\, 8038 Zürich
CATEGORIES:Saison 2025/26
END:VEVENT
BEGIN:VEVENT
DTSTAMP:20260424T151708Z
DTSTART;TZID=Europe/Berlin:20260303T200000
DTEND;TZID=Europe/Berlin:20260303T230000
SUMMARY:HE 5. Liga Gr. 5 Seebach-Kügeliloo II vs Pinguin Zürich V (0)
UID:81ac0f82-bc6b-4bdb-a027-cbccc2230563
STATUS:CONFIRMED
LAST-MODIFIED:20260313T131956Z
DESCRIPTION:5. Liga Herren Gruppe 5\nBegegnungs-Nr: 0\nHeim: Seebach-Kügeliloo II\nGast: Pinguin Zürich V\n\nAdresse: Sperletweg 71\, 8052 Zürich\n
LOCATION:Sperletweg 71\, 8052 Zürich
CATEGORIES:Saison 2025/26
END:VEVENT
END:VCALENDAR
