BEGIN:VCALENDAR
PRODID:-//nuDatenautomaten//framework iCal4j //DE
VERSION:2.0
CALSCALE:GREGORIAN
BEGIN:VTIMEZONE
TZID:Europe/Berlin
LAST-MODIFIED:20260306T231828Z
TZURL:https://www.tzurl.org/zoneinfo/Europe/Berlin
X-LIC-LOCATION:Europe/Berlin
X-PROLEPTIC-TZNAME:LMT
BEGIN:STANDARD
TZNAME:CET
TZOFFSETFROM:+005328
TZOFFSETTO:+0100
DTSTART:18930401T000000
END:STANDARD
BEGIN:DAYLIGHT
TZNAME:CEST
TZOFFSETFROM:+0100
TZOFFSETTO:+0200
DTSTART:19160430T230000
RDATE:19400401T020000
RDATE:19430329T020000
RDATE:19460414T020000
RDATE:19470406T030000
RDATE:19480418T020000
RDATE:19490410T020000
RDATE:19800406T020000
END:DAYLIGHT
BEGIN:STANDARD
TZNAME:CET
TZOFFSETFROM:+0200
TZOFFSETTO:+0100
DTSTART:19161001T010000
RDATE:19421102T030000
RDATE:19431004T030000
RDATE:19441002T030000
RDATE:19451118T030000
RDATE:19461007T030000
END:STANDARD
BEGIN:DAYLIGHT
TZNAME:CEST
TZOFFSETFROM:+0100
TZOFFSETTO:+0200
DTSTART:19170416T020000
RRULE:FREQ=YEARLY;UNTIL=19180415T010000Z;BYMONTH=4;BYDAY=3MO
END:DAYLIGHT
BEGIN:STANDARD
TZNAME:CET
TZOFFSETFROM:+0200
TZOFFSETTO:+0100
DTSTART:19170917T030000
RRULE:FREQ=YEARLY;UNTIL=19180916T010000Z;BYMONTH=9;BYDAY=3MO
END:STANDARD
BEGIN:DAYLIGHT
TZNAME:CEST
TZOFFSETFROM:+0100
TZOFFSETTO:+0200
DTSTART:19440403T020000
RRULE:FREQ=YEARLY;UNTIL=19450402T010000Z;BYMONTH=4;BYDAY=1MO
END:DAYLIGHT
BEGIN:DAYLIGHT
TZNAME:CEMT
TZOFFSETFROM:+0200
TZOFFSETTO:+0300
DTSTART:19450524T020000
RDATE:19470511T030000
END:DAYLIGHT
BEGIN:DAYLIGHT
TZNAME:CEST
TZOFFSETFROM:+0300
TZOFFSETTO:+0200
DTSTART:19450924T030000
RDATE:19470629T030000
END:DAYLIGHT
BEGIN:STANDARD
TZNAME:CET
TZOFFSETFROM:+0100
TZOFFSETTO:+0100
DTSTART:19460101T000000
RDATE:19800101T000000
END:STANDARD
BEGIN:STANDARD
TZNAME:CET
TZOFFSETFROM:+0200
TZOFFSETTO:+0100
DTSTART:19471005T030000
RRULE:FREQ=YEARLY;UNTIL=19491002T010000Z;BYMONTH=10;BYDAY=1SU
END:STANDARD
BEGIN:STANDARD
TZNAME:CET
TZOFFSETFROM:+0200
TZOFFSETTO:+0100
DTSTART:19800928T030000
RRULE:FREQ=YEARLY;UNTIL=19950924T010000Z;BYMONTH=9;BYDAY=-1SU
END:STANDARD
BEGIN:DAYLIGHT
TZNAME:CEST
TZOFFSETFROM:+0100
TZOFFSETTO:+0200
DTSTART:19810329T020000
RRULE:FREQ=YEARLY;BYMONTH=3;BYDAY=-1SU
END:DAYLIGHT
BEGIN:STANDARD
TZNAME:CET
TZOFFSETFROM:+0200
TZOFFSETTO:+0100
DTSTART:19961027T030000
RRULE:FREQ=YEARLY;BYMONTH=10;BYDAY=-1SU
END:STANDARD
END:VTIMEZONE
BEGIN:VEVENT
DTSTAMP:20260424T135916Z
DTSTART;TZID=Europe/Berlin:20260312T201500
DTEND;TZID=Europe/Berlin:20260312T231500
SUMMARY:HE 4. Liga Gr. 3 Schmitten vs Schwarzenburg (21)
UID:19a30ee0-3346-4ed2-a6b1-f95c726d25b0
STATUS:CONFIRMED
LAST-MODIFIED:20260315T230206Z
DESCRIPTION:4. Liga Herren Gruppe 3\nBegegnungs-Nr: 21\nHeim: Schmitten\nGast: Schwarzenburg\n\nAdresse: -\, 3185 Schmitten\n
LOCATION:-\, 3185 Schmitten
CATEGORIES:Saison 2025/26
END:VEVENT
BEGIN:VEVENT
DTSTAMP:20260424T135916Z
DTSTART;TZID=Europe/Berlin:20260224T201500
DTEND;TZID=Europe/Berlin:20260224T231500
SUMMARY:HE 4. Liga Gr. 3 Schmitten vs Wohlensee II (13)
UID:4dd00882-1d6a-48f8-a514-335d3cf8101c
STATUS:CONFIRMED
LAST-MODIFIED:20260302T144704Z
DESCRIPTION:4. Liga Herren Gruppe 3\nBegegnungs-Nr: 13\nHeim: Schmitten\nGast: Wohlensee II\n\nAdresse: -\, 3185 Schmitten\n
LOCATION:-\, 3185 Schmitten
CATEGORIES:Saison 2025/26
END:VEVENT
BEGIN:VEVENT
DTSTAMP:20260424T135916Z
DTSTART;TZID=Europe/Berlin:20260129T201500
DTEND;TZID=Europe/Berlin:20260129T231500
SUMMARY:HE 4. Liga Gr. 3 Schmitten vs Düdingen II (5)
UID:df5ce981-b3d5-4418-935d-1af4896adf3d
STATUS:CONFIRMED
LAST-MODIFIED:20260217T214308Z
DESCRIPTION:4. Liga Herren Gruppe 3\nBegegnungs-Nr: 5\nHeim: Schmitten\nGast: Düdingen II\n\nAdresse: -\, 3185 Schmitten\n
LOCATION:-\, 3185 Schmitten
CATEGORIES:Saison 2025/26
END:VEVENT
BEGIN:VEVENT
DTSTAMP:20260424T135916Z
DTSTART;TZID=Europe/Berlin:20251211T201500
DTEND;TZID=Europe/Berlin:20251211T231500
SUMMARY:HE 4. Liga Gr. 3 Schmitten vs Ostermundigen VI (25)
UID:eccc6eb3-ca4a-405a-bb93-273ed72f13ca
STATUS:CONFIRMED
LAST-MODIFIED:20251216T120617Z
DESCRIPTION:4. Liga Herren Gruppe 3\nBegegnungs-Nr: 25\nHeim: Schmitten\nGast: Ostermundigen VI\n\nAdresse: -\, 3185 Schmitten\n
LOCATION:-\, 3185 Schmitten
CATEGORIES:Saison 2025/26
END:VEVENT
BEGIN:VEVENT
DTSTAMP:20260424T135916Z
DTSTART;TZID=Europe/Berlin:20251113T201500
DTEND;TZID=Europe/Berlin:20251113T231500
SUMMARY:HE 4. Liga Gr. 3 Schmitten vs Bern VI (17)
UID:419b1781-8b69-4814-90f6-9aa32f56e2eb
STATUS:CONFIRMED
LAST-MODIFIED:20251115T174331Z
DESCRIPTION:4. Liga Herren Gruppe 3\nBegegnungs-Nr: 17\nHeim: Schmitten\nGast: Bern VI\n\nAdresse: -\, 3185 Schmitten\n
LOCATION:-\, 3185 Schmitten
CATEGORIES:Saison 2025/26
END:VEVENT
BEGIN:VEVENT
DTSTAMP:20260424T135916Z
DTSTART;TZID=Europe/Berlin:20250828T201500
DTEND;TZID=Europe/Berlin:20250828T231500
SUMMARY:HE 4. Liga Gr. 3 Schmitten vs Ittigen II (1)
UID:ee15c7d2-314d-4549-9cd0-91ef9afa62bb
STATUS:CONFIRMED
LAST-MODIFIED:20250907T195830Z
DESCRIPTION:4. Liga Herren Gruppe 3\nBegegnungs-Nr: 1\nHeim: Schmitten\nGast: Ittigen II\n\nAdresse: -\, 3185 Schmitten\n
LOCATION:-\, 3185 Schmitten
CATEGORIES:Saison 2025/26
END:VEVENT
BEGIN:VEVENT
DTSTAMP:20260424T135916Z
DTSTART;TZID=Europe/Berlin:20251002T201500
DTEND;TZID=Europe/Berlin:20251002T231500
SUMMARY:HE 4. Liga Gr. 3 Schmitten vs Köniz III (9)
UID:4056422c-3745-4b5c-8ef3-120f9590e7ff
STATUS:CONFIRMED
LAST-MODIFIED:20251003T172954Z
DESCRIPTION:4. Liga Herren Gruppe 3\nBegegnungs-Nr: 9\nHeim: Schmitten\nGast: Köniz III\n\nAdresse: -\, 3185 Schmitten\n
LOCATION:-\, 3185 Schmitten
CATEGORIES:Saison 2025/26
END:VEVENT
BEGIN:VEVENT
DTSTAMP:20260424T135916Z
DTSTART;TZID=Europe/Berlin:20250918T200000
DTEND;TZID=Europe/Berlin:20250918T230000
SUMMARY:HE 4. Liga Gr. 3 Düdingen II vs Schmitten (5)
UID:8dd8183c-326c-4f2d-be98-16dfaf68d82e
STATUS:CONFIRMED
LAST-MODIFIED:20250921T150412Z
DESCRIPTION:4. Liga Herren Gruppe 3\nBegegnungs-Nr: 5\nHeim: Düdingen II\nGast: Schmitten\n\nAdresse: Alfons-Aeby-Strasse\, 3186 Düdingen\n
LOCATION:Alfons-Aeby-Strasse\, 3186 Düdingen
CATEGORIES:Saison 2025/26
END:VEVENT
BEGIN:VEVENT
DTSTAMP:20260424T135916Z
DTSTART;TZID=Europe/Berlin:20260331T193000
DTEND;TZID=Europe/Berlin:20260331T223000
SUMMARY:HE 4. Liga Gr. 3 Ostermundigen VI vs Schmitten (25)
UID:f6438191-fe0f-4160-aac4-c6797477f489
STATUS:CONFIRMED
LAST-MODIFIED:20260409T122505Z
DESCRIPTION:4. Liga Herren Gruppe 3\nBegegnungs-Nr: 25\nHeim: Ostermundigen VI\nGast: Schmitten\n\nAdresse: Dennigkofenweg 169\, 3072 Ostermundigen\n
LOCATION:Dennigkofenweg 169\, 3072 Ostermundigen
CATEGORIES:Saison 2025/26
END:VEVENT
BEGIN:VEVENT
DTSTAMP:20260424T135916Z
DTSTART;TZID=Europe/Berlin:20260305T200000
DTEND;TZID=Europe/Berlin:20260305T230000
SUMMARY:HE 4. Liga Gr. 3 Bern VI vs Schmitten (17)
UID:a1c01850-b5ca-42a1-87a8-da84cef57e48
STATUS:CONFIRMED
LAST-MODIFIED:20260308T175108Z
DESCRIPTION:4. Liga Herren Gruppe 3\nBegegnungs-Nr: 17\nHeim: Bern VI\nGast: Schmitten\n\nAdresse: Mädergutstrasse 58\, 3018 Bern\n
LOCATION:Mädergutstrasse 58\, 3018 Bern
CATEGORIES:Saison 2025/26
END:VEVENT
BEGIN:VEVENT
DTSTAMP:20260424T135916Z
DTSTART;TZID=Europe/Berlin:20260112T194500
DTEND;TZID=Europe/Berlin:20260112T224500
SUMMARY:HE 4. Liga Gr. 3 Ittigen II vs Schmitten (1)
UID:a201e867-9928-402f-8481-37800be3e04b
STATUS:CONFIRMED
LAST-MODIFIED:20260125T001726Z
DESCRIPTION:4. Liga Herren Gruppe 3\nBegegnungs-Nr: 1\nHeim: Ittigen II\nGast: Schmitten\n\nAdresse: Fischrainweg 17\, 3048 Worblaufen\n
LOCATION:Fischrainweg 17\, 3048 Worblaufen
CATEGORIES:Saison 2025/26
END:VEVENT
BEGIN:VEVENT
DTSTAMP:20260424T135916Z
DTSTART;TZID=Europe/Berlin:20260206T200000
DTEND;TZID=Europe/Berlin:20260206T230000
SUMMARY:HE 4. Liga Gr. 3 Köniz III vs Schmitten (9)
UID:f7b6ca50-aa4e-4be5-8fb6-29c6b51cad0d
STATUS:CONFIRMED
LAST-MODIFIED:20260217T214750Z
DESCRIPTION:4. Liga Herren Gruppe 3\nBegegnungs-Nr: 9\nHeim: Köniz III\nGast: Schmitten\n\nAdresse: Kirchstrasse 72-76\, 3084 Wabern\n
LOCATION:Kirchstrasse 72-76\, 3084 Wabern
CATEGORIES:Saison 2025/26
END:VEVENT
BEGIN:VEVENT
DTSTAMP:20260424T135916Z
DTSTART;TZID=Europe/Berlin:20251124T201500
DTEND;TZID=Europe/Berlin:20251124T231500
SUMMARY:HE 4. Liga Gr. 3 Schwarzenburg vs Schmitten (21)
UID:bc2c15ed-32ab-4a53-9811-45c8d0748e7b
STATUS:CONFIRMED
LAST-MODIFIED:20251207T172918Z
DESCRIPTION:4. Liga Herren Gruppe 3\nBegegnungs-Nr: 21\nHeim: Schwarzenburg\nGast: Schmitten\n\nAdresse: Einschlag 21\, 3150 Schwarzenburg\n
LOCATION:Einschlag 21\, 3150 Schwarzenburg
CATEGORIES:Saison 2025/26
END:VEVENT
BEGIN:VEVENT
DTSTAMP:20260424T135916Z
DTSTART;TZID=Europe/Berlin:20251105T194500
DTEND;TZID=Europe/Berlin:20251105T224500
SUMMARY:HE 4. Liga Gr. 3 Wohlensee II vs Schmitten (13)
UID:a4ead9fd-bbb0-4722-b8cd-a463c41cb813
STATUS:CONFIRMED
LAST-MODIFIED:20251115T174220Z
DESCRIPTION:4. Liga Herren Gruppe 3\nBegegnungs-Nr: 13\nHeim: Wohlensee II\nGast: Schmitten\n\nAdresse: Kappelenring 36 a\, 3032 Hinterkappelen\n
LOCATION:Kappelenring 36 a\, 3032 Hinterkappelen
CATEGORIES:Saison 2025/26
END:VEVENT
END:VCALENDAR
