BEGIN:VCALENDAR
PRODID:-//nuDatenautomaten//framework iCal4j //DE
VERSION:2.0
CALSCALE:GREGORIAN
BEGIN:VTIMEZONE
TZID:Europe/Berlin
LAST-MODIFIED:20260306T231828Z
TZURL:https://www.tzurl.org/zoneinfo/Europe/Berlin
X-LIC-LOCATION:Europe/Berlin
X-PROLEPTIC-TZNAME:LMT
BEGIN:STANDARD
TZNAME:CET
TZOFFSETFROM:+005328
TZOFFSETTO:+0100
DTSTART:18930401T000000
END:STANDARD
BEGIN:DAYLIGHT
TZNAME:CEST
TZOFFSETFROM:+0100
TZOFFSETTO:+0200
DTSTART:19160430T230000
RDATE:19400401T020000
RDATE:19430329T020000
RDATE:19460414T020000
RDATE:19470406T030000
RDATE:19480418T020000
RDATE:19490410T020000
RDATE:19800406T020000
END:DAYLIGHT
BEGIN:STANDARD
TZNAME:CET
TZOFFSETFROM:+0200
TZOFFSETTO:+0100
DTSTART:19161001T010000
RDATE:19421102T030000
RDATE:19431004T030000
RDATE:19441002T030000
RDATE:19451118T030000
RDATE:19461007T030000
END:STANDARD
BEGIN:DAYLIGHT
TZNAME:CEST
TZOFFSETFROM:+0100
TZOFFSETTO:+0200
DTSTART:19170416T020000
RRULE:FREQ=YEARLY;UNTIL=19180415T010000Z;BYMONTH=4;BYDAY=3MO
END:DAYLIGHT
BEGIN:STANDARD
TZNAME:CET
TZOFFSETFROM:+0200
TZOFFSETTO:+0100
DTSTART:19170917T030000
RRULE:FREQ=YEARLY;UNTIL=19180916T010000Z;BYMONTH=9;BYDAY=3MO
END:STANDARD
BEGIN:DAYLIGHT
TZNAME:CEST
TZOFFSETFROM:+0100
TZOFFSETTO:+0200
DTSTART:19440403T020000
RRULE:FREQ=YEARLY;UNTIL=19450402T010000Z;BYMONTH=4;BYDAY=1MO
END:DAYLIGHT
BEGIN:DAYLIGHT
TZNAME:CEMT
TZOFFSETFROM:+0200
TZOFFSETTO:+0300
DTSTART:19450524T020000
RDATE:19470511T030000
END:DAYLIGHT
BEGIN:DAYLIGHT
TZNAME:CEST
TZOFFSETFROM:+0300
TZOFFSETTO:+0200
DTSTART:19450924T030000
RDATE:19470629T030000
END:DAYLIGHT
BEGIN:STANDARD
TZNAME:CET
TZOFFSETFROM:+0100
TZOFFSETTO:+0100
DTSTART:19460101T000000
RDATE:19800101T000000
END:STANDARD
BEGIN:STANDARD
TZNAME:CET
TZOFFSETFROM:+0200
TZOFFSETTO:+0100
DTSTART:19471005T030000
RRULE:FREQ=YEARLY;UNTIL=19491002T010000Z;BYMONTH=10;BYDAY=1SU
END:STANDARD
BEGIN:STANDARD
TZNAME:CET
TZOFFSETFROM:+0200
TZOFFSETTO:+0100
DTSTART:19800928T030000
RRULE:FREQ=YEARLY;UNTIL=19950924T010000Z;BYMONTH=9;BYDAY=-1SU
END:STANDARD
BEGIN:DAYLIGHT
TZNAME:CEST
TZOFFSETFROM:+0100
TZOFFSETTO:+0200
DTSTART:19810329T020000
RRULE:FREQ=YEARLY;BYMONTH=3;BYDAY=-1SU
END:DAYLIGHT
BEGIN:STANDARD
TZNAME:CET
TZOFFSETFROM:+0200
TZOFFSETTO:+0100
DTSTART:19961027T030000
RRULE:FREQ=YEARLY;BYMONTH=10;BYDAY=-1SU
END:STANDARD
END:VTIMEZONE
BEGIN:VEVENT
DTSTAMP:20260424T135222Z
DTSTART;TZID=Europe/Berlin:20251217T200000
DTEND;TZID=Europe/Berlin:20251217T230000
SUMMARY:HE 1. Liga Olten vs Rio-Star Muttenz III (null)
UID:60605a40-c4a8-49d3-b010-a8fc0c3a842b
STATUS:CONFIRMED
LAST-MODIFIED:20251218T122552Z
DESCRIPTION:1. Liga Herren Gruppe 1\nBegegnungs-Nr: null\nHeim: Olten\nGast: Rio-Star Muttenz III\n\nAdresse: Stockackerstrasse 17\, 5013 Niedergösgen\n
LOCATION:Stockackerstrasse 17\, 5013 Niedergösgen
CATEGORIES:Saison 2025/26
END:VEVENT
BEGIN:VEVENT
DTSTAMP:20260424T135222Z
DTSTART;TZID=Europe/Berlin:20260211T200000
DTEND;TZID=Europe/Berlin:20260211T230000
SUMMARY:HE 1. Liga Olten vs Baden-Wettingen (null)
UID:db3fef8c-7098-4c78-a7f2-627d48f80d0e
STATUS:CONFIRMED
LAST-MODIFIED:20260218T070911Z
DESCRIPTION:1. Liga Herren Gruppe 1\nBegegnungs-Nr: null\nHeim: Olten\nGast: Baden-Wettingen\n\nAdresse: Stockackerstrasse 17\, 5013 Niedergösgen\n
LOCATION:Stockackerstrasse 17\, 5013 Niedergösgen
CATEGORIES:Saison 2025/26
END:VEVENT
BEGIN:VEVENT
DTSTAMP:20260424T135222Z
DTSTART;TZID=Europe/Berlin:20260311T200000
DTEND;TZID=Europe/Berlin:20260311T230000
SUMMARY:HE 1. Liga Olten vs Bremgarten II (null)
UID:6350ce26-1ac5-451c-b3cf-879594ffd4e9
STATUS:CONFIRMED
LAST-MODIFIED:20260313T124800Z
DESCRIPTION:1. Liga Herren Gruppe 1\nBegegnungs-Nr: null\nHeim: Olten\nGast: Bremgarten II\n\nAdresse: Stockackerstrasse 17\, 5013 Niedergösgen\n
LOCATION:Stockackerstrasse 17\, 5013 Niedergösgen
CATEGORIES:Saison 2025/26
END:VEVENT
BEGIN:VEVENT
DTSTAMP:20260424T135222Z
DTSTART;TZID=Europe/Berlin:20250903T200000
DTEND;TZID=Europe/Berlin:20250903T230000
SUMMARY:HE 1. Liga Olten vs Aesch (null)
UID:31e511aa-a136-4c16-b733-0adfd79b68a6
STATUS:CONFIRMED
LAST-MODIFIED:20250905T120713Z
DESCRIPTION:1. Liga Herren Gruppe 1\nBegegnungs-Nr: null\nHeim: Olten\nGast: Aesch\n\nAdresse: Stockackerstrasse 17\, 5013 Niedergösgen\n
LOCATION:Stockackerstrasse 17\, 5013 Niedergösgen
CATEGORIES:Saison 2025/26
END:VEVENT
BEGIN:VEVENT
DTSTAMP:20260424T135222Z
DTSTART;TZID=Europe/Berlin:20250924T200000
DTEND;TZID=Europe/Berlin:20250924T230000
SUMMARY:HE 1. Liga Olten vs Schöftland II (null)
UID:77c18df6-d11e-4f09-b537-f694166a42a2
STATUS:CONFIRMED
LAST-MODIFIED:20250926T122941Z
DESCRIPTION:1. Liga Herren Gruppe 1\nBegegnungs-Nr: null\nHeim: Olten\nGast: Schöftland II\n\nAdresse: Stockackerstrasse 17\, 5013 Niedergösgen\n
LOCATION:Stockackerstrasse 17\, 5013 Niedergösgen
CATEGORIES:Saison 2025/26
END:VEVENT
BEGIN:VEVENT
DTSTAMP:20260424T135222Z
DTSTART;TZID=Europe/Berlin:20251103T194500
DTEND;TZID=Europe/Berlin:20251103T224500
SUMMARY:HE 1. Liga Olten vs Oberwil (null)
UID:3075688b-a5de-4e90-9067-2983d8295b85
STATUS:CONFIRMED
LAST-MODIFIED:20251104T122945Z
DESCRIPTION:1. Liga Herren Gruppe 1\nBegegnungs-Nr: null\nHeim: Olten\nGast: Oberwil\n\nAdresse: Lostorferstrasse 16\, 4652 Winznau\n
LOCATION:Lostorferstrasse 16\, 4652 Winznau
CATEGORIES:Saison 2025/26
END:VEVENT
BEGIN:VEVENT
DTSTAMP:20260424T135222Z
DTSTART;TZID=Europe/Berlin:20251126T200000
DTEND;TZID=Europe/Berlin:20251126T230000
SUMMARY:HE 1. Liga Olten vs Döttingen (null)
UID:063f06d8-5637-4384-8918-dd3cb508adb3
STATUS:CONFIRMED
LAST-MODIFIED:20251127T135305Z
DESCRIPTION:1. Liga Herren Gruppe 1\nBegegnungs-Nr: null\nHeim: Olten\nGast: Döttingen\n\nAdresse: Stockackerstrasse 17\, 5013 Niedergösgen\n
LOCATION:Stockackerstrasse 17\, 5013 Niedergösgen
CATEGORIES:Saison 2025/26
END:VEVENT
BEGIN:VEVENT
DTSTAMP:20260424T135222Z
DTSTART;TZID=Europe/Berlin:20260122T193000
DTEND;TZID=Europe/Berlin:20260122T223000
SUMMARY:HE 1. Liga Aesch vs Olten (null)
UID:a0a38faa-1dc1-4abc-a8f2-5af5daf1c2d0
STATUS:CONFIRMED
LAST-MODIFIED:20260123T080803Z
DESCRIPTION:1. Liga Herren Gruppe 1\nBegegnungs-Nr: null\nHeim: Aesch\nGast: Olten\n\nAdresse: Dornacherstrasse\, 4147 Aesch\n
LOCATION:Dornacherstrasse\, 4147 Aesch
CATEGORIES:Saison 2025/26
END:VEVENT
BEGIN:VEVENT
DTSTAMP:20260424T135222Z
DTSTART;TZID=Europe/Berlin:20260316T200000
DTEND;TZID=Europe/Berlin:20260316T230000
SUMMARY:HE 1. Liga Schöftland II vs Olten (null)
UID:233e2e6d-eb67-46d0-bb4d-a632f7cd1f9a
STATUS:CONFIRMED
LAST-MODIFIED:20260318T105659Z
DESCRIPTION:1. Liga Herren Gruppe 1\nBegegnungs-Nr: null\nHeim: Schöftland II\nGast: Olten\n\nAdresse: Birkenweg\, 5040 Schöftland\n
LOCATION:Birkenweg\, 5040 Schöftland
CATEGORIES:Saison 2025/26
END:VEVENT
BEGIN:VEVENT
DTSTAMP:20260424T135222Z
DTSTART;TZID=Europe/Berlin:20260319T200000
DTEND;TZID=Europe/Berlin:20260319T230000
SUMMARY:HE 1. Liga Oberwil vs Olten (null)
UID:ba6da431-6e82-49b8-b325-3d6608fdf7d7
STATUS:CONFIRMED
LAST-MODIFIED:20260320T140315Z
DESCRIPTION:1. Liga Herren Gruppe 1\nBegegnungs-Nr: null\nHeim: Oberwil\nGast: Olten\n\nAdresse: Schulstrasse\, 4104 Oberwil\n
LOCATION:Schulstrasse\, 4104 Oberwil
CATEGORIES:Saison 2025/26
END:VEVENT
BEGIN:VEVENT
DTSTAMP:20260424T135222Z
DTSTART;TZID=Europe/Berlin:20260325T201500
DTEND;TZID=Europe/Berlin:20260325T231500
SUMMARY:HE 1. Liga Döttingen vs Olten (null)
UID:3a517318-6305-413e-b04c-d97bc1744061
STATUS:CONFIRMED
LAST-MODIFIED:20260416T092442Z
DESCRIPTION:1. Liga Herren Gruppe 1\nBegegnungs-Nr: null\nHeim: Döttingen\nGast: Olten\n\nAdresse: Im Bogen\, Chilbert 25\, 5312 Döttingen\n
LOCATION:Im Bogen\, Chilbert 25\, 5312 Döttingen
CATEGORIES:Saison 2025/26
END:VEVENT
BEGIN:VEVENT
DTSTAMP:20260424T135222Z
DTSTART;TZID=Europe/Berlin:20250822T193000
DTEND;TZID=Europe/Berlin:20250822T223000
SUMMARY:HE 1. Liga Rio-Star Muttenz III vs Olten (null)
UID:f5420221-80ed-4957-aa47-8666eeef7770
STATUS:CONFIRMED
LAST-MODIFIED:20250825T064759Z
DESCRIPTION:1. Liga Herren Gruppe 1\nBegegnungs-Nr: null\nHeim: Rio-Star Muttenz III\nGast: Olten\n\nAdresse: Gründenstrasse 32\, 4132 Muttenz\n
LOCATION:Gründenstrasse 32\, 4132 Muttenz
CATEGORIES:Saison 2025/26
END:VEVENT
BEGIN:VEVENT
DTSTAMP:20260424T135222Z
DTSTART;TZID=Europe/Berlin:20250915T194500
DTEND;TZID=Europe/Berlin:20250915T224500
SUMMARY:HE 1. Liga Baden-Wettingen vs Olten (null)
UID:9a8d20b7-fb73-4b2b-9563-ac4e5621f683
STATUS:CONFIRMED
LAST-MODIFIED:20250918T094600Z
DESCRIPTION:1. Liga Herren Gruppe 1\nBegegnungs-Nr: null\nHeim: Baden-Wettingen\nGast: Olten\n\nAdresse: Wiesenstrasse 32 (Parkhaus Schmiede Fabrikstrasse)\, 5400 Baden\n
LOCATION:Wiesenstrasse 32 (Parkhaus Schmiede Fabrikstrasse)\, 5400 Baden
CATEGORIES:Saison 2025/26
END:VEVENT
BEGIN:VEVENT
DTSTAMP:20260424T135222Z
DTSTART;TZID=Europe/Berlin:20251121T201500
DTEND;TZID=Europe/Berlin:20251121T231500
SUMMARY:HE 1. Liga Bremgarten II vs Olten (null)
UID:7d6f6e10-ca98-4d4c-ae85-83a018685074
STATUS:CONFIRMED
LAST-MODIFIED:20251124T082542Z
DESCRIPTION:1. Liga Herren Gruppe 1\nBegegnungs-Nr: null\nHeim: Bremgarten II\nGast: Olten\n\nAdresse: Badstrasse 3\, 5620 Bremgarten\n
LOCATION:Badstrasse 3\, 5620 Bremgarten
CATEGORIES:Saison 2025/26
END:VEVENT
END:VCALENDAR
