BEGIN:VCALENDAR
PRODID:-//nuDatenautomaten//framework iCal4j //DE
VERSION:2.0
CALSCALE:GREGORIAN
BEGIN:VTIMEZONE
TZID:Europe/Berlin
LAST-MODIFIED:20260306T231828Z
TZURL:https://www.tzurl.org/zoneinfo/Europe/Berlin
X-LIC-LOCATION:Europe/Berlin
X-PROLEPTIC-TZNAME:LMT
BEGIN:STANDARD
TZNAME:CET
TZOFFSETFROM:+005328
TZOFFSETTO:+0100
DTSTART:18930401T000000
END:STANDARD
BEGIN:DAYLIGHT
TZNAME:CEST
TZOFFSETFROM:+0100
TZOFFSETTO:+0200
DTSTART:19160430T230000
RDATE:19400401T020000
RDATE:19430329T020000
RDATE:19460414T020000
RDATE:19470406T030000
RDATE:19480418T020000
RDATE:19490410T020000
RDATE:19800406T020000
END:DAYLIGHT
BEGIN:STANDARD
TZNAME:CET
TZOFFSETFROM:+0200
TZOFFSETTO:+0100
DTSTART:19161001T010000
RDATE:19421102T030000
RDATE:19431004T030000
RDATE:19441002T030000
RDATE:19451118T030000
RDATE:19461007T030000
END:STANDARD
BEGIN:DAYLIGHT
TZNAME:CEST
TZOFFSETFROM:+0100
TZOFFSETTO:+0200
DTSTART:19170416T020000
RRULE:FREQ=YEARLY;UNTIL=19180415T010000Z;BYMONTH=4;BYDAY=3MO
END:DAYLIGHT
BEGIN:STANDARD
TZNAME:CET
TZOFFSETFROM:+0200
TZOFFSETTO:+0100
DTSTART:19170917T030000
RRULE:FREQ=YEARLY;UNTIL=19180916T010000Z;BYMONTH=9;BYDAY=3MO
END:STANDARD
BEGIN:DAYLIGHT
TZNAME:CEST
TZOFFSETFROM:+0100
TZOFFSETTO:+0200
DTSTART:19440403T020000
RRULE:FREQ=YEARLY;UNTIL=19450402T010000Z;BYMONTH=4;BYDAY=1MO
END:DAYLIGHT
BEGIN:DAYLIGHT
TZNAME:CEMT
TZOFFSETFROM:+0200
TZOFFSETTO:+0300
DTSTART:19450524T020000
RDATE:19470511T030000
END:DAYLIGHT
BEGIN:DAYLIGHT
TZNAME:CEST
TZOFFSETFROM:+0300
TZOFFSETTO:+0200
DTSTART:19450924T030000
RDATE:19470629T030000
END:DAYLIGHT
BEGIN:STANDARD
TZNAME:CET
TZOFFSETFROM:+0100
TZOFFSETTO:+0100
DTSTART:19460101T000000
RDATE:19800101T000000
END:STANDARD
BEGIN:STANDARD
TZNAME:CET
TZOFFSETFROM:+0200
TZOFFSETTO:+0100
DTSTART:19471005T030000
RRULE:FREQ=YEARLY;UNTIL=19491002T010000Z;BYMONTH=10;BYDAY=1SU
END:STANDARD
BEGIN:STANDARD
TZNAME:CET
TZOFFSETFROM:+0200
TZOFFSETTO:+0100
DTSTART:19800928T030000
RRULE:FREQ=YEARLY;UNTIL=19950924T010000Z;BYMONTH=9;BYDAY=-1SU
END:STANDARD
BEGIN:DAYLIGHT
TZNAME:CEST
TZOFFSETFROM:+0100
TZOFFSETTO:+0200
DTSTART:19810329T020000
RRULE:FREQ=YEARLY;BYMONTH=3;BYDAY=-1SU
END:DAYLIGHT
BEGIN:STANDARD
TZNAME:CET
TZOFFSETFROM:+0200
TZOFFSETTO:+0100
DTSTART:19961027T030000
RRULE:FREQ=YEARLY;BYMONTH=10;BYDAY=-1SU
END:STANDARD
END:VTIMEZONE
BEGIN:VEVENT
DTSTAMP:20260424T083906Z
DTSTART;TZID=Europe/Berlin:20251115T160000
DTEND;TZID=Europe/Berlin:20251115T190000
SUMMARY:JUG\, 3.Li\, Gr.1\, ZR Bülach II vs Zürich-Affoltern III (5)
UID:c34151a2-7513-476d-932f-77f08d9d94bf
STATUS:CONFIRMED
LAST-MODIFIED:20251121T095940Z
DESCRIPTION:Jugend\, 3. Liga\, Gruppe 1\, Zwischenrunde\nBegegnungs-Nr: 5\nHeim: Bülach II\nGast: Zürich-Affoltern III\n\nAdresse: Schwerzgruebstrasse 28\, 8180 Bülach\n
LOCATION:Schwerzgruebstrasse 28\, 8180 Bülach
CATEGORIES:Saison 2025/26
END:VEVENT
BEGIN:VEVENT
DTSTAMP:20260424T083906Z
DTSTART;TZID=Europe/Berlin:20251115T130000
DTEND;TZID=Europe/Berlin:20251115T160000
SUMMARY:JUG\, 3.Li\, Gr.1\, ZR Bülach II vs Meilen-Männedorf III (2)
UID:52134396-5c30-430f-8b1d-f6a03ba99c32
STATUS:CONFIRMED
LAST-MODIFIED:20251121T095914Z
DESCRIPTION:Jugend\, 3. Liga\, Gruppe 1\, Zwischenrunde\nBegegnungs-Nr: 2\nHeim: Bülach II\nGast: Meilen-Männedorf III\n\nAdresse: Schwerzgruebstrasse 28\, 8180 Bülach\n
LOCATION:Schwerzgruebstrasse 28\, 8180 Bülach
CATEGORIES:Saison 2025/26
END:VEVENT
BEGIN:VEVENT
DTSTAMP:20260424T083906Z
DTSTART;TZID=Europe/Berlin:20250830T143000
DTEND;TZID=Europe/Berlin:20250830T173000
SUMMARY:JUG\, 3.Li\, Gr.1\, VR Bülach II vs Zürich-Affoltern V (3)
UID:67ca70b6-fa04-46dc-bdf9-a3fa883b7625
STATUS:CONFIRMED
LAST-MODIFIED:20250902T124301Z
DESCRIPTION:Jugend\, 3. Liga\, Gruppe 1\, Vorrunde\nBegegnungs-Nr: 3\nHeim: Bülach II\nGast: Zürich-Affoltern V\n\nAdresse: Schwerzgruebstrasse 28\, 8180 Bülach\n
LOCATION:Schwerzgruebstrasse 28\, 8180 Bülach
CATEGORIES:Saison 2025/26
END:VEVENT
BEGIN:VEVENT
DTSTAMP:20260424T083906Z
DTSTART;TZID=Europe/Berlin:20260328T143000
DTEND;TZID=Europe/Berlin:20260328T173000
SUMMARY:JUG\, 3.Li\, Gr.1\, Final Bülach II vs Young Stars ZH III (3)
UID:b1921e35-1f68-4a26-9be6-915572201a41
STATUS:CONFIRMED
LAST-MODIFIED:20260328T163714Z
DESCRIPTION:Jugend\, 3. Liga\, Gruppe 1\, Final\nBegegnungs-Nr: 3\nHeim: Bülach II\nGast: Young Stars ZH III\n\nAdresse: Schwerzgruebstrasse 28\, 8180 Bülach\n
LOCATION:Schwerzgruebstrasse 28\, 8180 Bülach
CATEGORIES:Saison 2025/26
END:VEVENT
BEGIN:VEVENT
DTSTAMP:20260424T083906Z
DTSTART;TZID=Europe/Berlin:20250830T130000
DTEND;TZID=Europe/Berlin:20250830T160000
SUMMARY:JUG\, 3.Li\, Gr.1\, VR Affoltern A/A III vs Bülach II (1)
UID:8a681535-7650-40d1-9f49-27f425b02373
STATUS:CONFIRMED
LAST-MODIFIED:20250902T124213Z
DESCRIPTION:Jugend\, 3. Liga\, Gruppe 1\, Vorrunde\nBegegnungs-Nr: 1\nHeim: Affoltern A/A III\nGast: Bülach II\nHalle: Poule in Affoltern a.A.\, Unteres Butzen\nAdresse: Butzenstrasse 8\, 8910 Affoltern am Albis\n
LOCATION:Poule in Affoltern a.A.\, Unteres Butzen Butzenstrasse 8\, 8910 Affoltern am Albis
CATEGORIES:Saison 2025/26
END:VEVENT
BEGIN:VEVENT
DTSTAMP:20260424T083906Z
DTSTART;TZID=Europe/Berlin:20250830T160000
DTEND;TZID=Europe/Berlin:20250830T190000
SUMMARY:JUG\, 3.Li\, Gr.1\, VR Zürich vs Bülach II (5)
UID:2953abec-4362-4dab-8977-425171a9e1b7
STATUS:CONFIRMED
LAST-MODIFIED:20250902T124326Z
DESCRIPTION:Jugend\, 3. Liga\, Gruppe 1\, Vorrunde\nBegegnungs-Nr: 5\nHeim: Zürich\nGast: Bülach II\n\nAdresse: Wehntalerstrasse 283\, 8046 Zürich\n
LOCATION:Wehntalerstrasse 283\, 8046 Zürich
CATEGORIES:Saison 2025/26
END:VEVENT
BEGIN:VEVENT
DTSTAMP:20260424T083906Z
DTSTART;TZID=Europe/Berlin:20251115T143000
DTEND;TZID=Europe/Berlin:20251115T173000
SUMMARY:JUG\, 3.Li\, Gr.1\, ZR Winterthur II vs Bülach II (4)
UID:f1f50a18-8071-4d3a-b98e-3a23dad61aba
STATUS:CONFIRMED
LAST-MODIFIED:20251121T095931Z
DESCRIPTION:Jugend\, 3. Liga\, Gruppe 1\, Zwischenrunde\nBegegnungs-Nr: 4\nHeim: Winterthur II\nGast: Bülach II\n\nAdresse: Buchackerstrasse 54\, 8400 Winterthur\n
LOCATION:Buchackerstrasse 54\, 8400 Winterthur
CATEGORIES:Saison 2025/26
END:VEVENT
BEGIN:VEVENT
DTSTAMP:20260424T083906Z
DTSTART;TZID=Europe/Berlin:20260328T160000
DTEND;TZID=Europe/Berlin:20260328T190000
SUMMARY:JUG\, 3.Li\, Gr.1\, Final Wädenswil II vs Bülach II (5)
UID:9341aa41-3294-499d-8991-2260d3b9b528
STATUS:CONFIRMED
LAST-MODIFIED:20260401T135707Z
DESCRIPTION:Jugend\, 3. Liga\, Gruppe 1\, Final\nBegegnungs-Nr: 5\nHeim: Wädenswil II\nGast: Bülach II\n\nAdresse: Fuhrstrasse 16b\, 8820 Wädenswil\n
LOCATION:Fuhrstrasse 16b\, 8820 Wädenswil
CATEGORIES:Saison 2025/26
END:VEVENT
BEGIN:VEVENT
DTSTAMP:20260424T083906Z
DTSTART;TZID=Europe/Berlin:20260328T130000
DTEND;TZID=Europe/Berlin:20260328T160000
SUMMARY:JUG\, 3.Li\, Gr.1\, Final Romanshorn vs Bülach II (1)
UID:3f2247d0-72a6-4afe-83b4-d1510a6825fa
STATUS:CONFIRMED
LAST-MODIFIED:20260401T135636Z
DESCRIPTION:Jugend\, 3. Liga\, Gruppe 1\, Final\nBegegnungs-Nr: 1\nHeim: Romanshorn\nGast: Bülach II\nHalle: Poule in Romanshorn\, Pestalozzi TH\nAdresse: Florastrasse\, 8590 Romanshorn\n
LOCATION:Poule in Romanshorn\, Pestalozzi TH Florastrasse\, 8590 Romanshorn
CATEGORIES:Saison 2025/26
END:VEVENT
END:VCALENDAR
