BEGIN:VCALENDAR
PRODID:-//nuDatenautomaten//framework iCal4j //DE
VERSION:2.0
CALSCALE:GREGORIAN
BEGIN:VTIMEZONE
TZID:Europe/Berlin
LAST-MODIFIED:20260306T231828Z
TZURL:https://www.tzurl.org/zoneinfo/Europe/Berlin
X-LIC-LOCATION:Europe/Berlin
X-PROLEPTIC-TZNAME:LMT
BEGIN:STANDARD
TZNAME:CET
TZOFFSETFROM:+005328
TZOFFSETTO:+0100
DTSTART:18930401T000000
END:STANDARD
BEGIN:DAYLIGHT
TZNAME:CEST
TZOFFSETFROM:+0100
TZOFFSETTO:+0200
DTSTART:19160430T230000
RDATE:19400401T020000
RDATE:19430329T020000
RDATE:19460414T020000
RDATE:19470406T030000
RDATE:19480418T020000
RDATE:19490410T020000
RDATE:19800406T020000
END:DAYLIGHT
BEGIN:STANDARD
TZNAME:CET
TZOFFSETFROM:+0200
TZOFFSETTO:+0100
DTSTART:19161001T010000
RDATE:19421102T030000
RDATE:19431004T030000
RDATE:19441002T030000
RDATE:19451118T030000
RDATE:19461007T030000
END:STANDARD
BEGIN:DAYLIGHT
TZNAME:CEST
TZOFFSETFROM:+0100
TZOFFSETTO:+0200
DTSTART:19170416T020000
RRULE:FREQ=YEARLY;UNTIL=19180415T010000Z;BYMONTH=4;BYDAY=3MO
END:DAYLIGHT
BEGIN:STANDARD
TZNAME:CET
TZOFFSETFROM:+0200
TZOFFSETTO:+0100
DTSTART:19170917T030000
RRULE:FREQ=YEARLY;UNTIL=19180916T010000Z;BYMONTH=9;BYDAY=3MO
END:STANDARD
BEGIN:DAYLIGHT
TZNAME:CEST
TZOFFSETFROM:+0100
TZOFFSETTO:+0200
DTSTART:19440403T020000
RRULE:FREQ=YEARLY;UNTIL=19450402T010000Z;BYMONTH=4;BYDAY=1MO
END:DAYLIGHT
BEGIN:DAYLIGHT
TZNAME:CEMT
TZOFFSETFROM:+0200
TZOFFSETTO:+0300
DTSTART:19450524T020000
RDATE:19470511T030000
END:DAYLIGHT
BEGIN:DAYLIGHT
TZNAME:CEST
TZOFFSETFROM:+0300
TZOFFSETTO:+0200
DTSTART:19450924T030000
RDATE:19470629T030000
END:DAYLIGHT
BEGIN:STANDARD
TZNAME:CET
TZOFFSETFROM:+0100
TZOFFSETTO:+0100
DTSTART:19460101T000000
RDATE:19800101T000000
END:STANDARD
BEGIN:STANDARD
TZNAME:CET
TZOFFSETFROM:+0200
TZOFFSETTO:+0100
DTSTART:19471005T030000
RRULE:FREQ=YEARLY;UNTIL=19491002T010000Z;BYMONTH=10;BYDAY=1SU
END:STANDARD
BEGIN:STANDARD
TZNAME:CET
TZOFFSETFROM:+0200
TZOFFSETTO:+0100
DTSTART:19800928T030000
RRULE:FREQ=YEARLY;UNTIL=19950924T010000Z;BYMONTH=9;BYDAY=-1SU
END:STANDARD
BEGIN:DAYLIGHT
TZNAME:CEST
TZOFFSETFROM:+0100
TZOFFSETTO:+0200
DTSTART:19810329T020000
RRULE:FREQ=YEARLY;BYMONTH=3;BYDAY=-1SU
END:DAYLIGHT
BEGIN:STANDARD
TZNAME:CET
TZOFFSETFROM:+0200
TZOFFSETTO:+0100
DTSTART:19961027T030000
RRULE:FREQ=YEARLY;BYMONTH=10;BYDAY=-1SU
END:STANDARD
END:VTIMEZONE
BEGIN:VEVENT
DTSTAMP:20260424T044524Z
DTSTART;TZID=Europe/Berlin:20260220T200000
DTEND;TZID=Europe/Berlin:20260220T230000
SUMMARY:O40 1. Liga Solothurn vs Aarberg (19)
UID:f2f4cffd-a360-4e6d-8eb7-5b90a85d0ce8
STATUS:CONFIRMED
LAST-MODIFIED:20260224T075612Z
DESCRIPTION:1. Liga O40\nBegegnungs-Nr: 19\nHeim: Solothurn\nGast: Aarberg\n\nAdresse: Untere Sternengasse 24\, 4500 Solothurn\n
LOCATION:Untere Sternengasse 24\, 4500 Solothurn
CATEGORIES:Saison 2025/26
END:VEVENT
BEGIN:VEVENT
DTSTAMP:20260424T044524Z
DTSTART;TZID=Europe/Berlin:20260204T194500
DTEND;TZID=Europe/Berlin:20260204T224500
SUMMARY:O40 1. Liga Solothurn vs Heimberg (10)
UID:e77db422-a9c6-4b71-b652-5724022b1585
STATUS:CONFIRMED
LAST-MODIFIED:20260217T214537Z
DESCRIPTION:1. Liga O40\nBegegnungs-Nr: 10\nHeim: Solothurn\nGast: Heimberg\n\nAdresse: Untere Sternengasse 24\, 4500 Solothurn\n
LOCATION:Untere Sternengasse 24\, 4500 Solothurn
CATEGORIES:Saison 2025/26
END:VEVENT
BEGIN:VEVENT
DTSTAMP:20260424T044524Z
DTSTART;TZID=Europe/Berlin:20260114T194500
DTEND;TZID=Europe/Berlin:20260114T224500
SUMMARY:O40 1. Liga Solothurn vs Port (4)
UID:32d30602-5a9a-4474-8dbd-d901e518a2d7
STATUS:CONFIRMED
LAST-MODIFIED:20260125T002752Z
DESCRIPTION:1. Liga O40\nBegegnungs-Nr: 4\nHeim: Solothurn\nGast: Port\n\nAdresse: Untere Sternengasse 24\, 4500 Solothurn\n
LOCATION:Untere Sternengasse 24\, 4500 Solothurn
CATEGORIES:Saison 2025/26
END:VEVENT
BEGIN:VEVENT
DTSTAMP:20260424T044524Z
DTSTART;TZID=Europe/Berlin:20250924T194500
DTEND;TZID=Europe/Berlin:20250924T224500
SUMMARY:O40 1. Liga Solothurn vs Bern (5)
UID:13ae3c8b-665d-4e28-ab48-5c1381b5a20f
STATUS:CONFIRMED
LAST-MODIFIED:20251003T172757Z
DESCRIPTION:1. Liga O40\nBegegnungs-Nr: 5\nHeim: Solothurn\nGast: Bern\n\nAdresse: Untere Sternengasse 24\, 4500 Solothurn\n
LOCATION:Untere Sternengasse 24\, 4500 Solothurn
CATEGORIES:Saison 2025/26
END:VEVENT
BEGIN:VEVENT
DTSTAMP:20260424T044524Z
DTSTART;TZID=Europe/Berlin:20251212T200000
DTEND;TZID=Europe/Berlin:20251212T230000
SUMMARY:O40 1. Liga Solothurn vs Köniz (28)
UID:0436b23f-a54f-4128-ab43-b72a3578f6ae
STATUS:CONFIRMED
LAST-MODIFIED:20251216T121011Z
DESCRIPTION:1. Liga O40\nBegegnungs-Nr: 28\nHeim: Solothurn\nGast: Köniz\n\nAdresse: Untere Sternengasse 24\, 4500 Solothurn\n
LOCATION:Untere Sternengasse 24\, 4500 Solothurn
CATEGORIES:Saison 2025/26
END:VEVENT
BEGIN:VEVENT
DTSTAMP:20260424T044524Z
DTSTART;TZID=Europe/Berlin:20251126T194500
DTEND;TZID=Europe/Berlin:20251126T224500
SUMMARY:O40 1. Liga Solothurn vs Burgdorf II (24)
UID:9bcb089c-6164-45c4-90b2-926fce45f570
STATUS:CONFIRMED
LAST-MODIFIED:20251207T174810Z
DESCRIPTION:1. Liga O40\nBegegnungs-Nr: 24\nHeim: Solothurn\nGast: Burgdorf II\n\nAdresse: Untere Sternengasse 24\, 4500 Solothurn\n
LOCATION:Untere Sternengasse 24\, 4500 Solothurn
CATEGORIES:Saison 2025/26
END:VEVENT
BEGIN:VEVENT
DTSTAMP:20260424T044524Z
DTSTART;TZID=Europe/Berlin:20251029T194500
DTEND;TZID=Europe/Berlin:20251029T224500
SUMMARY:O40 1. Liga Solothurn vs Burgdorf (15)
UID:1411aada-f745-417f-afc2-b4fe173eb6ac
STATUS:CONFIRMED
LAST-MODIFIED:20251101T150957Z
DESCRIPTION:1. Liga O40\nBegegnungs-Nr: 15\nHeim: Solothurn\nGast: Burgdorf\n\nAdresse: Untere Sternengasse 24\, 4500 Solothurn\n
LOCATION:Untere Sternengasse 24\, 4500 Solothurn
CATEGORIES:Saison 2025/26
END:VEVENT
BEGIN:VEVENT
DTSTAMP:20260424T044524Z
DTSTART;TZID=Europe/Berlin:20260314T140000
DTEND;TZID=Europe/Berlin:20260314T170000
SUMMARY:O40 1. Liga Burgdorf II vs Solothurn (24)
UID:fc7f5f3a-80aa-4ec2-97ca-02b2d5d75490
STATUS:CONFIRMED
LAST-MODIFIED:20260315T230557Z
DESCRIPTION:1. Liga O40\nBegegnungs-Nr: 24\nHeim: Burgdorf II\nGast: Solothurn\n\nAdresse: Pestalozzistrasse 69\, 3400 Burgdorf\n
LOCATION:Pestalozzistrasse 69\, 3400 Burgdorf
CATEGORIES:Saison 2025/26
END:VEVENT
BEGIN:VEVENT
DTSTAMP:20260424T044524Z
DTSTART;TZID=Europe/Berlin:20260221T140000
DTEND;TZID=Europe/Berlin:20260221T170000
SUMMARY:O40 1. Liga Burgdorf vs Solothurn (15)
UID:a180f80f-c5ab-437e-b3f7-a1efc2c1b5f4
STATUS:CONFIRMED
LAST-MODIFIED:20260224T075620Z
DESCRIPTION:1. Liga O40\nBegegnungs-Nr: 15\nHeim: Burgdorf\nGast: Solothurn\n\nAdresse: Pestalozzistrasse 69\, 3400 Burgdorf\n
LOCATION:Pestalozzistrasse 69\, 3400 Burgdorf
CATEGORIES:Saison 2025/26
END:VEVENT
BEGIN:VEVENT
DTSTAMP:20260424T044524Z
DTSTART;TZID=Europe/Berlin:20260323T200000
DTEND;TZID=Europe/Berlin:20260323T230000
SUMMARY:O40 1. Liga Köniz vs Solothurn (28)
UID:4b113691-44fb-4a6c-a690-a8d6d0615470
STATUS:CONFIRMED
LAST-MODIFIED:20260409T123240Z
DESCRIPTION:1. Liga O40\nBegegnungs-Nr: 28\nHeim: Köniz\nGast: Solothurn\n\nAdresse: Kirchstrasse 72-76\, 3084 Wabern\n
LOCATION:Kirchstrasse 72-76\, 3084 Wabern
CATEGORIES:Saison 2025/26
END:VEVENT
BEGIN:VEVENT
DTSTAMP:20260424T044524Z
DTSTART;TZID=Europe/Berlin:20260123T193000
DTEND;TZID=Europe/Berlin:20260123T223000
SUMMARY:O40 1. Liga Bern vs Solothurn (5)
UID:489da8e6-113f-4cd3-8fc7-e8b95547d03a
STATUS:CONFIRMED
LAST-MODIFIED:20260125T002814Z
DESCRIPTION:1. Liga O40\nBegegnungs-Nr: 5\nHeim: Bern\nGast: Solothurn\n\nAdresse: Papiermühlestrasse 81\, 3014 Bern\n
LOCATION:Papiermühlestrasse 81\, 3014 Bern
CATEGORIES:Saison 2025/26
END:VEVENT
BEGIN:VEVENT
DTSTAMP:20260424T044524Z
DTSTART;TZID=Europe/Berlin:20251013T193000
DTEND;TZID=Europe/Berlin:20251013T223000
SUMMARY:O40 1. Liga Heimberg vs Solothurn (10)
UID:144ee245-270b-482c-b2a2-92ede5f6e360
STATUS:CONFIRMED
LAST-MODIFIED:20251014T112703Z
DESCRIPTION:1. Liga O40\nBegegnungs-Nr: 10\nHeim: Heimberg\nGast: Solothurn\n\nAdresse: Schulhausstrasse 20\, 3672 Oberdiessbach\n
LOCATION:Schulhausstrasse 20\, 3672 Oberdiessbach
CATEGORIES:Saison 2025/26
END:VEVENT
BEGIN:VEVENT
DTSTAMP:20260424T044524Z
DTSTART;TZID=Europe/Berlin:20250905T194500
DTEND;TZID=Europe/Berlin:20250905T224500
SUMMARY:O40 1. Liga Port vs Solothurn (4)
UID:6dcc647c-f84b-46a6-8049-56ef24ec8aac
STATUS:CONFIRMED
LAST-MODIFIED:20250907T195113Z
DESCRIPTION:1. Liga O40\nBegegnungs-Nr: 4\nHeim: Port\nGast: Solothurn\n\nAdresse: Allmendstrasse 23\, 2562 Port\n
LOCATION:Allmendstrasse 23\, 2562 Port
CATEGORIES:Saison 2025/26
END:VEVENT
BEGIN:VEVENT
DTSTAMP:20260424T044524Z
DTSTART;TZID=Europe/Berlin:20251205T194500
DTEND;TZID=Europe/Berlin:20251205T224500
SUMMARY:O40 1. Liga Aarberg vs Solothurn (19)
UID:5c5ed636-5fc9-48d9-a956-572c85cf39fc
STATUS:CONFIRMED
LAST-MODIFIED:20251207T181249Z
DESCRIPTION:1. Liga O40\nBegegnungs-Nr: 19\nHeim: Aarberg\nGast: Solothurn\n\nAdresse: Nidaustrasse 7\, 3270 Aarberg\n
LOCATION:Nidaustrasse 7\, 3270 Aarberg
CATEGORIES:Saison 2025/26
END:VEVENT
END:VCALENDAR
