BEGIN:VCALENDAR
PRODID:-//nuDatenautomaten//framework iCal4j //DE
VERSION:2.0
CALSCALE:GREGORIAN
BEGIN:VTIMEZONE
TZID:Europe/Berlin
LAST-MODIFIED:20260306T231828Z
TZURL:https://www.tzurl.org/zoneinfo/Europe/Berlin
X-LIC-LOCATION:Europe/Berlin
X-PROLEPTIC-TZNAME:LMT
BEGIN:STANDARD
TZNAME:CET
TZOFFSETFROM:+005328
TZOFFSETTO:+0100
DTSTART:18930401T000000
END:STANDARD
BEGIN:DAYLIGHT
TZNAME:CEST
TZOFFSETFROM:+0100
TZOFFSETTO:+0200
DTSTART:19160430T230000
RDATE:19400401T020000
RDATE:19430329T020000
RDATE:19460414T020000
RDATE:19470406T030000
RDATE:19480418T020000
RDATE:19490410T020000
RDATE:19800406T020000
END:DAYLIGHT
BEGIN:STANDARD
TZNAME:CET
TZOFFSETFROM:+0200
TZOFFSETTO:+0100
DTSTART:19161001T010000
RDATE:19421102T030000
RDATE:19431004T030000
RDATE:19441002T030000
RDATE:19451118T030000
RDATE:19461007T030000
END:STANDARD
BEGIN:DAYLIGHT
TZNAME:CEST
TZOFFSETFROM:+0100
TZOFFSETTO:+0200
DTSTART:19170416T020000
RRULE:FREQ=YEARLY;UNTIL=19180415T010000Z;BYMONTH=4;BYDAY=3MO
END:DAYLIGHT
BEGIN:STANDARD
TZNAME:CET
TZOFFSETFROM:+0200
TZOFFSETTO:+0100
DTSTART:19170917T030000
RRULE:FREQ=YEARLY;UNTIL=19180916T010000Z;BYMONTH=9;BYDAY=3MO
END:STANDARD
BEGIN:DAYLIGHT
TZNAME:CEST
TZOFFSETFROM:+0100
TZOFFSETTO:+0200
DTSTART:19440403T020000
RRULE:FREQ=YEARLY;UNTIL=19450402T010000Z;BYMONTH=4;BYDAY=1MO
END:DAYLIGHT
BEGIN:DAYLIGHT
TZNAME:CEMT
TZOFFSETFROM:+0200
TZOFFSETTO:+0300
DTSTART:19450524T020000
RDATE:19470511T030000
END:DAYLIGHT
BEGIN:DAYLIGHT
TZNAME:CEST
TZOFFSETFROM:+0300
TZOFFSETTO:+0200
DTSTART:19450924T030000
RDATE:19470629T030000
END:DAYLIGHT
BEGIN:STANDARD
TZNAME:CET
TZOFFSETFROM:+0100
TZOFFSETTO:+0100
DTSTART:19460101T000000
RDATE:19800101T000000
END:STANDARD
BEGIN:STANDARD
TZNAME:CET
TZOFFSETFROM:+0200
TZOFFSETTO:+0100
DTSTART:19471005T030000
RRULE:FREQ=YEARLY;UNTIL=19491002T010000Z;BYMONTH=10;BYDAY=1SU
END:STANDARD
BEGIN:STANDARD
TZNAME:CET
TZOFFSETFROM:+0200
TZOFFSETTO:+0100
DTSTART:19800928T030000
RRULE:FREQ=YEARLY;UNTIL=19950924T010000Z;BYMONTH=9;BYDAY=-1SU
END:STANDARD
BEGIN:DAYLIGHT
TZNAME:CEST
TZOFFSETFROM:+0100
TZOFFSETTO:+0200
DTSTART:19810329T020000
RRULE:FREQ=YEARLY;BYMONTH=3;BYDAY=-1SU
END:DAYLIGHT
BEGIN:STANDARD
TZNAME:CET
TZOFFSETFROM:+0200
TZOFFSETTO:+0100
DTSTART:19961027T030000
RRULE:FREQ=YEARLY;BYMONTH=10;BYDAY=-1SU
END:STANDARD
END:VTIMEZONE
BEGIN:VEVENT
DTSTAMP:20260424T005545Z
DTSTART;TZID=Europe/Berlin:20250830T130000
DTEND;TZID=Europe/Berlin:20250830T160000
SUMMARY:JUG\, 2.Li\, Gr.6\, VR Chur vs Ruggell (2)
UID:a73165f6-c2cd-4883-ac37-3ea334b731f4
STATUS:CONFIRMED
LAST-MODIFIED:20250902T100636Z
DESCRIPTION:Jugend\, 2. Liga\, Gruppe 6\, Vorrunde\nBegegnungs-Nr: 2\nHeim: Chur\nGast: Ruggell\n\nAdresse: Sandstr. 35\, 7000 Chur\n
LOCATION:Sandstr. 35\, 7000 Chur
CATEGORIES:Saison 2025/26
END:VEVENT
BEGIN:VEVENT
DTSTAMP:20260424T005545Z
DTSTART;TZID=Europe/Berlin:20250830T160000
DTEND;TZID=Europe/Berlin:20250830T190000
SUMMARY:JUG\, 2.Li\, Gr.6\, VR Chur vs St. Gallen II (5)
UID:918f6142-bc79-453e-9701-816093287c45
STATUS:CONFIRMED
LAST-MODIFIED:20250902T100717Z
DESCRIPTION:Jugend\, 2. Liga\, Gruppe 6\, Vorrunde\nBegegnungs-Nr: 5\nHeim: Chur\nGast: St. Gallen II\n\nAdresse: Sandstr. 35\, 7000 Chur\n
LOCATION:Sandstr. 35\, 7000 Chur
CATEGORIES:Saison 2025/26
END:VEVENT
BEGIN:VEVENT
DTSTAMP:20260424T005545Z
DTSTART;TZID=Europe/Berlin:20251115T160000
DTEND;TZID=Europe/Berlin:20251115T190000
SUMMARY:JUG\, 2.Li\, Gr.3\, ZR Chur vs Neuhausen II (5)
UID:79f9ccbc-45d2-4f94-b7f3-9ac76afe3f5d
STATUS:CONFIRMED
LAST-MODIFIED:20251121T095627Z
DESCRIPTION:Jugend\, 2. Liga\, Gruppe 3\, Zwischenrunde\nBegegnungs-Nr: 5\nHeim: Chur\nGast: Neuhausen II\n\nAdresse: Sandstr. 35\, 7000 Chur\n
LOCATION:Sandstr. 35\, 7000 Chur
CATEGORIES:Saison 2025/26
END:VEVENT
BEGIN:VEVENT
DTSTAMP:20260424T005545Z
DTSTART;TZID=Europe/Berlin:20251115T130000
DTEND;TZID=Europe/Berlin:20251115T160000
SUMMARY:JUG\, 2.Li\, Gr.3\, ZR Chur vs Urdorf (2)
UID:8ce2cf67-dda8-4767-b418-323ba3415635
STATUS:CONFIRMED
LAST-MODIFIED:20251121T095601Z
DESCRIPTION:Jugend\, 2. Liga\, Gruppe 3\, Zwischenrunde\nBegegnungs-Nr: 2\nHeim: Chur\nGast: Urdorf\n\nAdresse: Sandstr. 35\, 7000 Chur\n
LOCATION:Sandstr. 35\, 7000 Chur
CATEGORIES:Saison 2025/26
END:VEVENT
BEGIN:VEVENT
DTSTAMP:20260424T005545Z
DTSTART;TZID=Europe/Berlin:20260328T130000
DTEND;TZID=Europe/Berlin:20260328T160000
SUMMARY:JUG\, 2.Li\, Gr.1\, Final Chur vs Winterthur (2)
UID:fb01d27e-0ede-4e2a-bd81-789baa92a86f
STATUS:CONFIRMED
LAST-MODIFIED:20260401T133617Z
DESCRIPTION:Jugend\, 2. Liga\, Gruppe 1\, Final\nBegegnungs-Nr: 2\nHeim: Chur\nGast: Winterthur\n\nAdresse: Sandstr. 35\, 7000 Chur\n
LOCATION:Sandstr. 35\, 7000 Chur
CATEGORIES:Saison 2025/26
END:VEVENT
BEGIN:VEVENT
DTSTAMP:20260424T005545Z
DTSTART;TZID=Europe/Berlin:20260328T160000
DTEND;TZID=Europe/Berlin:20260328T190000
SUMMARY:JUG\, 2.Li\, Gr.1\, Final Chur vs Affoltern A/A II (5)
UID:e23d2990-c774-454b-a089-7d9fb0102338
STATUS:CONFIRMED
LAST-MODIFIED:20260401T133657Z
DESCRIPTION:Jugend\, 2. Liga\, Gruppe 1\, Final\nBegegnungs-Nr: 5\nHeim: Chur\nGast: Affoltern A/A II\n\nAdresse: Sandstr. 35\, 7000 Chur\n
LOCATION:Sandstr. 35\, 7000 Chur
CATEGORIES:Saison 2025/26
END:VEVENT
BEGIN:VEVENT
DTSTAMP:20260424T005545Z
DTSTART;TZID=Europe/Berlin:20250830T143000
DTEND;TZID=Europe/Berlin:20250830T173000
SUMMARY:JUG\, 2.Li\, Gr.6\, VR Horn vs Chur (4)
UID:e15bb945-2bd9-4301-98f2-e010d312d099
STATUS:CONFIRMED
LAST-MODIFIED:20250902T100659Z
DESCRIPTION:Jugend\, 2. Liga\, Gruppe 6\, Vorrunde\nBegegnungs-Nr: 4\nHeim: Horn\nGast: Chur\n\nAdresse: Feldstrasse 16\, 9326 Horn\n
LOCATION:Feldstrasse 16\, 9326 Horn
CATEGORIES:Saison 2025/26
END:VEVENT
BEGIN:VEVENT
DTSTAMP:20260424T005545Z
DTSTART;TZID=Europe/Berlin:20251115T143000
DTEND;TZID=Europe/Berlin:20251115T173000
SUMMARY:JUG\, 2.Li\, Gr.3\, ZR Weinfelden vs Chur (4)
UID:45d4bcf0-9b77-4cde-8c87-a057f4ccdea6
STATUS:CONFIRMED
LAST-MODIFIED:20251121T095618Z
DESCRIPTION:Jugend\, 2. Liga\, Gruppe 3\, Zwischenrunde\nBegegnungs-Nr: 4\nHeim: Weinfelden\nGast: Chur\n\nAdresse: Bleichestrasse 3 (neben Hallenbad)\, 8570 Weinfelden\n
LOCATION:Bleichestrasse 3 (neben Hallenbad)\, 8570 Weinfelden
CATEGORIES:Saison 2025/26
END:VEVENT
BEGIN:VEVENT
DTSTAMP:20260424T005545Z
DTSTART;TZID=Europe/Berlin:20260328T143000
DTEND;TZID=Europe/Berlin:20260328T173000
SUMMARY:JUG\, 2.Li\, Gr.1\, Final Affoltern A/A vs Chur (4)
UID:1e20cbb9-4efa-43bf-9a1f-f740e35cc26c
STATUS:CONFIRMED
LAST-MODIFIED:20260401T133649Z
DESCRIPTION:Jugend\, 2. Liga\, Gruppe 1\, Final\nBegegnungs-Nr: 4\nHeim: Affoltern A/A\nGast: Chur\n\nAdresse: Butzenstrasse 8\, 8910 Affoltern am Albis\n
LOCATION:Butzenstrasse 8\, 8910 Affoltern am Albis
CATEGORIES:Saison 2025/26
END:VEVENT
END:VCALENDAR
