BEGIN:VCALENDAR
PRODID:-//nuDatenautomaten//framework iCal4j //DE
VERSION:2.0
CALSCALE:GREGORIAN
BEGIN:VTIMEZONE
TZID:Europe/Berlin
LAST-MODIFIED:20260306T231828Z
TZURL:https://www.tzurl.org/zoneinfo/Europe/Berlin
X-LIC-LOCATION:Europe/Berlin
X-PROLEPTIC-TZNAME:LMT
BEGIN:STANDARD
TZNAME:CET
TZOFFSETFROM:+005328
TZOFFSETTO:+0100
DTSTART:18930401T000000
END:STANDARD
BEGIN:DAYLIGHT
TZNAME:CEST
TZOFFSETFROM:+0100
TZOFFSETTO:+0200
DTSTART:19160430T230000
RDATE:19400401T020000
RDATE:19430329T020000
RDATE:19460414T020000
RDATE:19470406T030000
RDATE:19480418T020000
RDATE:19490410T020000
RDATE:19800406T020000
END:DAYLIGHT
BEGIN:STANDARD
TZNAME:CET
TZOFFSETFROM:+0200
TZOFFSETTO:+0100
DTSTART:19161001T010000
RDATE:19421102T030000
RDATE:19431004T030000
RDATE:19441002T030000
RDATE:19451118T030000
RDATE:19461007T030000
END:STANDARD
BEGIN:DAYLIGHT
TZNAME:CEST
TZOFFSETFROM:+0100
TZOFFSETTO:+0200
DTSTART:19170416T020000
RRULE:FREQ=YEARLY;UNTIL=19180415T010000Z;BYMONTH=4;BYDAY=3MO
END:DAYLIGHT
BEGIN:STANDARD
TZNAME:CET
TZOFFSETFROM:+0200
TZOFFSETTO:+0100
DTSTART:19170917T030000
RRULE:FREQ=YEARLY;UNTIL=19180916T010000Z;BYMONTH=9;BYDAY=3MO
END:STANDARD
BEGIN:DAYLIGHT
TZNAME:CEST
TZOFFSETFROM:+0100
TZOFFSETTO:+0200
DTSTART:19440403T020000
RRULE:FREQ=YEARLY;UNTIL=19450402T010000Z;BYMONTH=4;BYDAY=1MO
END:DAYLIGHT
BEGIN:DAYLIGHT
TZNAME:CEMT
TZOFFSETFROM:+0200
TZOFFSETTO:+0300
DTSTART:19450524T020000
RDATE:19470511T030000
END:DAYLIGHT
BEGIN:DAYLIGHT
TZNAME:CEST
TZOFFSETFROM:+0300
TZOFFSETTO:+0200
DTSTART:19450924T030000
RDATE:19470629T030000
END:DAYLIGHT
BEGIN:STANDARD
TZNAME:CET
TZOFFSETFROM:+0100
TZOFFSETTO:+0100
DTSTART:19460101T000000
RDATE:19800101T000000
END:STANDARD
BEGIN:STANDARD
TZNAME:CET
TZOFFSETFROM:+0200
TZOFFSETTO:+0100
DTSTART:19471005T030000
RRULE:FREQ=YEARLY;UNTIL=19491002T010000Z;BYMONTH=10;BYDAY=1SU
END:STANDARD
BEGIN:STANDARD
TZNAME:CET
TZOFFSETFROM:+0200
TZOFFSETTO:+0100
DTSTART:19800928T030000
RRULE:FREQ=YEARLY;UNTIL=19950924T010000Z;BYMONTH=9;BYDAY=-1SU
END:STANDARD
BEGIN:DAYLIGHT
TZNAME:CEST
TZOFFSETFROM:+0100
TZOFFSETTO:+0200
DTSTART:19810329T020000
RRULE:FREQ=YEARLY;BYMONTH=3;BYDAY=-1SU
END:DAYLIGHT
BEGIN:STANDARD
TZNAME:CET
TZOFFSETFROM:+0200
TZOFFSETTO:+0100
DTSTART:19961027T030000
RRULE:FREQ=YEARLY;BYMONTH=10;BYDAY=-1SU
END:STANDARD
END:VTIMEZONE
BEGIN:VEVENT
DTSTAMP:20260424T084019Z
DTSTART;TZID=Europe/Berlin:20251215T193000
DTEND;TZID=Europe/Berlin:20251215T223000
SUMMARY:O40 3. Liga Gr. 1 Münsingen vs bls Spiez (36)
UID:761606e2-01e5-4e45-a698-d9224d503ac9
STATUS:CONFIRMED
LAST-MODIFIED:20251217T100753Z
DESCRIPTION:3. Liga O40 Gruppe 1 \nBegegnungs-Nr: 36\nHeim: Münsingen\nGast: bls Spiez\n\nAdresse: Turnhallenweg 8\, 3110 Münsingen\n
LOCATION:Turnhallenweg 8\, 3110 Münsingen
CATEGORIES:Saison 2025/26
END:VEVENT
BEGIN:VEVENT
DTSTAMP:20260424T084019Z
DTSTART;TZID=Europe/Berlin:20251204T200000
DTEND;TZID=Europe/Berlin:20251204T230000
SUMMARY:O40 3. Liga Gr. 1 Münsingen vs Heimberg II (31)
UID:6209a4a4-c01e-470f-bd94-3ca23c0a554b
STATUS:CONFIRMED
LAST-MODIFIED:20251207T182454Z
DESCRIPTION:3. Liga O40 Gruppe 1 \nBegegnungs-Nr: 31\nHeim: Münsingen\nGast: Heimberg II\n\nAdresse: Turnhallenweg 8\, 3110 Münsingen\n
LOCATION:Turnhallenweg 8\, 3110 Münsingen
CATEGORIES:Saison 2025/26
END:VEVENT
BEGIN:VEVENT
DTSTAMP:20260424T084019Z
DTSTART;TZID=Europe/Berlin:20251112T200000
DTEND;TZID=Europe/Berlin:20251112T230000
SUMMARY:O40 3. Liga Gr. 1 Münsingen vs Langnau II (22)
UID:68654cae-866c-4956-9fca-8ba1a876e092
STATUS:CONFIRMED
LAST-MODIFIED:20251115T172721Z
DESCRIPTION:3. Liga O40 Gruppe 1 \nBegegnungs-Nr: 22\nHeim: Münsingen\nGast: Langnau II\n\nAdresse: Turnhallenweg 8\, 3110 Münsingen\n
LOCATION:Turnhallenweg 8\, 3110 Münsingen
CATEGORIES:Saison 2025/26
END:VEVENT
BEGIN:VEVENT
DTSTAMP:20260424T084019Z
DTSTART;TZID=Europe/Berlin:20251031T200000
DTEND;TZID=Europe/Berlin:20251031T230000
SUMMARY:O40 3. Liga Gr. 1 Münsingen vs Regio Moossee (20)
UID:a7dd86ee-771c-4a95-b587-2f1fe322cb9d
STATUS:CONFIRMED
LAST-MODIFIED:20251101T150559Z
DESCRIPTION:3. Liga O40 Gruppe 1 \nBegegnungs-Nr: 20\nHeim: Münsingen\nGast: Regio Moossee\n\nAdresse: Turnhallenweg 8\, 3110 Münsingen\n
LOCATION:Turnhallenweg 8\, 3110 Münsingen
CATEGORIES:Saison 2025/26
END:VEVENT
BEGIN:VEVENT
DTSTAMP:20260424T084019Z
DTSTART;TZID=Europe/Berlin:20251020T193000
DTEND;TZID=Europe/Berlin:20251020T223000
SUMMARY:O40 3. Liga Gr. 1 Münsingen vs Tiefenau (14)
UID:99a62820-0111-463e-9caa-8d9ca7e117cb
STATUS:CONFIRMED
LAST-MODIFIED:20251029T221611Z
DESCRIPTION:3. Liga O40 Gruppe 1 \nBegegnungs-Nr: 14\nHeim: Münsingen\nGast: Tiefenau\n\nAdresse: Turnhallenweg 8\, 3110 Münsingen\n
LOCATION:Turnhallenweg 8\, 3110 Münsingen
CATEGORIES:Saison 2025/26
END:VEVENT
BEGIN:VEVENT
DTSTAMP:20260424T084019Z
DTSTART;TZID=Europe/Berlin:20260311T200000
DTEND;TZID=Europe/Berlin:20260311T230000
SUMMARY:O40 3. Liga Gr. 1 Münsingen vs Niederscherli (27)
UID:b768b768-8985-4a35-a43d-151ce571bdb5
STATUS:CONFIRMED
LAST-MODIFIED:20260315T230640Z
DESCRIPTION:3. Liga O40 Gruppe 1 \nBegegnungs-Nr: 27\nHeim: Münsingen\nGast: Niederscherli\n\nAdresse: Turnhallenweg 8\, 3110 Münsingen\n
LOCATION:Turnhallenweg 8\, 3110 Münsingen
CATEGORIES:Saison 2025/26
END:VEVENT
BEGIN:VEVENT
DTSTAMP:20260424T084019Z
DTSTART;TZID=Europe/Berlin:20260126T193000
DTEND;TZID=Europe/Berlin:20260126T223000
SUMMARY:O40 3. Liga Gr. 1 Münsingen vs Ostermundigen II (9)
UID:e9effb5e-a9be-4b58-a485-818c278685c0
STATUS:CONFIRMED
LAST-MODIFIED:20260217T214211Z
DESCRIPTION:3. Liga O40 Gruppe 1 \nBegegnungs-Nr: 9\nHeim: Münsingen\nGast: Ostermundigen II\n\nAdresse: Turnhallenweg 8\, 3110 Münsingen\n
LOCATION:Turnhallenweg 8\, 3110 Münsingen
CATEGORIES:Saison 2025/26
END:VEVENT
BEGIN:VEVENT
DTSTAMP:20260424T084019Z
DTSTART;TZID=Europe/Berlin:20260107T200000
DTEND;TZID=Europe/Berlin:20260107T230000
SUMMARY:O40 3. Liga Gr. 1 Münsingen vs Stettlen (4)
UID:da9afd41-6185-48c2-b70b-f68bd9ed10b6
STATUS:CONFIRMED
LAST-MODIFIED:20260125T003115Z
DESCRIPTION:3. Liga O40 Gruppe 1 \nBegegnungs-Nr: 4\nHeim: Münsingen\nGast: Stettlen\n\nAdresse: Turnhallenweg 8\, 3110 Münsingen\n
LOCATION:Turnhallenweg 8\, 3110 Münsingen
CATEGORIES:Saison 2025/26
END:VEVENT
BEGIN:VEVENT
DTSTAMP:20260424T084019Z
DTSTART;TZID=Europe/Berlin:20251124T200000
DTEND;TZID=Europe/Berlin:20251124T230000
SUMMARY:O40 3. Liga Gr. 1 Niederscherli vs Münsingen (27)
UID:cdf2780e-f681-40f0-a5c0-2c1b7312e836
STATUS:CONFIRMED
LAST-MODIFIED:20251207T182406Z
DESCRIPTION:3. Liga O40 Gruppe 1 \nBegegnungs-Nr: 27\nHeim: Niederscherli\nGast: Münsingen\n\nAdresse: Bodengässli 6\, 3145 Niederscherli\n
LOCATION:Bodengässli 6\, 3145 Niederscherli
CATEGORIES:Saison 2025/26
END:VEVENT
BEGIN:VEVENT
DTSTAMP:20260424T084019Z
DTSTART;TZID=Europe/Berlin:20251014T193000
DTEND;TZID=Europe/Berlin:20251014T223000
SUMMARY:O40 3. Liga Gr. 1 Ostermundigen II vs Münsingen (9)
UID:2491dbd3-0457-41e6-9b0b-022fca86b17a
STATUS:CONFIRMED
LAST-MODIFIED:20251016T191046Z
DESCRIPTION:3. Liga O40 Gruppe 1 \nBegegnungs-Nr: 9\nHeim: Ostermundigen II\nGast: Münsingen\n\nAdresse: Dennigkofenweg 169\, 3072 Ostermundigen\n
LOCATION:Dennigkofenweg 169\, 3072 Ostermundigen
CATEGORIES:Saison 2025/26
END:VEVENT
BEGIN:VEVENT
DTSTAMP:20260424T084019Z
DTSTART;TZID=Europe/Berlin:20250915T194500
DTEND;TZID=Europe/Berlin:20250915T224500
SUMMARY:O40 3. Liga Gr. 1 Stettlen vs Münsingen (4)
UID:6b8bc0aa-9a79-4783-88b7-32a9c5f97779
STATUS:CONFIRMED
LAST-MODIFIED:20250918T140239Z
DESCRIPTION:3. Liga O40 Gruppe 1 \nBegegnungs-Nr: 4\nHeim: Stettlen\nGast: Münsingen\n\nAdresse: Bernstrasse 45\, 3066 Stettlen\n
LOCATION:Bernstrasse 45\, 3066 Stettlen
CATEGORIES:Saison 2025/26
END:VEVENT
BEGIN:VEVENT
DTSTAMP:20260424T084019Z
DTSTART;TZID=Europe/Berlin:20260316T193000
DTEND;TZID=Europe/Berlin:20260316T223000
SUMMARY:O40 3. Liga Gr. 1 Heimberg II vs Münsingen (31)
UID:e491b863-615d-45c3-97d8-dd67504fdcab
STATUS:CONFIRMED
LAST-MODIFIED:20260327T144603Z
DESCRIPTION:3. Liga O40 Gruppe 1 \nBegegnungs-Nr: 31\nHeim: Heimberg II\nGast: Münsingen\n\nAdresse: Schulhausstrasse 20\, 3672 Oberdiessbach\n
LOCATION:Schulhausstrasse 20\, 3672 Oberdiessbach
CATEGORIES:Saison 2025/26
END:VEVENT
BEGIN:VEVENT
DTSTAMP:20260424T084019Z
DTSTART;TZID=Europe/Berlin:20260228T140000
DTEND;TZID=Europe/Berlin:20260228T170000
SUMMARY:O40 3. Liga Gr. 1 Langnau II vs Münsingen (22)
UID:c7edeae7-ef08-417f-bfe3-1a715d90ea3e
STATUS:CONFIRMED
LAST-MODIFIED:20260302T145031Z
DESCRIPTION:3. Liga O40 Gruppe 1 \nBegegnungs-Nr: 22\nHeim: Langnau II\nGast: Münsingen\n\nAdresse: Bleicheweg 11\, 3550 Langnau\n
LOCATION:Bleicheweg 11\, 3550 Langnau
CATEGORIES:Saison 2025/26
END:VEVENT
BEGIN:VEVENT
DTSTAMP:20260424T084019Z
DTSTART;TZID=Europe/Berlin:20260217T194500
DTEND;TZID=Europe/Berlin:20260217T224500
SUMMARY:O40 3. Liga Gr. 1 Regio Moossee vs Münsingen (20)
UID:aa17815f-3d8a-4ec2-acf4-a73b9ff0b356
STATUS:CONFIRMED
LAST-MODIFIED:20260218T140226Z
DESCRIPTION:3. Liga O40 Gruppe 1 \nBegegnungs-Nr: 20\nHeim: Regio Moossee\nGast: Münsingen\n\nAdresse: Schulhausstrasse 23-25\, 3302 Moosseedorf\n
LOCATION:Schulhausstrasse 23-25\, 3302 Moosseedorf
CATEGORIES:Saison 2025/26
END:VEVENT
BEGIN:VEVENT
DTSTAMP:20260424T084019Z
DTSTART;TZID=Europe/Berlin:20260330T194500
DTEND;TZID=Europe/Berlin:20260330T224500
SUMMARY:O40 3. Liga Gr. 1 bls Spiez vs Münsingen (36)
UID:0fe4e9fe-7928-4a89-bb6b-8df41fa94df5
STATUS:CONFIRMED
LAST-MODIFIED:20260409T123314Z
DESCRIPTION:3. Liga O40 Gruppe 1 \nBegegnungs-Nr: 36\nHeim: bls Spiez\nGast: Münsingen\n\nAdresse: Dorfplatz 4\, 3704 Krattigen\n
LOCATION:Dorfplatz 4\, 3704 Krattigen
CATEGORIES:Saison 2025/26
END:VEVENT
BEGIN:VEVENT
DTSTAMP:20260424T084019Z
DTSTART;TZID=Europe/Berlin:20260205T194500
DTEND;TZID=Europe/Berlin:20260205T224500
SUMMARY:O40 3. Liga Gr. 1 Tiefenau vs Münsingen (14)
UID:5258588c-34bb-49f2-9a4a-6c9e4610048c
STATUS:CONFIRMED
LAST-MODIFIED:20260217T213627Z
DESCRIPTION:3. Liga O40 Gruppe 1 \nBegegnungs-Nr: 14\nHeim: Tiefenau\nGast: Münsingen\n\nAdresse: Studerstrasse 56\, 3004 Bern\n
LOCATION:Studerstrasse 56\, 3004 Bern
CATEGORIES:Saison 2025/26
END:VEVENT
END:VCALENDAR
