BEGIN:VCALENDAR
PRODID:-//nuDatenautomaten//framework iCal4j //DE
VERSION:2.0
CALSCALE:GREGORIAN
BEGIN:VTIMEZONE
TZID:Europe/Berlin
LAST-MODIFIED:20260306T231828Z
TZURL:https://www.tzurl.org/zoneinfo/Europe/Berlin
X-LIC-LOCATION:Europe/Berlin
X-PROLEPTIC-TZNAME:LMT
BEGIN:STANDARD
TZNAME:CET
TZOFFSETFROM:+005328
TZOFFSETTO:+0100
DTSTART:18930401T000000
END:STANDARD
BEGIN:DAYLIGHT
TZNAME:CEST
TZOFFSETFROM:+0100
TZOFFSETTO:+0200
DTSTART:19160430T230000
RDATE:19400401T020000
RDATE:19430329T020000
RDATE:19460414T020000
RDATE:19470406T030000
RDATE:19480418T020000
RDATE:19490410T020000
RDATE:19800406T020000
END:DAYLIGHT
BEGIN:STANDARD
TZNAME:CET
TZOFFSETFROM:+0200
TZOFFSETTO:+0100
DTSTART:19161001T010000
RDATE:19421102T030000
RDATE:19431004T030000
RDATE:19441002T030000
RDATE:19451118T030000
RDATE:19461007T030000
END:STANDARD
BEGIN:DAYLIGHT
TZNAME:CEST
TZOFFSETFROM:+0100
TZOFFSETTO:+0200
DTSTART:19170416T020000
RRULE:FREQ=YEARLY;UNTIL=19180415T010000Z;BYMONTH=4;BYDAY=3MO
END:DAYLIGHT
BEGIN:STANDARD
TZNAME:CET
TZOFFSETFROM:+0200
TZOFFSETTO:+0100
DTSTART:19170917T030000
RRULE:FREQ=YEARLY;UNTIL=19180916T010000Z;BYMONTH=9;BYDAY=3MO
END:STANDARD
BEGIN:DAYLIGHT
TZNAME:CEST
TZOFFSETFROM:+0100
TZOFFSETTO:+0200
DTSTART:19440403T020000
RRULE:FREQ=YEARLY;UNTIL=19450402T010000Z;BYMONTH=4;BYDAY=1MO
END:DAYLIGHT
BEGIN:DAYLIGHT
TZNAME:CEMT
TZOFFSETFROM:+0200
TZOFFSETTO:+0300
DTSTART:19450524T020000
RDATE:19470511T030000
END:DAYLIGHT
BEGIN:DAYLIGHT
TZNAME:CEST
TZOFFSETFROM:+0300
TZOFFSETTO:+0200
DTSTART:19450924T030000
RDATE:19470629T030000
END:DAYLIGHT
BEGIN:STANDARD
TZNAME:CET
TZOFFSETFROM:+0100
TZOFFSETTO:+0100
DTSTART:19460101T000000
RDATE:19800101T000000
END:STANDARD
BEGIN:STANDARD
TZNAME:CET
TZOFFSETFROM:+0200
TZOFFSETTO:+0100
DTSTART:19471005T030000
RRULE:FREQ=YEARLY;UNTIL=19491002T010000Z;BYMONTH=10;BYDAY=1SU
END:STANDARD
BEGIN:STANDARD
TZNAME:CET
TZOFFSETFROM:+0200
TZOFFSETTO:+0100
DTSTART:19800928T030000
RRULE:FREQ=YEARLY;UNTIL=19950924T010000Z;BYMONTH=9;BYDAY=-1SU
END:STANDARD
BEGIN:DAYLIGHT
TZNAME:CEST
TZOFFSETFROM:+0100
TZOFFSETTO:+0200
DTSTART:19810329T020000
RRULE:FREQ=YEARLY;BYMONTH=3;BYDAY=-1SU
END:DAYLIGHT
BEGIN:STANDARD
TZNAME:CET
TZOFFSETFROM:+0200
TZOFFSETTO:+0100
DTSTART:19961027T030000
RRULE:FREQ=YEARLY;BYMONTH=10;BYDAY=-1SU
END:STANDARD
END:VTIMEZONE
BEGIN:VEVENT
DTSTAMP:20260424T063717Z
DTSTART;TZID=Europe/Berlin:20250909T194500
DTEND;TZID=Europe/Berlin:20250909T224500
SUMMARY:O40 2. Liga Port II vs Royal Bern (5)
UID:c797b91e-5268-4799-b558-3409cccc1430
STATUS:CONFIRMED
LAST-MODIFIED:20250918T140328Z
DESCRIPTION:2. Liga O40 \nBegegnungs-Nr: 5\nHeim: Port II\nGast: Royal Bern\n\nAdresse: Allmendstrasse 23\, 2562 Port\n
LOCATION:Allmendstrasse 23\, 2562 Port
CATEGORIES:Saison 2025/26
END:VEVENT
BEGIN:VEVENT
DTSTAMP:20260424T063717Z
DTSTART;TZID=Europe/Berlin:20251219T194500
DTEND;TZID=Europe/Berlin:20251219T224500
SUMMARY:O40 2. Liga Port II vs Bern II (28)
UID:1fa44c77-3305-4aed-97bd-d110c0b2a162
STATUS:CONFIRMED
LAST-MODIFIED:20251222T092000Z
DESCRIPTION:2. Liga O40 \nBegegnungs-Nr: 28\nHeim: Port II\nGast: Bern II\n\nAdresse: Allmendstrasse 23\, 2562 Port\n
LOCATION:Allmendstrasse 23\, 2562 Port
CATEGORIES:Saison 2025/26
END:VEVENT
BEGIN:VEVENT
DTSTAMP:20260424T063717Z
DTSTART;TZID=Europe/Berlin:20251216T194500
DTEND;TZID=Europe/Berlin:20251216T224500
SUMMARY:O40 2. Liga Port II vs Worb (24)
UID:f325f1d0-fc02-439b-a47d-9700ecf52b5c
STATUS:CONFIRMED
LAST-MODIFIED:20251218T122307Z
DESCRIPTION:2. Liga O40 \nBegegnungs-Nr: 24\nHeim: Port II\nGast: Worb\n\nAdresse: Allmendstrasse 23\, 2562 Port\n
LOCATION:Allmendstrasse 23\, 2562 Port
CATEGORIES:Saison 2025/26
END:VEVENT
BEGIN:VEVENT
DTSTAMP:20260424T063717Z
DTSTART;TZID=Europe/Berlin:20251104T194500
DTEND;TZID=Europe/Berlin:20251104T224500
SUMMARY:O40 2. Liga Port II vs Langnau (15)
UID:dd68f826-716c-4ed2-885d-d67fdcfafd4a
STATUS:CONFIRMED
LAST-MODIFIED:20251115T172902Z
DESCRIPTION:2. Liga O40 \nBegegnungs-Nr: 15\nHeim: Port II\nGast: Langnau\n\nAdresse: Allmendstrasse 23\, 2562 Port\n
LOCATION:Allmendstrasse 23\, 2562 Port
CATEGORIES:Saison 2025/26
END:VEVENT
BEGIN:VEVENT
DTSTAMP:20260424T063717Z
DTSTART;TZID=Europe/Berlin:20260303T194500
DTEND;TZID=Europe/Berlin:20260303T224500
SUMMARY:O40 2. Liga Port II vs Ostermundigen (19)
UID:98e2a9a3-3266-481b-9304-9a047c2723d6
STATUS:CONFIRMED
LAST-MODIFIED:20260308T174317Z
DESCRIPTION:2. Liga O40 \nBegegnungs-Nr: 19\nHeim: Port II\nGast: Ostermundigen\n\nAdresse: Allmendstrasse 23\, 2562 Port\n
LOCATION:Allmendstrasse 23\, 2562 Port
CATEGORIES:Saison 2025/26
END:VEVENT
BEGIN:VEVENT
DTSTAMP:20260424T063717Z
DTSTART;TZID=Europe/Berlin:20260210T194500
DTEND;TZID=Europe/Berlin:20260210T224500
SUMMARY:O40 2. Liga Port II vs Burgdorf III (10)
UID:c385c8fd-e9ba-469f-934b-be6d544e1b57
STATUS:CONFIRMED
LAST-MODIFIED:20260217T214451Z
DESCRIPTION:2. Liga O40 \nBegegnungs-Nr: 10\nHeim: Port II\nGast: Burgdorf III\n\nAdresse: Allmendstrasse 23\, 2562 Port\n
LOCATION:Allmendstrasse 23\, 2562 Port
CATEGORIES:Saison 2025/26
END:VEVENT
BEGIN:VEVENT
DTSTAMP:20260424T063717Z
DTSTART;TZID=Europe/Berlin:20260116T194500
DTEND;TZID=Europe/Berlin:20260116T224500
SUMMARY:O40 2. Liga Port II vs Thun (4)
UID:73f3f455-87bb-409e-9bbd-3b03f617a0a8
STATUS:CONFIRMED
LAST-MODIFIED:20260125T002920Z
DESCRIPTION:2. Liga O40 \nBegegnungs-Nr: 4\nHeim: Port II\nGast: Thun\n\nAdresse: Allmendstrasse 23\, 2562 Port\n
LOCATION:Allmendstrasse 23\, 2562 Port
CATEGORIES:Saison 2025/26
END:VEVENT
BEGIN:VEVENT
DTSTAMP:20260424T063717Z
DTSTART;TZID=Europe/Berlin:20250906T160000
DTEND;TZID=Europe/Berlin:20250906T190000
SUMMARY:O40 2. Liga Thun vs Port II (4)
UID:c0422eb5-fd9b-4525-95f6-03bdfdc6323a
STATUS:CONFIRMED
LAST-MODIFIED:20250907T195030Z
DESCRIPTION:2. Liga O40 \nBegegnungs-Nr: 4\nHeim: Thun\nGast: Port II\n\nAdresse: Hallerstrasse 28\, 3604 Thun\n
LOCATION:Hallerstrasse 28\, 3604 Thun
CATEGORIES:Saison 2025/26
END:VEVENT
BEGIN:VEVENT
DTSTAMP:20260424T063717Z
DTSTART;TZID=Europe/Berlin:20251118T193000
DTEND;TZID=Europe/Berlin:20251118T223000
SUMMARY:O40 2. Liga Ostermundigen vs Port II (19)
UID:a80dad2f-a000-431e-9e82-413f453059f4
STATUS:CONFIRMED
LAST-MODIFIED:20251122T091244Z
DESCRIPTION:2. Liga O40 \nBegegnungs-Nr: 19\nHeim: Ostermundigen\nGast: Port II\n\nAdresse: Dennigkofenweg 169\, 3072 Ostermundigen\n
LOCATION:Dennigkofenweg 169\, 3072 Ostermundigen
CATEGORIES:Saison 2025/26
END:VEVENT
BEGIN:VEVENT
DTSTAMP:20260424T063717Z
DTSTART;TZID=Europe/Berlin:20251205T193000
DTEND;TZID=Europe/Berlin:20251205T223000
SUMMARY:O40 2. Liga Burgdorf III vs Port II (10)
UID:4ccba450-90de-42a2-8422-3470104a5dbc
STATUS:CONFIRMED
LAST-MODIFIED:20251207T182354Z
DESCRIPTION:2. Liga O40 \nBegegnungs-Nr: 10\nHeim: Burgdorf III\nGast: Port II\n\nAdresse: Pestalozzistrasse 69\, 3400 Burgdorf\n
LOCATION:Pestalozzistrasse 69\, 3400 Burgdorf
CATEGORIES:Saison 2025/26
END:VEVENT
BEGIN:VEVENT
DTSTAMP:20260424T063717Z
DTSTART;TZID=Europe/Berlin:20260318T194500
DTEND;TZID=Europe/Berlin:20260318T224500
SUMMARY:O40 2. Liga Worb vs Port II (24)
UID:618bbf0a-4cfa-4ca5-b008-355da57366e3
STATUS:CONFIRMED
LAST-MODIFIED:20260327T144444Z
DESCRIPTION:2. Liga O40 \nBegegnungs-Nr: 24\nHeim: Worb\nGast: Port II\n\nAdresse: Rosenweg 9\, 3075 Rüfenacht BE\n
LOCATION:Rosenweg 9\, 3075 Rüfenacht BE
CATEGORIES:Saison 2025/26
END:VEVENT
BEGIN:VEVENT
DTSTAMP:20260424T063717Z
DTSTART;TZID=Europe/Berlin:20260221T140000
DTEND;TZID=Europe/Berlin:20260221T170000
SUMMARY:O40 2. Liga Langnau vs Port II (15)
UID:0c6c00bd-6fde-409d-8348-d71a68ca52ab
STATUS:CONFIRMED
LAST-MODIFIED:20260224T075719Z
DESCRIPTION:2. Liga O40 \nBegegnungs-Nr: 15\nHeim: Langnau\nGast: Port II\n\nAdresse: Bleicheweg 11\, 3550 Langnau\n
LOCATION:Bleicheweg 11\, 3550 Langnau
CATEGORIES:Saison 2025/26
END:VEVENT
BEGIN:VEVENT
DTSTAMP:20260424T063717Z
DTSTART;TZID=Europe/Berlin:20260330T193000
DTEND;TZID=Europe/Berlin:20260330T223000
SUMMARY:O40 2. Liga Bern II vs Port II (28)
UID:e47cba50-732b-44a5-b123-c633ebba278b
STATUS:CONFIRMED
LAST-MODIFIED:20260409T122706Z
DESCRIPTION:2. Liga O40 \nBegegnungs-Nr: 28\nHeim: Bern II\nGast: Port II\n\nAdresse: Mädergutstrasse 58\, 3018 Bern\n
LOCATION:Mädergutstrasse 58\, 3018 Bern
CATEGORIES:Saison 2025/26
END:VEVENT
BEGIN:VEVENT
DTSTAMP:20260424T063717Z
DTSTART;TZID=Europe/Berlin:20260126T194500
DTEND;TZID=Europe/Berlin:20260126T224500
SUMMARY:O40 2. Liga Royal Bern vs Port II (5)
UID:885832cd-6589-4c89-af97-34afd8669a06
STATUS:CONFIRMED
LAST-MODIFIED:20260217T212436Z
DESCRIPTION:2. Liga O40 \nBegegnungs-Nr: 5\nHeim: Royal Bern\nGast: Port II\n\nAdresse: Dändlikerweg 60\, 3014 Bern\n
LOCATION:Dändlikerweg 60\, 3014 Bern
CATEGORIES:Saison 2025/26
END:VEVENT
END:VCALENDAR
