BEGIN:VCALENDAR
PRODID:-//nuDatenautomaten//framework iCal4j //DE
VERSION:2.0
CALSCALE:GREGORIAN
BEGIN:VTIMEZONE
TZID:Europe/Berlin
LAST-MODIFIED:20260306T231828Z
TZURL:https://www.tzurl.org/zoneinfo/Europe/Berlin
X-LIC-LOCATION:Europe/Berlin
X-PROLEPTIC-TZNAME:LMT
BEGIN:STANDARD
TZNAME:CET
TZOFFSETFROM:+005328
TZOFFSETTO:+0100
DTSTART:18930401T000000
END:STANDARD
BEGIN:DAYLIGHT
TZNAME:CEST
TZOFFSETFROM:+0100
TZOFFSETTO:+0200
DTSTART:19160430T230000
RDATE:19400401T020000
RDATE:19430329T020000
RDATE:19460414T020000
RDATE:19470406T030000
RDATE:19480418T020000
RDATE:19490410T020000
RDATE:19800406T020000
END:DAYLIGHT
BEGIN:STANDARD
TZNAME:CET
TZOFFSETFROM:+0200
TZOFFSETTO:+0100
DTSTART:19161001T010000
RDATE:19421102T030000
RDATE:19431004T030000
RDATE:19441002T030000
RDATE:19451118T030000
RDATE:19461007T030000
END:STANDARD
BEGIN:DAYLIGHT
TZNAME:CEST
TZOFFSETFROM:+0100
TZOFFSETTO:+0200
DTSTART:19170416T020000
RRULE:FREQ=YEARLY;UNTIL=19180415T010000Z;BYMONTH=4;BYDAY=3MO
END:DAYLIGHT
BEGIN:STANDARD
TZNAME:CET
TZOFFSETFROM:+0200
TZOFFSETTO:+0100
DTSTART:19170917T030000
RRULE:FREQ=YEARLY;UNTIL=19180916T010000Z;BYMONTH=9;BYDAY=3MO
END:STANDARD
BEGIN:DAYLIGHT
TZNAME:CEST
TZOFFSETFROM:+0100
TZOFFSETTO:+0200
DTSTART:19440403T020000
RRULE:FREQ=YEARLY;UNTIL=19450402T010000Z;BYMONTH=4;BYDAY=1MO
END:DAYLIGHT
BEGIN:DAYLIGHT
TZNAME:CEMT
TZOFFSETFROM:+0200
TZOFFSETTO:+0300
DTSTART:19450524T020000
RDATE:19470511T030000
END:DAYLIGHT
BEGIN:DAYLIGHT
TZNAME:CEST
TZOFFSETFROM:+0300
TZOFFSETTO:+0200
DTSTART:19450924T030000
RDATE:19470629T030000
END:DAYLIGHT
BEGIN:STANDARD
TZNAME:CET
TZOFFSETFROM:+0100
TZOFFSETTO:+0100
DTSTART:19460101T000000
RDATE:19800101T000000
END:STANDARD
BEGIN:STANDARD
TZNAME:CET
TZOFFSETFROM:+0200
TZOFFSETTO:+0100
DTSTART:19471005T030000
RRULE:FREQ=YEARLY;UNTIL=19491002T010000Z;BYMONTH=10;BYDAY=1SU
END:STANDARD
BEGIN:STANDARD
TZNAME:CET
TZOFFSETFROM:+0200
TZOFFSETTO:+0100
DTSTART:19800928T030000
RRULE:FREQ=YEARLY;UNTIL=19950924T010000Z;BYMONTH=9;BYDAY=-1SU
END:STANDARD
BEGIN:DAYLIGHT
TZNAME:CEST
TZOFFSETFROM:+0100
TZOFFSETTO:+0200
DTSTART:19810329T020000
RRULE:FREQ=YEARLY;BYMONTH=3;BYDAY=-1SU
END:DAYLIGHT
BEGIN:STANDARD
TZNAME:CET
TZOFFSETFROM:+0200
TZOFFSETTO:+0100
DTSTART:19961027T030000
RRULE:FREQ=YEARLY;BYMONTH=10;BYDAY=-1SU
END:STANDARD
END:VTIMEZONE
BEGIN:VEVENT
DTSTAMP:20260424T165332Z
DTSTART;TZID=Europe/Berlin:20260324T200000
DTEND;TZID=Europe/Berlin:20260324T230000
SUMMARY:HE 5. Liga Gr. 1 Breitenbach II vs Münchenstein-City III (0)
UID:ac218fe8-b762-4f2d-a912-debe0b781f06
STATUS:CONFIRMED
LAST-MODIFIED:20260416T093938Z
DESCRIPTION:5. Liga Herren Gruppe 1\nBegegnungs-Nr: 0\nHeim: Breitenbach II\nGast: Münchenstein-City III\n\nAdresse: Grienackerweg 12\, 4226 Breitenbach\n
LOCATION:Grienackerweg 12\, 4226 Breitenbach
CATEGORIES:Saison 2025/26
END:VEVENT
BEGIN:VEVENT
DTSTAMP:20260424T165332Z
DTSTART;TZID=Europe/Berlin:20250916T200000
DTEND;TZID=Europe/Berlin:20250916T230000
SUMMARY:HE 5. Liga Gr. 1 Breitenbach II vs Binningen III (0)
UID:dd9fcb6a-dabe-43b4-940f-5e749488d6e4
STATUS:CONFIRMED
LAST-MODIFIED:20250926T125046Z
DESCRIPTION:5. Liga Herren Gruppe 1\nBegegnungs-Nr: 0\nHeim: Breitenbach II\nGast: Binningen III\n\nAdresse: Grienackerweg 12\, 4226 Breitenbach\n
LOCATION:Grienackerweg 12\, 4226 Breitenbach
CATEGORIES:Saison 2025/26
END:VEVENT
BEGIN:VEVENT
DTSTAMP:20260424T165332Z
DTSTART;TZID=Europe/Berlin:20250826T200000
DTEND;TZID=Europe/Berlin:20250826T230000
SUMMARY:HE 5. Liga Gr. 1 Breitenbach II vs Basel X (0)
UID:0b83ae89-ad2f-41d2-836d-33902a010cbb
STATUS:CONFIRMED
LAST-MODIFIED:20250905T121517Z
DESCRIPTION:5. Liga Herren Gruppe 1\nBegegnungs-Nr: 0\nHeim: Breitenbach II\nGast: Basel X\n\nAdresse: Grienackerweg 12\, 4226 Breitenbach\n
LOCATION:Grienackerweg 12\, 4226 Breitenbach
CATEGORIES:Saison 2025/26
END:VEVENT
BEGIN:VEVENT
DTSTAMP:20260424T165332Z
DTSTART;TZID=Europe/Berlin:20260303T200000
DTEND;TZID=Europe/Berlin:20260303T230000
SUMMARY:HE 5. Liga Gr. 1 Breitenbach II vs Pratteln II (0)
UID:3de7e8f4-87ab-45e6-9229-f17946ba7f23
STATUS:CONFIRMED
LAST-MODIFIED:20260304T104346Z
DESCRIPTION:5. Liga Herren Gruppe 1\nBegegnungs-Nr: 0\nHeim: Breitenbach II\nGast: Pratteln II\n\nAdresse: Grienackerweg 12\, 4226 Breitenbach\n
LOCATION:Grienackerweg 12\, 4226 Breitenbach
CATEGORIES:Saison 2025/26
END:VEVENT
BEGIN:VEVENT
DTSTAMP:20260424T165332Z
DTSTART;TZID=Europe/Berlin:20260210T200000
DTEND;TZID=Europe/Berlin:20260210T230000
SUMMARY:HE 5. Liga Gr. 1 Breitenbach II vs Copains Birsfelden IV (0)
UID:1aa7fa3b-1e85-4d1a-9e07-4d9df9324ac3
STATUS:CONFIRMED
LAST-MODIFIED:20260211T095927Z
DESCRIPTION:5. Liga Herren Gruppe 1\nBegegnungs-Nr: 0\nHeim: Breitenbach II\nGast: Copains Birsfelden IV\n\nAdresse: Grienackerweg 12\, 4226 Breitenbach\n
LOCATION:Grienackerweg 12\, 4226 Breitenbach
CATEGORIES:Saison 2025/26
END:VEVENT
BEGIN:VEVENT
DTSTAMP:20260424T165332Z
DTSTART;TZID=Europe/Berlin:20260106T200000
DTEND;TZID=Europe/Berlin:20260106T230000
SUMMARY:HE 5. Liga Gr. 1 Breitenbach II vs Old Boys Basel III (0)
UID:b436e7bb-bce8-4a04-bfa6-d0deb74cca6d
STATUS:CONFIRMED
LAST-MODIFIED:20260130T135524Z
DESCRIPTION:5. Liga Herren Gruppe 1\nBegegnungs-Nr: 0\nHeim: Breitenbach II\nGast: Old Boys Basel III\n\nAdresse: Grienackerweg 12\, 4226 Breitenbach\n
LOCATION:Grienackerweg 12\, 4226 Breitenbach
CATEGORIES:Saison 2025/26
END:VEVENT
BEGIN:VEVENT
DTSTAMP:20260424T165332Z
DTSTART;TZID=Europe/Berlin:20251118T200000
DTEND;TZID=Europe/Berlin:20251118T230000
SUMMARY:HE 5. Liga Gr. 1 Breitenbach II vs Rio-Star Muttenz VII (0)
UID:2af8a612-7494-4f3c-9ad9-35de93bc7cc3
STATUS:CONFIRMED
LAST-MODIFIED:20251120T083343Z
DESCRIPTION:5. Liga Herren Gruppe 1\nBegegnungs-Nr: 0\nHeim: Breitenbach II\nGast: Rio-Star Muttenz VII\n\nAdresse: Grienackerweg 12\, 4226 Breitenbach\n
LOCATION:Grienackerweg 12\, 4226 Breitenbach
CATEGORIES:Saison 2025/26
END:VEVENT
BEGIN:VEVENT
DTSTAMP:20260424T165332Z
DTSTART;TZID=Europe/Berlin:20251204T193000
DTEND;TZID=Europe/Berlin:20251204T223000
SUMMARY:HE 5. Liga Gr. 1 Münchenstein-City III vs Breitenbach II (0)
UID:d83e40c7-db85-4469-a8a7-342290a0c1bb
STATUS:CONFIRMED
LAST-MODIFIED:20251205T123404Z
DESCRIPTION:5. Liga Herren Gruppe 1\nBegegnungs-Nr: 0\nHeim: Münchenstein-City III\nGast: Breitenbach II\n\nAdresse: Gruthweg 8\, 4142 Münchenstein\n
LOCATION:Gruthweg 8\, 4142 Münchenstein
CATEGORIES:Saison 2025/26
END:VEVENT
BEGIN:VEVENT
DTSTAMP:20260424T165332Z
DTSTART;TZID=Europe/Berlin:20250905T200000
DTEND;TZID=Europe/Berlin:20250905T230000
SUMMARY:HE 5. Liga Gr. 1 Old Boys Basel III vs Breitenbach II (0)
UID:cfc2a268-62cc-44b2-ba97-a761ac8ab19c
STATUS:CONFIRMED
LAST-MODIFIED:20250918T095216Z
DESCRIPTION:5. Liga Herren Gruppe 1\nBegegnungs-Nr: 0\nHeim: Old Boys Basel III\nGast: Breitenbach II\n\nAdresse: 5 Rue Saint-Exupéry\, \, 683020 St. Louis\n
LOCATION:5 Rue Saint-Exupéry\, \, 683020 St. Louis
CATEGORIES:Saison 2025/26
END:VEVENT
BEGIN:VEVENT
DTSTAMP:20260424T165332Z
DTSTART;TZID=Europe/Berlin:20251024T193000
DTEND;TZID=Europe/Berlin:20251024T223000
SUMMARY:HE 5. Liga Gr. 1 Copains Birsfelden IV vs Breitenbach II (0)
UID:7f5ca69a-f72c-49ea-8cec-ce56377d920f
STATUS:CONFIRMED
LAST-MODIFIED:20251029T095358Z
DESCRIPTION:5. Liga Herren Gruppe 1\nBegegnungs-Nr: 0\nHeim: Copains Birsfelden IV\nGast: Breitenbach II\n\nAdresse: Wartenbergstrasse (Hintereingang)\, 4127 Birsfelden\n
LOCATION:Wartenbergstrasse (Hintereingang)\, 4127 Birsfelden
CATEGORIES:Saison 2025/26
END:VEVENT
BEGIN:VEVENT
DTSTAMP:20260424T165332Z
DTSTART;TZID=Europe/Berlin:20251029T193000
DTEND;TZID=Europe/Berlin:20251029T223000
SUMMARY:HE 5. Liga Gr. 1 Pratteln II vs Breitenbach II (0)
UID:73e03be4-439a-4cbf-b4de-91a1a2f4ef09
STATUS:CONFIRMED
LAST-MODIFIED:20251031T143225Z
DESCRIPTION:5. Liga Herren Gruppe 1\nBegegnungs-Nr: 0\nHeim: Pratteln II\nGast: Breitenbach II\n\nAdresse: Erliweg 16\, 4133 Pratteln\n
LOCATION:Erliweg 16\, 4133 Pratteln
CATEGORIES:Saison 2025/26
END:VEVENT
BEGIN:VEVENT
DTSTAMP:20260424T165332Z
DTSTART;TZID=Europe/Berlin:20260313T193000
DTEND;TZID=Europe/Berlin:20260313T223000
SUMMARY:HE 5. Liga Gr. 1 Rio-Star Muttenz VII vs Breitenbach II (0)
UID:1233ab4d-d18d-46f1-8ee7-0dee9f8fa607
STATUS:CONFIRMED
LAST-MODIFIED:20260420T134014Z
DESCRIPTION:5. Liga Herren Gruppe 1\nBegegnungs-Nr: 0\nHeim: Rio-Star Muttenz VII\nGast: Breitenbach II\n\nAdresse: Gründenstrasse 32\, 4132 Muttenz\n
LOCATION:Gründenstrasse 32\, 4132 Muttenz
CATEGORIES:Saison 2025/26
END:VEVENT
BEGIN:VEVENT
DTSTAMP:20260424T165332Z
DTSTART;TZID=Europe/Berlin:20260129T194500
DTEND;TZID=Europe/Berlin:20260129T224500
SUMMARY:HE 5. Liga Gr. 1 Binningen III vs Breitenbach II (0)
UID:e22a3b23-5e84-48b1-8b2f-06873e7b4578
STATUS:CONFIRMED
LAST-MODIFIED:20260130T133342Z
DESCRIPTION:5. Liga Herren Gruppe 1\nBegegnungs-Nr: 0\nHeim: Binningen III\nGast: Breitenbach II\n\nAdresse: Rottmannsbodenstr./Neusatzweg\, 4102 Binningen\n
LOCATION:Rottmannsbodenstr./Neusatzweg\, 4102 Binningen
CATEGORIES:Saison 2025/26
END:VEVENT
BEGIN:VEVENT
DTSTAMP:20260424T165332Z
DTSTART;TZID=Europe/Berlin:20251219T200000
DTEND;TZID=Europe/Berlin:20251219T230000
SUMMARY:HE 5. Liga Gr. 1 Basel X vs Breitenbach II (0)
UID:2390aa50-df94-4955-a2fb-89e66ee6087d
STATUS:CONFIRMED
LAST-MODIFIED:20260130T141509Z
DESCRIPTION:5. Liga Herren Gruppe 1\nBegegnungs-Nr: 0\nHeim: Basel X\nGast: Breitenbach II\n\nAdresse: Schwarzwaldallee 107\, 4058 Basel\n
LOCATION:Schwarzwaldallee 107\, 4058 Basel
CATEGORIES:Saison 2025/26
END:VEVENT
END:VCALENDAR
