BEGIN:VCALENDAR
PRODID:-//nuDatenautomaten//framework iCal4j //DE
VERSION:2.0
CALSCALE:GREGORIAN
BEGIN:VTIMEZONE
TZID:Europe/Berlin
LAST-MODIFIED:20260306T231828Z
TZURL:https://www.tzurl.org/zoneinfo/Europe/Berlin
X-LIC-LOCATION:Europe/Berlin
X-PROLEPTIC-TZNAME:LMT
BEGIN:STANDARD
TZNAME:CET
TZOFFSETFROM:+005328
TZOFFSETTO:+0100
DTSTART:18930401T000000
END:STANDARD
BEGIN:DAYLIGHT
TZNAME:CEST
TZOFFSETFROM:+0100
TZOFFSETTO:+0200
DTSTART:19160430T230000
RDATE:19400401T020000
RDATE:19430329T020000
RDATE:19460414T020000
RDATE:19470406T030000
RDATE:19480418T020000
RDATE:19490410T020000
RDATE:19800406T020000
END:DAYLIGHT
BEGIN:STANDARD
TZNAME:CET
TZOFFSETFROM:+0200
TZOFFSETTO:+0100
DTSTART:19161001T010000
RDATE:19421102T030000
RDATE:19431004T030000
RDATE:19441002T030000
RDATE:19451118T030000
RDATE:19461007T030000
END:STANDARD
BEGIN:DAYLIGHT
TZNAME:CEST
TZOFFSETFROM:+0100
TZOFFSETTO:+0200
DTSTART:19170416T020000
RRULE:FREQ=YEARLY;UNTIL=19180415T010000Z;BYMONTH=4;BYDAY=3MO
END:DAYLIGHT
BEGIN:STANDARD
TZNAME:CET
TZOFFSETFROM:+0200
TZOFFSETTO:+0100
DTSTART:19170917T030000
RRULE:FREQ=YEARLY;UNTIL=19180916T010000Z;BYMONTH=9;BYDAY=3MO
END:STANDARD
BEGIN:DAYLIGHT
TZNAME:CEST
TZOFFSETFROM:+0100
TZOFFSETTO:+0200
DTSTART:19440403T020000
RRULE:FREQ=YEARLY;UNTIL=19450402T010000Z;BYMONTH=4;BYDAY=1MO
END:DAYLIGHT
BEGIN:DAYLIGHT
TZNAME:CEMT
TZOFFSETFROM:+0200
TZOFFSETTO:+0300
DTSTART:19450524T020000
RDATE:19470511T030000
END:DAYLIGHT
BEGIN:DAYLIGHT
TZNAME:CEST
TZOFFSETFROM:+0300
TZOFFSETTO:+0200
DTSTART:19450924T030000
RDATE:19470629T030000
END:DAYLIGHT
BEGIN:STANDARD
TZNAME:CET
TZOFFSETFROM:+0100
TZOFFSETTO:+0100
DTSTART:19460101T000000
RDATE:19800101T000000
END:STANDARD
BEGIN:STANDARD
TZNAME:CET
TZOFFSETFROM:+0200
TZOFFSETTO:+0100
DTSTART:19471005T030000
RRULE:FREQ=YEARLY;UNTIL=19491002T010000Z;BYMONTH=10;BYDAY=1SU
END:STANDARD
BEGIN:STANDARD
TZNAME:CET
TZOFFSETFROM:+0200
TZOFFSETTO:+0100
DTSTART:19800928T030000
RRULE:FREQ=YEARLY;UNTIL=19950924T010000Z;BYMONTH=9;BYDAY=-1SU
END:STANDARD
BEGIN:DAYLIGHT
TZNAME:CEST
TZOFFSETFROM:+0100
TZOFFSETTO:+0200
DTSTART:19810329T020000
RRULE:FREQ=YEARLY;BYMONTH=3;BYDAY=-1SU
END:DAYLIGHT
BEGIN:STANDARD
TZNAME:CET
TZOFFSETFROM:+0200
TZOFFSETTO:+0100
DTSTART:19961027T030000
RRULE:FREQ=YEARLY;BYMONTH=10;BYDAY=-1SU
END:STANDARD
END:VTIMEZONE
BEGIN:VEVENT
DTSTAMP:20260424T044417Z
DTSTART;TZID=Europe/Berlin:20251206T130000
DTEND;TZID=Europe/Berlin:20251206T160000
SUMMARY:DA NLB Gr. 1 Rapid Luzern vs Thun (14)
UID:cb07dce0-52c9-4b3d-937b-56480a8d9b92
STATUS:CONFIRMED
LAST-MODIFIED:20251209T095011Z
DESCRIPTION:Damen Nationalliga B Gruppe 1\nBegegnungs-Nr: 14\nHeim: Rapid Luzern\nGast: Thun\n\nAdresse: Kreuzbuchstr. 60\, 6006 Luzern\n
LOCATION:Kreuzbuchstr. 60\, 6006 Luzern
CATEGORIES:Saison 2025/26
END:VEVENT
BEGIN:VEVENT
DTSTAMP:20260424T044417Z
DTSTART;TZID=Europe/Berlin:20251115T130000
DTEND;TZID=Europe/Berlin:20251115T160000
SUMMARY:DA NLB Gr. 1 Rapid Luzern vs Lausanne (10)
UID:e2692237-21b2-4f02-834c-45146020796c
STATUS:CONFIRMED
LAST-MODIFIED:20251117T125106Z
DESCRIPTION:Damen Nationalliga B Gruppe 1\nBegegnungs-Nr: 10\nHeim: Rapid Luzern\nGast: Lausanne\n\nAdresse: Kreuzbuchstr. 60\, 6006 Luzern\n
LOCATION:Kreuzbuchstr. 60\, 6006 Luzern
CATEGORIES:Saison 2025/26
END:VEVENT
BEGIN:VEVENT
DTSTAMP:20260424T044417Z
DTSTART;TZID=Europe/Berlin:20260110T130000
DTEND;TZID=Europe/Berlin:20260110T160000
SUMMARY:DA NLB Gr. 1 Rapid Luzern vs ZZ-Lancy II (3)
UID:27f87e2a-f089-431c-a42c-9e32ede32143
STATUS:CONFIRMED
LAST-MODIFIED:20260112T203456Z
DESCRIPTION:Damen Nationalliga B Gruppe 1\nBegegnungs-Nr: 3\nHeim: Rapid Luzern\nGast: ZZ-Lancy II\n\nAdresse: Kreuzbuchstr. 60\, 6006 Luzern\n
LOCATION:Kreuzbuchstr. 60\, 6006 Luzern
CATEGORIES:Saison 2025/26
END:VEVENT
BEGIN:VEVENT
DTSTAMP:20260424T044417Z
DTSTART;TZID=Europe/Berlin:20260221T130000
DTEND;TZID=Europe/Berlin:20260221T160000
SUMMARY:DA NLB Gr. 1 Rapid Luzern vs Martigny (9)
UID:a40bb530-a532-4f72-baa4-cff971e9430a
STATUS:CONFIRMED
LAST-MODIFIED:20260223T153748Z
DESCRIPTION:Damen Nationalliga B Gruppe 1\nBegegnungs-Nr: 9\nHeim: Rapid Luzern\nGast: Martigny\n\nAdresse: Kreuzbuchstr. 60\, 6006 Luzern\n
LOCATION:Kreuzbuchstr. 60\, 6006 Luzern
CATEGORIES:Saison 2025/26
END:VEVENT
BEGIN:VEVENT
DTSTAMP:20260424T044417Z
DTSTART;TZID=Europe/Berlin:20260131T130000
DTEND;TZID=Europe/Berlin:20260131T160000
SUMMARY:DA NLB Gr. 1 Rapid Luzern vs Châtelaine (6)
UID:7157db71-af1b-4d1b-af35-9eda85410c3e
STATUS:CONFIRMED
LAST-MODIFIED:20260203T081800Z
DESCRIPTION:Damen Nationalliga B Gruppe 1\nBegegnungs-Nr: 6\nHeim: Rapid Luzern\nGast: Châtelaine\n\nAdresse: Kreuzbuchstr. 60\, 6006 Luzern\n
LOCATION:Kreuzbuchstr. 60\, 6006 Luzern
CATEGORIES:Saison 2025/26
END:VEVENT
BEGIN:VEVENT
DTSTAMP:20260424T044417Z
DTSTART;TZID=Europe/Berlin:20250913T150000
DTEND;TZID=Europe/Berlin:20250913T180000
SUMMARY:DA NLB Gr. 1 ZZ-Lancy II vs Rapid Luzern (3)
UID:48523e79-f731-4614-9487-7b6004c861da
STATUS:CONFIRMED
LAST-MODIFIED:20250918T121121Z
DESCRIPTION:Damen Nationalliga B Gruppe 1\nBegegnungs-Nr: 3\nHeim: ZZ-Lancy II\nGast: Rapid Luzern\n\nAdresse: Avenue du Curé-Baud 40\, 1212 Grand-Lancy\n
LOCATION:Avenue du Curé-Baud 40\, 1212 Grand-Lancy
CATEGORIES:Saison 2025/26
END:VEVENT
BEGIN:VEVENT
DTSTAMP:20260424T044417Z
DTSTART;TZID=Europe/Berlin:20250921T140000
DTEND;TZID=Europe/Berlin:20250921T170000
SUMMARY:DA NLB Gr. 1 Châtelaine vs Rapid Luzern (6)
UID:a6414eaf-b564-40bc-b9b6-7c2bbc7c2f3c
STATUS:CONFIRMED
LAST-MODIFIED:20250922T074135Z
DESCRIPTION:Damen Nationalliga B Gruppe 1\nBegegnungs-Nr: 6\nHeim: Châtelaine\nGast: Rapid Luzern\n\nAdresse: Route de la Gare de Satigny 27A\, 1242 Satigny \n
LOCATION:Route de la Gare de Satigny 27A\, 1242 Satigny 
CATEGORIES:Saison 2025/26
END:VEVENT
BEGIN:VEVENT
DTSTAMP:20260424T044417Z
DTSTART;TZID=Europe/Berlin:20251025T170000
DTEND;TZID=Europe/Berlin:20251025T200000
SUMMARY:DA NLB Gr. 1 Martigny vs Rapid Luzern (9)
UID:27661d90-d153-4c8e-a458-dcc18adea33c
STATUS:CONFIRMED
LAST-MODIFIED:20251029T082127Z
DESCRIPTION:Damen Nationalliga B Gruppe 1\nBegegnungs-Nr: 9\nHeim: Martigny\nGast: Rapid Luzern\n\nAdresse: Rue des Ecoles 9\, 1920 Martigny\n
LOCATION:Rue des Ecoles 9\, 1920 Martigny
CATEGORIES:Saison 2025/26
END:VEVENT
BEGIN:VEVENT
DTSTAMP:20260424T044417Z
DTSTART;TZID=Europe/Berlin:20260320T193000
DTEND;TZID=Europe/Berlin:20260320T223000
SUMMARY:DA NLB Gr. 1 Thun vs Rapid Luzern (14)
UID:28a2f476-7c03-41b5-ab82-eac3de84ed65
STATUS:CONFIRMED
LAST-MODIFIED:20260327T074737Z
DESCRIPTION:Damen Nationalliga B Gruppe 1\nBegegnungs-Nr: 14\nHeim: Thun\nGast: Rapid Luzern\n\nAdresse: Hallerstrasse 28\, 3604 Thun\n
LOCATION:Hallerstrasse 28\, 3604 Thun
CATEGORIES:Saison 2025/26
END:VEVENT
BEGIN:VEVENT
DTSTAMP:20260424T044417Z
DTSTART;TZID=Europe/Berlin:20260307T120000
DTEND;TZID=Europe/Berlin:20260307T150000
SUMMARY:DA NLB Gr. 1 Lausanne vs Rapid Luzern (10)
UID:df07d09a-5572-4be3-93f8-97e42b70a6dc
STATUS:CONFIRMED
LAST-MODIFIED:20260310T065023Z
DESCRIPTION:Damen Nationalliga B Gruppe 1\nBegegnungs-Nr: 10\nHeim: Lausanne\nGast: Rapid Luzern\n\nAdresse: Vaudoise Aréna\, Ch. du Viaduc 14\, 1008 Prilly\n
LOCATION:Vaudoise Aréna\, Ch. du Viaduc 14\, 1008 Prilly
CATEGORIES:Saison 2025/26
END:VEVENT
END:VCALENDAR
