BEGIN:VCALENDAR
PRODID:-//nuDatenautomaten//framework iCal4j //DE
VERSION:2.0
CALSCALE:GREGORIAN
BEGIN:VTIMEZONE
TZID:Europe/Berlin
LAST-MODIFIED:20260306T231828Z
TZURL:https://www.tzurl.org/zoneinfo/Europe/Berlin
X-LIC-LOCATION:Europe/Berlin
X-PROLEPTIC-TZNAME:LMT
BEGIN:STANDARD
TZNAME:CET
TZOFFSETFROM:+005328
TZOFFSETTO:+0100
DTSTART:18930401T000000
END:STANDARD
BEGIN:DAYLIGHT
TZNAME:CEST
TZOFFSETFROM:+0100
TZOFFSETTO:+0200
DTSTART:19160430T230000
RDATE:19400401T020000
RDATE:19430329T020000
RDATE:19460414T020000
RDATE:19470406T030000
RDATE:19480418T020000
RDATE:19490410T020000
RDATE:19800406T020000
END:DAYLIGHT
BEGIN:STANDARD
TZNAME:CET
TZOFFSETFROM:+0200
TZOFFSETTO:+0100
DTSTART:19161001T010000
RDATE:19421102T030000
RDATE:19431004T030000
RDATE:19441002T030000
RDATE:19451118T030000
RDATE:19461007T030000
END:STANDARD
BEGIN:DAYLIGHT
TZNAME:CEST
TZOFFSETFROM:+0100
TZOFFSETTO:+0200
DTSTART:19170416T020000
RRULE:FREQ=YEARLY;UNTIL=19180415T010000Z;BYMONTH=4;BYDAY=3MO
END:DAYLIGHT
BEGIN:STANDARD
TZNAME:CET
TZOFFSETFROM:+0200
TZOFFSETTO:+0100
DTSTART:19170917T030000
RRULE:FREQ=YEARLY;UNTIL=19180916T010000Z;BYMONTH=9;BYDAY=3MO
END:STANDARD
BEGIN:DAYLIGHT
TZNAME:CEST
TZOFFSETFROM:+0100
TZOFFSETTO:+0200
DTSTART:19440403T020000
RRULE:FREQ=YEARLY;UNTIL=19450402T010000Z;BYMONTH=4;BYDAY=1MO
END:DAYLIGHT
BEGIN:DAYLIGHT
TZNAME:CEMT
TZOFFSETFROM:+0200
TZOFFSETTO:+0300
DTSTART:19450524T020000
RDATE:19470511T030000
END:DAYLIGHT
BEGIN:DAYLIGHT
TZNAME:CEST
TZOFFSETFROM:+0300
TZOFFSETTO:+0200
DTSTART:19450924T030000
RDATE:19470629T030000
END:DAYLIGHT
BEGIN:STANDARD
TZNAME:CET
TZOFFSETFROM:+0100
TZOFFSETTO:+0100
DTSTART:19460101T000000
RDATE:19800101T000000
END:STANDARD
BEGIN:STANDARD
TZNAME:CET
TZOFFSETFROM:+0200
TZOFFSETTO:+0100
DTSTART:19471005T030000
RRULE:FREQ=YEARLY;UNTIL=19491002T010000Z;BYMONTH=10;BYDAY=1SU
END:STANDARD
BEGIN:STANDARD
TZNAME:CET
TZOFFSETFROM:+0200
TZOFFSETTO:+0100
DTSTART:19800928T030000
RRULE:FREQ=YEARLY;UNTIL=19950924T010000Z;BYMONTH=9;BYDAY=-1SU
END:STANDARD
BEGIN:DAYLIGHT
TZNAME:CEST
TZOFFSETFROM:+0100
TZOFFSETTO:+0200
DTSTART:19810329T020000
RRULE:FREQ=YEARLY;BYMONTH=3;BYDAY=-1SU
END:DAYLIGHT
BEGIN:STANDARD
TZNAME:CET
TZOFFSETFROM:+0200
TZOFFSETTO:+0100
DTSTART:19961027T030000
RRULE:FREQ=YEARLY;BYMONTH=10;BYDAY=-1SU
END:STANDARD
END:VTIMEZONE
BEGIN:VEVENT
DTSTAMP:20260424T115001Z
DTSTART;TZID=Europe/Berlin:20250906T130000
DTEND;TZID=Europe/Berlin:20250906T160000
SUMMARY:J L2 Gr1\, Tours 1&2 Bulle vs Lausanne IV (6)
UID:762b1906-e8d1-4bd4-a4b7-2a08c978a5ea
STATUS:CONFIRMED
LAST-MODIFIED:20250906T192329Z
DESCRIPTION:2ème ligue Jeunesse Groupe 1\, Tours 1&2\nBegegnungs-Nr: 6\nHeim: Bulle\nGast: Lausanne IV\n\nAdresse: Rue du Stade 50\, 1630 Bulle\n
LOCATION:Rue du Stade 50\, 1630 Bulle
CATEGORIES:Saison 2025/26
END:VEVENT
BEGIN:VEVENT
DTSTAMP:20260424T115001Z
DTSTART;TZID=Europe/Berlin:20251122T150000
DTEND;TZID=Europe/Berlin:20251122T180000
SUMMARY:J L2 Gr1\, Tours 1&2 Bulle vs Vevey (10)
UID:d71e3c11-ff81-4a6a-9769-b02db2035be4
STATUS:CONFIRMED
LAST-MODIFIED:20251123T123301Z
DESCRIPTION:2ème ligue Jeunesse Groupe 1\, Tours 1&2\nBegegnungs-Nr: 10\nHeim: Bulle\nGast: Vevey\n\nAdresse: Rue du Stade 50\, 1630 Bulle\n
LOCATION:Rue du Stade 50\, 1630 Bulle
CATEGORIES:Saison 2025/26
END:VEVENT
BEGIN:VEVENT
DTSTAMP:20260424T115001Z
DTSTART;TZID=Europe/Berlin:20251122T100000
DTEND;TZID=Europe/Berlin:20251122T130000
SUMMARY:J L2 Gr1\, Tours 1&2 Bulle vs Mézières (8)
UID:5ac1ef7d-237c-44e0-8c05-279fedb120f8
STATUS:CONFIRMED
LAST-MODIFIED:20251123T123232Z
DESCRIPTION:2ème ligue Jeunesse Groupe 1\, Tours 1&2\nBegegnungs-Nr: 8\nHeim: Bulle\nGast: Mézières\n\nAdresse: Rue du Stade 50\, 1630 Bulle\n
LOCATION:Rue du Stade 50\, 1630 Bulle
CATEGORIES:Saison 2025/26
END:VEVENT
BEGIN:VEVENT
DTSTAMP:20260424T115001Z
DTSTART;TZID=Europe/Berlin:20260117T150000
DTEND;TZID=Europe/Berlin:20260117T180000
SUMMARY:J L2 Gr1\, Tours 3&4 Bulle vs Collombey/Muraz (6)
UID:dc64cf5a-f246-47bf-b9d3-8f59878f6cec
STATUS:CONFIRMED
LAST-MODIFIED:20260117T205417Z
DESCRIPTION:2ème ligue Jeunesse Groupe 1\, Tours 3&4\nBegegnungs-Nr: 6\nHeim: Bulle\nGast: Collombey/Muraz\n\nAdresse: Rue du Stade 50\, 1630 Bulle\n
LOCATION:Rue du Stade 50\, 1630 Bulle
CATEGORIES:Saison 2025/26
END:VEVENT
BEGIN:VEVENT
DTSTAMP:20260424T115001Z
DTSTART;TZID=Europe/Berlin:20260228T100000
DTEND;TZID=Europe/Berlin:20260228T130000
SUMMARY:J L2 Gr1\, Tours 3&4 Bulle vs Yverdon (7)
UID:287570a9-0842-44c5-a065-69b02b299b86
STATUS:CONFIRMED
LAST-MODIFIED:20260228T130622Z
DESCRIPTION:2ème ligue Jeunesse Groupe 1\, Tours 3&4\nBegegnungs-Nr: 7\nHeim: Bulle\nGast: Yverdon\n\nAdresse: Rue du Stade 50\, 1630 Bulle\n
LOCATION:Rue du Stade 50\, 1630 Bulle
CATEGORIES:Saison 2025/26
END:VEVENT
BEGIN:VEVENT
DTSTAMP:20260424T115001Z
DTSTART;TZID=Europe/Berlin:20260228T130000
DTEND;TZID=Europe/Berlin:20260228T160000
SUMMARY:J L2 Gr1\, Tours 3&4 Bulle vs Vevey II (9)
UID:f092f209-9412-497c-b131-ea8fd5e7e9eb
STATUS:CONFIRMED
LAST-MODIFIED:20260301T135537Z
DESCRIPTION:2ème ligue Jeunesse Groupe 1\, Tours 3&4\nBegegnungs-Nr: 9\nHeim: Bulle\nGast: Vevey II\n\nAdresse: Rue du Stade 50\, 1630 Bulle\n
LOCATION:Rue du Stade 50\, 1630 Bulle
CATEGORIES:Saison 2025/26
END:VEVENT
BEGIN:VEVENT
DTSTAMP:20260424T115001Z
DTSTART;TZID=Europe/Berlin:20250906T150000
DTEND;TZID=Europe/Berlin:20250906T180000
SUMMARY:J L2 Gr1\, Tours 1&2 Vevey vs Bulle (4)
UID:b4d8e827-0295-4432-9877-d2fe5727dd8d
STATUS:CONFIRMED
LAST-MODIFIED:20250910T231518Z
DESCRIPTION:2ème ligue Jeunesse Groupe 1\, Tours 1&2\nBegegnungs-Nr: 4\nHeim: Vevey\nGast: Bulle\n\nAdresse: Rue Louis-Meyer\, 1800 Vevey\n
LOCATION:Rue Louis-Meyer\, 1800 Vevey
CATEGORIES:Saison 2025/26
END:VEVENT
BEGIN:VEVENT
DTSTAMP:20260424T115001Z
DTSTART;TZID=Europe/Berlin:20251122T130000
DTEND;TZID=Europe/Berlin:20251122T160000
SUMMARY:J L2 Gr1\, Tours 1&2 Lausanne IV vs Bulle (12)
UID:1ac5fda7-55bd-4b8a-8627-3531863b969d
STATUS:CONFIRMED
LAST-MODIFIED:20251123T223242Z
DESCRIPTION:2ème ligue Jeunesse Groupe 1\, Tours 1&2\nBegegnungs-Nr: 12\nHeim: Lausanne IV\nGast: Bulle\n\nAdresse: Vaudoise Aréna\, Ch. du Viaduc 14\, 1008 Prilly\n
LOCATION:Vaudoise Aréna\, Ch. du Viaduc 14\, 1008 Prilly
CATEGORIES:Saison 2025/26
END:VEVENT
BEGIN:VEVENT
DTSTAMP:20260424T115001Z
DTSTART;TZID=Europe/Berlin:20250906T100000
DTEND;TZID=Europe/Berlin:20250906T130000
SUMMARY:J L2 Gr1\, Tours 1&2 Mézières vs Bulle (2)
UID:821cc08e-f6d1-43c4-adbd-71ea2b01eeee
STATUS:CONFIRMED
LAST-MODIFIED:20250910T231456Z
DESCRIPTION:2ème ligue Jeunesse Groupe 1\, Tours 1&2\nBegegnungs-Nr: 2\nHeim: Mézières\nGast: Bulle\n\nAdresse: -\, 1083 Mézières\n
LOCATION:-\, 1083 Mézières
CATEGORIES:Saison 2025/26
END:VEVENT
BEGIN:VEVENT
DTSTAMP:20260424T115001Z
DTSTART;TZID=Europe/Berlin:20260425T090000
DTEND;TZID=Europe/Berlin:20260425T120000
SUMMARY:J Finales\, Tour 5.1 Lausanne II vs Bulle (15)
UID:0cf27458-e8b0-4a63-aa17-10a5d6fb4847
STATUS:CONFIRMED
LAST-MODIFIED:20260324T143525Z
DESCRIPTION:Tour final Jeunesse - Tour 5 (1)\nBegegnungs-Nr: 15\nHeim: Lausanne II\nGast: Bulle\n
LOCATION:
CATEGORIES:Saison 2025/26
END:VEVENT
BEGIN:VEVENT
DTSTAMP:20260424T115001Z
DTSTART;TZID=Europe/Berlin:20260117T130000
DTEND;TZID=Europe/Berlin:20260117T160000
SUMMARY:J L2 Gr1\, Tours 3&4 Vevey II vs Bulle (3)
UID:ddc236fa-e013-4093-b4fe-7e78c5827d80
STATUS:CONFIRMED
LAST-MODIFIED:20260217T141510Z
DESCRIPTION:2ème ligue Jeunesse Groupe 1\, Tours 3&4\nBegegnungs-Nr: 3\nHeim: Vevey II\nGast: Bulle\n\nAdresse: Rue Louis-Meyer\, 1800 Vevey\n
LOCATION:Rue Louis-Meyer\, 1800 Vevey
CATEGORIES:Saison 2025/26
END:VEVENT
BEGIN:VEVENT
DTSTAMP:20260424T115001Z
DTSTART;TZID=Europe/Berlin:20260117T100000
DTEND;TZID=Europe/Berlin:20260117T130000
SUMMARY:J L2 Gr1\, Tours 3&4 Yverdon vs Bulle (1)
UID:27e10c32-bbff-44f3-b29a-b83cf48d9fce
STATUS:CONFIRMED
LAST-MODIFIED:20260117T181602Z
DESCRIPTION:2ème ligue Jeunesse Groupe 1\, Tours 3&4\nBegegnungs-Nr: 1\nHeim: Yverdon\nGast: Bulle\n\nAdresse: Avenue des Quatre Marroniers 1\, 1400 Yverdon-les-Bains\n
LOCATION:Avenue des Quatre Marroniers 1\, 1400 Yverdon-les-Bains
CATEGORIES:Saison 2025/26
END:VEVENT
BEGIN:VEVENT
DTSTAMP:20260424T115001Z
DTSTART;TZID=Europe/Berlin:20260228T150000
DTEND;TZID=Europe/Berlin:20260228T180000
SUMMARY:J L2 Gr1\, Tours 3&4 Collombey/Muraz vs Bulle (12)
UID:eb554b73-ea57-4001-8a23-66fd3fe2f48d
STATUS:CONFIRMED
LAST-MODIFIED:20260301T135607Z
DESCRIPTION:2ème ligue Jeunesse Groupe 1\, Tours 3&4\nBegegnungs-Nr: 12\nHeim: Collombey/Muraz\nGast: Bulle\n\nAdresse: Route du Montagnier 81\, 1868 Collombey\n
LOCATION:Route du Montagnier 81\, 1868 Collombey
CATEGORIES:Saison 2025/26
END:VEVENT
BEGIN:VEVENT
DTSTAMP:20260424T115001Z
DTSTART;TZID=Europe/Berlin:20260425T090000
DTEND;TZID=Europe/Berlin:20260425T120000
SUMMARY:Test Lausanne II vs Bulle (15)
UID:a6ae3324-d061-472f-883c-240e70417d1e
STATUS:CONFIRMED
LAST-MODIFIED:20260324T143525Z
DESCRIPTION:Test\nBegegnungs-Nr: 15\nHeim: Lausanne II\nGast: Bulle\n
LOCATION:
CATEGORIES:Saison 2025/26
END:VEVENT
END:VCALENDAR
