BEGIN:VCALENDAR
PRODID:-//nuDatenautomaten//framework iCal4j //DE
VERSION:2.0
CALSCALE:GREGORIAN
BEGIN:VTIMEZONE
TZID:Europe/Berlin
LAST-MODIFIED:20260306T231828Z
TZURL:https://www.tzurl.org/zoneinfo/Europe/Berlin
X-LIC-LOCATION:Europe/Berlin
X-PROLEPTIC-TZNAME:LMT
BEGIN:STANDARD
TZNAME:CET
TZOFFSETFROM:+005328
TZOFFSETTO:+0100
DTSTART:18930401T000000
END:STANDARD
BEGIN:DAYLIGHT
TZNAME:CEST
TZOFFSETFROM:+0100
TZOFFSETTO:+0200
DTSTART:19160430T230000
RDATE:19400401T020000
RDATE:19430329T020000
RDATE:19460414T020000
RDATE:19470406T030000
RDATE:19480418T020000
RDATE:19490410T020000
RDATE:19800406T020000
END:DAYLIGHT
BEGIN:STANDARD
TZNAME:CET
TZOFFSETFROM:+0200
TZOFFSETTO:+0100
DTSTART:19161001T010000
RDATE:19421102T030000
RDATE:19431004T030000
RDATE:19441002T030000
RDATE:19451118T030000
RDATE:19461007T030000
END:STANDARD
BEGIN:DAYLIGHT
TZNAME:CEST
TZOFFSETFROM:+0100
TZOFFSETTO:+0200
DTSTART:19170416T020000
RRULE:FREQ=YEARLY;UNTIL=19180415T010000Z;BYMONTH=4;BYDAY=3MO
END:DAYLIGHT
BEGIN:STANDARD
TZNAME:CET
TZOFFSETFROM:+0200
TZOFFSETTO:+0100
DTSTART:19170917T030000
RRULE:FREQ=YEARLY;UNTIL=19180916T010000Z;BYMONTH=9;BYDAY=3MO
END:STANDARD
BEGIN:DAYLIGHT
TZNAME:CEST
TZOFFSETFROM:+0100
TZOFFSETTO:+0200
DTSTART:19440403T020000
RRULE:FREQ=YEARLY;UNTIL=19450402T010000Z;BYMONTH=4;BYDAY=1MO
END:DAYLIGHT
BEGIN:DAYLIGHT
TZNAME:CEMT
TZOFFSETFROM:+0200
TZOFFSETTO:+0300
DTSTART:19450524T020000
RDATE:19470511T030000
END:DAYLIGHT
BEGIN:DAYLIGHT
TZNAME:CEST
TZOFFSETFROM:+0300
TZOFFSETTO:+0200
DTSTART:19450924T030000
RDATE:19470629T030000
END:DAYLIGHT
BEGIN:STANDARD
TZNAME:CET
TZOFFSETFROM:+0100
TZOFFSETTO:+0100
DTSTART:19460101T000000
RDATE:19800101T000000
END:STANDARD
BEGIN:STANDARD
TZNAME:CET
TZOFFSETFROM:+0200
TZOFFSETTO:+0100
DTSTART:19471005T030000
RRULE:FREQ=YEARLY;UNTIL=19491002T010000Z;BYMONTH=10;BYDAY=1SU
END:STANDARD
BEGIN:STANDARD
TZNAME:CET
TZOFFSETFROM:+0200
TZOFFSETTO:+0100
DTSTART:19800928T030000
RRULE:FREQ=YEARLY;UNTIL=19950924T010000Z;BYMONTH=9;BYDAY=-1SU
END:STANDARD
BEGIN:DAYLIGHT
TZNAME:CEST
TZOFFSETFROM:+0100
TZOFFSETTO:+0200
DTSTART:19810329T020000
RRULE:FREQ=YEARLY;BYMONTH=3;BYDAY=-1SU
END:DAYLIGHT
BEGIN:STANDARD
TZNAME:CET
TZOFFSETFROM:+0200
TZOFFSETTO:+0100
DTSTART:19961027T030000
RRULE:FREQ=YEARLY;BYMONTH=10;BYDAY=-1SU
END:STANDARD
END:VTIMEZONE
BEGIN:VEVENT
DTSTAMP:20260424T135223Z
DTSTART;TZID=Europe/Berlin:20260121T200000
DTEND;TZID=Europe/Berlin:20260121T230000
SUMMARY:HE 6. Liga Gr. 2 Kreuzlingen II vs Romanshorn V (0)
UID:5003dff8-479f-46ab-a92a-99a080e0754c
STATUS:CONFIRMED
LAST-MODIFIED:20260123T082719Z
DESCRIPTION:6. Liga Herren Gruppe 2\nBegegnungs-Nr: 0\nHeim: Kreuzlingen II\nGast: Romanshorn V\n\nAdresse: Rothausstrasse 14\, 8280 Kreuzlingen\n
LOCATION:Rothausstrasse 14\, 8280 Kreuzlingen
CATEGORIES:Saison 2025/26
END:VEVENT
BEGIN:VEVENT
DTSTAMP:20260424T135223Z
DTSTART;TZID=Europe/Berlin:20260304T200000
DTEND;TZID=Europe/Berlin:20260304T230000
SUMMARY:HE 6. Liga Gr. 2 Kreuzlingen II vs Muolen V (0)
UID:97434ea8-21fd-41dc-bfd8-702f4eef7c2d
STATUS:CONFIRMED
LAST-MODIFIED:20260313T132511Z
DESCRIPTION:6. Liga Herren Gruppe 2\nBegegnungs-Nr: 0\nHeim: Kreuzlingen II\nGast: Muolen V\n\nAdresse: Rothausstrasse 14\, 8280 Kreuzlingen\n
LOCATION:Rothausstrasse 14\, 8280 Kreuzlingen
CATEGORIES:Saison 2025/26
END:VEVENT
BEGIN:VEVENT
DTSTAMP:20260424T135223Z
DTSTART;TZID=Europe/Berlin:20260311T200000
DTEND;TZID=Europe/Berlin:20260311T230000
SUMMARY:HE 6. Liga Gr. 2 Kreuzlingen II vs Weinfelden V (0)
UID:306163e3-8baf-489d-a4ab-3ecb64393173
STATUS:CONFIRMED
LAST-MODIFIED:20260313T132538Z
DESCRIPTION:6. Liga Herren Gruppe 2\nBegegnungs-Nr: 0\nHeim: Kreuzlingen II\nGast: Weinfelden V\n\nAdresse: Rothausstrasse 14\, 8280 Kreuzlingen\n
LOCATION:Rothausstrasse 14\, 8280 Kreuzlingen
CATEGORIES:Saison 2025/26
END:VEVENT
BEGIN:VEVENT
DTSTAMP:20260424T135223Z
DTSTART;TZID=Europe/Berlin:20260415T200000
DTEND;TZID=Europe/Berlin:20260415T230000
SUMMARY:HE 6. Liga Gr. 2 Kreuzlingen II vs Wil SG VI (0)
UID:f28d60f9-414f-4764-84b9-5e2176b6c8dc
STATUS:CONFIRMED
LAST-MODIFIED:20260416T103934Z
DESCRIPTION:6. Liga Herren Gruppe 2\nBegegnungs-Nr: 0\nHeim: Kreuzlingen II\nGast: Wil SG VI\n\nAdresse: Rothausstrasse 14\, 8280 Kreuzlingen\n
LOCATION:Rothausstrasse 14\, 8280 Kreuzlingen
CATEGORIES:Saison 2025/26
END:VEVENT
BEGIN:VEVENT
DTSTAMP:20260424T135223Z
DTSTART;TZID=Europe/Berlin:20250827T200000
DTEND;TZID=Europe/Berlin:20250827T230000
SUMMARY:HE 6. Liga Gr. 2 Kreuzlingen II vs Bronschhofen V (0)
UID:5893f147-f3c7-46f8-928e-49939b633cda
STATUS:CONFIRMED
LAST-MODIFIED:20250829T144235Z
DESCRIPTION:6. Liga Herren Gruppe 2\nBegegnungs-Nr: 0\nHeim: Kreuzlingen II\nGast: Bronschhofen V\n\nAdresse: Rothausstrasse 14\, 8280 Kreuzlingen\n
LOCATION:Rothausstrasse 14\, 8280 Kreuzlingen
CATEGORIES:Saison 2025/26
END:VEVENT
BEGIN:VEVENT
DTSTAMP:20260424T135223Z
DTSTART;TZID=Europe/Berlin:20250917T200000
DTEND;TZID=Europe/Berlin:20250917T230000
SUMMARY:HE 6. Liga Gr. 2 Kreuzlingen II vs Gossau St.Gallen IV (0)
UID:6f2fc0b0-2a6f-47eb-9b63-ecab9807aafd
STATUS:CONFIRMED
LAST-MODIFIED:20250926T133030Z
DESCRIPTION:6. Liga Herren Gruppe 2\nBegegnungs-Nr: 0\nHeim: Kreuzlingen II\nGast: Gossau St.Gallen IV\n\nAdresse: Rothausstrasse 14\, 8280 Kreuzlingen\n
LOCATION:Rothausstrasse 14\, 8280 Kreuzlingen
CATEGORIES:Saison 2025/26
END:VEVENT
BEGIN:VEVENT
DTSTAMP:20260424T135223Z
DTSTART;TZID=Europe/Berlin:20251105T200000
DTEND;TZID=Europe/Berlin:20251105T230000
SUMMARY:HE 6. Liga Gr. 2 Kreuzlingen II vs St. Gallen VIII (0)
UID:0d05b440-64e2-4a38-b962-3b6703670e7f
STATUS:CONFIRMED
LAST-MODIFIED:20251107T145329Z
DESCRIPTION:6. Liga Herren Gruppe 2\nBegegnungs-Nr: 0\nHeim: Kreuzlingen II\nGast: St. Gallen VIII\n\nAdresse: Rothausstrasse 14\, 8280 Kreuzlingen\n
LOCATION:Rothausstrasse 14\, 8280 Kreuzlingen
CATEGORIES:Saison 2025/26
END:VEVENT
BEGIN:VEVENT
DTSTAMP:20260424T135223Z
DTSTART;TZID=Europe/Berlin:20260320T200000
DTEND;TZID=Europe/Berlin:20260320T230000
SUMMARY:HE 6. Liga Gr. 2 Bronschhofen V vs Kreuzlingen II (0)
UID:25ed6c12-52e6-4577-9ba7-0e6848311efa
STATUS:CONFIRMED
LAST-MODIFIED:20260326T153324Z
DESCRIPTION:6. Liga Herren Gruppe 2\nBegegnungs-Nr: 0\nHeim: Bronschhofen V\nGast: Kreuzlingen II\n\nAdresse: Schulstrasse 6\, 9552 Bronschhofen\n
LOCATION:Schulstrasse 6\, 9552 Bronschhofen
CATEGORIES:Saison 2025/26
END:VEVENT
BEGIN:VEVENT
DTSTAMP:20260424T135223Z
DTSTART;TZID=Europe/Berlin:20260129T201500
DTEND;TZID=Europe/Berlin:20260129T231500
SUMMARY:HE 6. Liga Gr. 2 Gossau St.Gallen IV vs Kreuzlingen II (0)
UID:2aa99b29-ad65-4e32-aba5-125bb80fd9e3
STATUS:CONFIRMED
LAST-MODIFIED:20260130T102753Z
DESCRIPTION:6. Liga Herren Gruppe 2\nBegegnungs-Nr: 0\nHeim: Gossau St.Gallen IV\nGast: Kreuzlingen II\n\nAdresse: Falkenstrasse 21\, 9200 Gossau\n
LOCATION:Falkenstrasse 21\, 9200 Gossau
CATEGORIES:Saison 2025/26
END:VEVENT
BEGIN:VEVENT
DTSTAMP:20260424T135223Z
DTSTART;TZID=Europe/Berlin:20260324T200000
DTEND;TZID=Europe/Berlin:20260324T230000
SUMMARY:HE 6. Liga Gr. 2 St. Gallen VIII vs Kreuzlingen II (0)
UID:5466bf2f-63ff-4990-891c-09b7adceb34d
STATUS:CONFIRMED
LAST-MODIFIED:20260326T153350Z
DESCRIPTION:6. Liga Herren Gruppe 2\nBegegnungs-Nr: 0\nHeim: St. Gallen VIII\nGast: Kreuzlingen II\n\nAdresse: Zilstrasse 61\, 9016 St.Gallen\n
LOCATION:Zilstrasse 61\, 9016 St.Gallen
CATEGORIES:Saison 2025/26
END:VEVENT
BEGIN:VEVENT
DTSTAMP:20260424T135223Z
DTSTART;TZID=Europe/Berlin:20250927T100000
DTEND;TZID=Europe/Berlin:20250927T130000
SUMMARY:HE 6. Liga Gr. 2 Muolen V vs Kreuzlingen II (0)
UID:0d1a4971-1a3b-4649-85e4-433e661916b4
STATUS:CONFIRMED
LAST-MODIFIED:20250930T124420Z
DESCRIPTION:6. Liga Herren Gruppe 2\nBegegnungs-Nr: 0\nHeim: Muolen V\nGast: Kreuzlingen II\n\nAdresse: Dorfstrasse 31\, 9313 Muolen\n
LOCATION:Dorfstrasse 31\, 9313 Muolen
CATEGORIES:Saison 2025/26
END:VEVENT
BEGIN:VEVENT
DTSTAMP:20260424T135223Z
DTSTART;TZID=Europe/Berlin:20250905T201500
DTEND;TZID=Europe/Berlin:20250905T231500
SUMMARY:HE 6. Liga Gr. 2 Romanshorn V vs Kreuzlingen II (0)
UID:9e5f2f7b-debf-46e0-b66d-c8d9abd8c0e4
STATUS:CONFIRMED
LAST-MODIFIED:20250908T140913Z
DESCRIPTION:6. Liga Herren Gruppe 2\nBegegnungs-Nr: 0\nHeim: Romanshorn V\nGast: Kreuzlingen II\n\nAdresse: Florastrasse\, 8590 Romanshorn\n
LOCATION:Florastrasse\, 8590 Romanshorn
CATEGORIES:Saison 2025/26
END:VEVENT
BEGIN:VEVENT
DTSTAMP:20260424T135223Z
DTSTART;TZID=Europe/Berlin:20251030T201500
DTEND;TZID=Europe/Berlin:20251030T231500
SUMMARY:HE 6. Liga Gr. 2 Weinfelden V vs Kreuzlingen II (0)
UID:c445507a-6734-452f-9714-256061d7e8ff
STATUS:CONFIRMED
LAST-MODIFIED:20251031T144421Z
DESCRIPTION:6. Liga Herren Gruppe 2\nBegegnungs-Nr: 0\nHeim: Weinfelden V\nGast: Kreuzlingen II\n\nAdresse: Bleichestrasse 3 (neben Hallenbad)\, 8570 Weinfelden\n
LOCATION:Bleichestrasse 3 (neben Hallenbad)\, 8570 Weinfelden
CATEGORIES:Saison 2025/26
END:VEVENT
BEGIN:VEVENT
DTSTAMP:20260424T135223Z
DTSTART;TZID=Europe/Berlin:20251210T201500
DTEND;TZID=Europe/Berlin:20251210T231500
SUMMARY:HE 6. Liga Gr. 2 Wil SG VI vs Kreuzlingen II (0)
UID:9c6d891d-e758-41d1-8744-6177cbc25c66
STATUS:CONFIRMED
LAST-MODIFIED:20251211T142355Z
DESCRIPTION:6. Liga Herren Gruppe 2\nBegegnungs-Nr: 0\nHeim: Wil SG VI\nGast: Kreuzlingen II\n\nAdresse: Lindenhofstr. 23\, 9500 Wil\n
LOCATION:Lindenhofstr. 23\, 9500 Wil
CATEGORIES:Saison 2025/26
END:VEVENT
END:VCALENDAR
