BEGIN:VCALENDAR
PRODID:-//nuDatenautomaten//framework iCal4j //DE
VERSION:2.0
CALSCALE:GREGORIAN
BEGIN:VTIMEZONE
TZID:Europe/Berlin
LAST-MODIFIED:20260306T231828Z
TZURL:https://www.tzurl.org/zoneinfo/Europe/Berlin
X-LIC-LOCATION:Europe/Berlin
X-PROLEPTIC-TZNAME:LMT
BEGIN:STANDARD
TZNAME:CET
TZOFFSETFROM:+005328
TZOFFSETTO:+0100
DTSTART:18930401T000000
END:STANDARD
BEGIN:DAYLIGHT
TZNAME:CEST
TZOFFSETFROM:+0100
TZOFFSETTO:+0200
DTSTART:19160430T230000
RDATE:19400401T020000
RDATE:19430329T020000
RDATE:19460414T020000
RDATE:19470406T030000
RDATE:19480418T020000
RDATE:19490410T020000
RDATE:19800406T020000
END:DAYLIGHT
BEGIN:STANDARD
TZNAME:CET
TZOFFSETFROM:+0200
TZOFFSETTO:+0100
DTSTART:19161001T010000
RDATE:19421102T030000
RDATE:19431004T030000
RDATE:19441002T030000
RDATE:19451118T030000
RDATE:19461007T030000
END:STANDARD
BEGIN:DAYLIGHT
TZNAME:CEST
TZOFFSETFROM:+0100
TZOFFSETTO:+0200
DTSTART:19170416T020000
RRULE:FREQ=YEARLY;UNTIL=19180415T010000Z;BYMONTH=4;BYDAY=3MO
END:DAYLIGHT
BEGIN:STANDARD
TZNAME:CET
TZOFFSETFROM:+0200
TZOFFSETTO:+0100
DTSTART:19170917T030000
RRULE:FREQ=YEARLY;UNTIL=19180916T010000Z;BYMONTH=9;BYDAY=3MO
END:STANDARD
BEGIN:DAYLIGHT
TZNAME:CEST
TZOFFSETFROM:+0100
TZOFFSETTO:+0200
DTSTART:19440403T020000
RRULE:FREQ=YEARLY;UNTIL=19450402T010000Z;BYMONTH=4;BYDAY=1MO
END:DAYLIGHT
BEGIN:DAYLIGHT
TZNAME:CEMT
TZOFFSETFROM:+0200
TZOFFSETTO:+0300
DTSTART:19450524T020000
RDATE:19470511T030000
END:DAYLIGHT
BEGIN:DAYLIGHT
TZNAME:CEST
TZOFFSETFROM:+0300
TZOFFSETTO:+0200
DTSTART:19450924T030000
RDATE:19470629T030000
END:DAYLIGHT
BEGIN:STANDARD
TZNAME:CET
TZOFFSETFROM:+0100
TZOFFSETTO:+0100
DTSTART:19460101T000000
RDATE:19800101T000000
END:STANDARD
BEGIN:STANDARD
TZNAME:CET
TZOFFSETFROM:+0200
TZOFFSETTO:+0100
DTSTART:19471005T030000
RRULE:FREQ=YEARLY;UNTIL=19491002T010000Z;BYMONTH=10;BYDAY=1SU
END:STANDARD
BEGIN:STANDARD
TZNAME:CET
TZOFFSETFROM:+0200
TZOFFSETTO:+0100
DTSTART:19800928T030000
RRULE:FREQ=YEARLY;UNTIL=19950924T010000Z;BYMONTH=9;BYDAY=-1SU
END:STANDARD
BEGIN:DAYLIGHT
TZNAME:CEST
TZOFFSETFROM:+0100
TZOFFSETTO:+0200
DTSTART:19810329T020000
RRULE:FREQ=YEARLY;BYMONTH=3;BYDAY=-1SU
END:DAYLIGHT
BEGIN:STANDARD
TZNAME:CET
TZOFFSETFROM:+0200
TZOFFSETTO:+0100
DTSTART:19961027T030000
RRULE:FREQ=YEARLY;BYMONTH=10;BYDAY=-1SU
END:STANDARD
END:VTIMEZONE
BEGIN:VEVENT
DTSTAMP:20260424T135909Z
DTSTART;TZID=Europe/Berlin:20250912T201500
DTEND;TZID=Europe/Berlin:20250912T231500
SUMMARY:L3P1 Delémont III vs Omega III (0)
UID:cde9c4db-a010-4a78-9432-56339b846a3a
STATUS:CONFIRMED
LAST-MODIFIED:20250915T072058Z
DESCRIPTION:Ligue 3 phase 1\nBegegnungs-Nr: 0\nHeim: Delémont III\nGast: Omega III\n\nAdresse: Rue de la Blancherie 4\, 2800 Delémont\n
LOCATION:Rue de la Blancherie 4\, 2800 Delémont
CATEGORIES:Saison 2025/26
END:VEVENT
BEGIN:VEVENT
DTSTAMP:20260424T135909Z
DTSTART;TZID=Europe/Berlin:20251114T201500
DTEND;TZID=Europe/Berlin:20251114T231500
SUMMARY:L3P1 Delémont III vs Hauterive (0)
UID:1294afa6-d045-450a-991c-4448d2d28d65
STATUS:CONFIRMED
LAST-MODIFIED:20251115T085953Z
DESCRIPTION:Ligue 3 phase 1\nBegegnungs-Nr: 0\nHeim: Delémont III\nGast: Hauterive\n\nAdresse: Rue de la Blancherie 4\, 2800 Delémont\n
LOCATION:Rue de la Blancherie 4\, 2800 Delémont
CATEGORIES:Saison 2025/26
END:VEVENT
BEGIN:VEVENT
DTSTAMP:20260424T135909Z
DTSTART;TZID=Europe/Berlin:20251010T201500
DTEND;TZID=Europe/Berlin:20251010T231500
SUMMARY:L3P1 Delémont III vs Le Locle II (0)
UID:9427dbbb-032c-4ae9-82d0-a30608d6b8f7
STATUS:CONFIRMED
LAST-MODIFIED:20251011T072610Z
DESCRIPTION:Ligue 3 phase 1\nBegegnungs-Nr: 0\nHeim: Delémont III\nGast: Le Locle II\n\nAdresse: Rue de la Blancherie 4\, 2800 Delémont\n
LOCATION:Rue de la Blancherie 4\, 2800 Delémont
CATEGORIES:Saison 2025/26
END:VEVENT
BEGIN:VEVENT
DTSTAMP:20260424T135909Z
DTSTART;TZID=Europe/Berlin:20260123T201500
DTEND;TZID=Europe/Berlin:20260123T231500
SUMMARY:L2P2 Delémont III vs Entente Pongiste Neuchâteloise III (0)
UID:4aa60ce9-1f67-456a-aa4d-97fc7ef8b60e
STATUS:CONFIRMED
LAST-MODIFIED:20260126T180346Z
DESCRIPTION:Ligue 2 phase 2\nBegegnungs-Nr: 0\nHeim: Delémont III\nGast: Entente Pongiste Neuchâteloise III\n\nAdresse: Rue de la Blancherie 4\, 2800 Delémont\n
LOCATION:Rue de la Blancherie 4\, 2800 Delémont
CATEGORIES:Saison 2025/26
END:VEVENT
BEGIN:VEVENT
DTSTAMP:20260424T135909Z
DTSTART;TZID=Europe/Berlin:20260320T201500
DTEND;TZID=Europe/Berlin:20260320T231500
SUMMARY:L2P2 Delémont III vs Cortaillod III (0)
UID:15086fee-da2e-46f4-b806-c67b2ffb0104
STATUS:CONFIRMED
LAST-MODIFIED:20260331T150007Z
DESCRIPTION:Ligue 2 phase 2\nBegegnungs-Nr: 0\nHeim: Delémont III\nGast: Cortaillod III\n\nAdresse: Rue de la Blancherie 4\, 2800 Delémont\n
LOCATION:Rue de la Blancherie 4\, 2800 Delémont
CATEGORIES:Saison 2025/26
END:VEVENT
BEGIN:VEVENT
DTSTAMP:20260424T135909Z
DTSTART;TZID=Europe/Berlin:20260327T201500
DTEND;TZID=Europe/Berlin:20260327T231500
SUMMARY:L2P2 Delémont III vs Cortaillod II (0)
UID:05b4e21f-cd8a-4cdc-8833-d3b42afa0748
STATUS:CONFIRMED
LAST-MODIFIED:20260331T150037Z
DESCRIPTION:Ligue 2 phase 2\nBegegnungs-Nr: 0\nHeim: Delémont III\nGast: Cortaillod II\n\nAdresse: Rue de la Blancherie 4\, 2800 Delémont\n
LOCATION:Rue de la Blancherie 4\, 2800 Delémont
CATEGORIES:Saison 2025/26
END:VEVENT
BEGIN:VEVENT
DTSTAMP:20260424T135909Z
DTSTART;TZID=Europe/Berlin:20260508T201500
DTEND;TZID=Europe/Berlin:20260508T231500
SUMMARY:L2P2 Delémont III vs Omega II (0)
UID:d27419f3-2d9d-4d16-8fa5-04766f5e45cb
STATUS:CONFIRMED
DESCRIPTION:Ligue 2 phase 2\nBegegnungs-Nr: 0\nHeim: Delémont III\nGast: Omega II\n\nAdresse: Rue de la Blancherie 4\, 2800 Delémont\n
LOCATION:Rue de la Blancherie 4\, 2800 Delémont
CATEGORIES:Saison 2025/26
END:VEVENT
BEGIN:VEVENT
DTSTAMP:20260424T135909Z
DTSTART;TZID=Europe/Berlin:20250926T200000
DTEND;TZID=Europe/Berlin:20250926T230000
SUMMARY:L3P1 Cortaillod IV vs Delémont III (0)
UID:a084899b-b453-40c4-ab38-23a21443ac71
STATUS:CONFIRMED
LAST-MODIFIED:20250929T092058Z
DESCRIPTION:Ligue 3 phase 1\nBegegnungs-Nr: 0\nHeim: Cortaillod IV\nGast: Delémont III\n\nAdresse: Coteaux 1\, 2016 Cortaillod\n
LOCATION:Coteaux 1\, 2016 Cortaillod
CATEGORIES:Saison 2025/26
END:VEVENT
BEGIN:VEVENT
DTSTAMP:20260424T135909Z
DTSTART;TZID=Europe/Berlin:20251024T193000
DTEND;TZID=Europe/Berlin:20251024T223000
SUMMARY:L3P1 Val-de-Ruz III vs Delémont III (0)
UID:0c4cb673-426b-4ca2-9023-aa907e491fff
STATUS:CONFIRMED
LAST-MODIFIED:20251031T070852Z
DESCRIPTION:Ligue 3 phase 1\nBegegnungs-Nr: 0\nHeim: Val-de-Ruz III\nGast: Delémont III\n\nAdresse: Rue de Chasseral 3\, 2053 Cernier\n
LOCATION:Rue de Chasseral 3\, 2053 Cernier
CATEGORIES:Saison 2025/26
END:VEVENT
BEGIN:VEVENT
DTSTAMP:20260424T135909Z
DTSTART;TZID=Europe/Berlin:20251119T193000
DTEND;TZID=Europe/Berlin:20251119T223000
SUMMARY:L3P1 Omega II vs Delémont III (0)
UID:5a3b1435-bf22-4b4c-bb25-a92d31c327b4
STATUS:CONFIRMED
LAST-MODIFIED:20251122T053545Z
DESCRIPTION:Ligue 3 phase 1\nBegegnungs-Nr: 0\nHeim: Omega II\nGast: Delémont III\n\nAdresse: Tennisweg 1\, 2504 Biel-Bienne\n
LOCATION:Tennisweg 1\, 2504 Biel-Bienne
CATEGORIES:Saison 2025/26
END:VEVENT
BEGIN:VEVENT
DTSTAMP:20260424T135909Z
DTSTART;TZID=Europe/Berlin:20251212T200000
DTEND;TZID=Europe/Berlin:20251212T230000
SUMMARY:L3P1 Entente Pongiste Neuchâteloise IV vs Delémont III (0)
UID:a6a1ffc9-bdbe-46e8-9fd3-a8b842ad3423
STATUS:CONFIRMED
LAST-MODIFIED:20251218T061147Z
DESCRIPTION:Ligue 3 phase 1\nBegegnungs-Nr: 0\nHeim: Entente Pongiste Neuchâteloise IV\nGast: Delémont III\n\nAdresse: Allée du 700e\, 2525 Le Landeron\n
LOCATION:Allée du 700e\, 2525 Le Landeron
CATEGORIES:Saison 2025/26
END:VEVENT
BEGIN:VEVENT
DTSTAMP:20260424T135909Z
DTSTART;TZID=Europe/Berlin:20260304T193000
DTEND;TZID=Europe/Berlin:20260304T223000
SUMMARY:L2P2 Val-de-Ruz II vs Delémont III (0)
UID:c7e6db9d-171a-4285-bc9e-50866e12fd0f
STATUS:CONFIRMED
LAST-MODIFIED:20260312T051204Z
DESCRIPTION:Ligue 2 phase 2\nBegegnungs-Nr: 0\nHeim: Val-de-Ruz II\nGast: Delémont III\n\nAdresse: Rue de Chasseral 3\, 2053 Cernier\n
LOCATION:Rue de Chasseral 3\, 2053 Cernier
CATEGORIES:Saison 2025/26
END:VEVENT
BEGIN:VEVENT
DTSTAMP:20260424T135909Z
DTSTART;TZID=Europe/Berlin:20260313T193000
DTEND;TZID=Europe/Berlin:20260313T223000
SUMMARY:L2P2 La Chaux-de-Fonds III vs Delémont III (0)
UID:427aa3cb-13b4-465f-8c88-8696c058a151
STATUS:CONFIRMED
LAST-MODIFIED:20260317T162022Z
DESCRIPTION:Ligue 2 phase 2\nBegegnungs-Nr: 0\nHeim: La Chaux-de-Fonds III\nGast: Delémont III\n\nAdresse: Rue du Docteur-Kern 14\, 2300 La Chaux-de-Fonds\n
LOCATION:Rue du Docteur-Kern 14\, 2300 La Chaux-de-Fonds
CATEGORIES:Saison 2025/26
END:VEVENT
BEGIN:VEVENT
DTSTAMP:20260424T135909Z
DTSTART;TZID=Europe/Berlin:20260424T193000
DTEND;TZID=Europe/Berlin:20260424T223000
SUMMARY:L2P2 La Chaux-de-Fonds II vs Delémont III (0)
UID:8d278334-0a45-4dd6-9362-23c174873e82
STATUS:CONFIRMED
DESCRIPTION:Ligue 2 phase 2\nBegegnungs-Nr: 0\nHeim: La Chaux-de-Fonds II\nGast: Delémont III\n\nAdresse: Rue du Docteur-Kern 14\, 2300 La Chaux-de-Fonds\n
LOCATION:Rue du Docteur-Kern 14\, 2300 La Chaux-de-Fonds
CATEGORIES:Saison 2025/26
END:VEVENT
END:VCALENDAR
