BEGIN:VCALENDAR
PRODID:-//nuDatenautomaten//framework iCal4j //DE
VERSION:2.0
CALSCALE:GREGORIAN
BEGIN:VTIMEZONE
TZID:Europe/Berlin
LAST-MODIFIED:20260306T231828Z
TZURL:https://www.tzurl.org/zoneinfo/Europe/Berlin
X-LIC-LOCATION:Europe/Berlin
X-PROLEPTIC-TZNAME:LMT
BEGIN:STANDARD
TZNAME:CET
TZOFFSETFROM:+005328
TZOFFSETTO:+0100
DTSTART:18930401T000000
END:STANDARD
BEGIN:DAYLIGHT
TZNAME:CEST
TZOFFSETFROM:+0100
TZOFFSETTO:+0200
DTSTART:19160430T230000
RDATE:19400401T020000
RDATE:19430329T020000
RDATE:19460414T020000
RDATE:19470406T030000
RDATE:19480418T020000
RDATE:19490410T020000
RDATE:19800406T020000
END:DAYLIGHT
BEGIN:STANDARD
TZNAME:CET
TZOFFSETFROM:+0200
TZOFFSETTO:+0100
DTSTART:19161001T010000
RDATE:19421102T030000
RDATE:19431004T030000
RDATE:19441002T030000
RDATE:19451118T030000
RDATE:19461007T030000
END:STANDARD
BEGIN:DAYLIGHT
TZNAME:CEST
TZOFFSETFROM:+0100
TZOFFSETTO:+0200
DTSTART:19170416T020000
RRULE:FREQ=YEARLY;UNTIL=19180415T010000Z;BYMONTH=4;BYDAY=3MO
END:DAYLIGHT
BEGIN:STANDARD
TZNAME:CET
TZOFFSETFROM:+0200
TZOFFSETTO:+0100
DTSTART:19170917T030000
RRULE:FREQ=YEARLY;UNTIL=19180916T010000Z;BYMONTH=9;BYDAY=3MO
END:STANDARD
BEGIN:DAYLIGHT
TZNAME:CEST
TZOFFSETFROM:+0100
TZOFFSETTO:+0200
DTSTART:19440403T020000
RRULE:FREQ=YEARLY;UNTIL=19450402T010000Z;BYMONTH=4;BYDAY=1MO
END:DAYLIGHT
BEGIN:DAYLIGHT
TZNAME:CEMT
TZOFFSETFROM:+0200
TZOFFSETTO:+0300
DTSTART:19450524T020000
RDATE:19470511T030000
END:DAYLIGHT
BEGIN:DAYLIGHT
TZNAME:CEST
TZOFFSETFROM:+0300
TZOFFSETTO:+0200
DTSTART:19450924T030000
RDATE:19470629T030000
END:DAYLIGHT
BEGIN:STANDARD
TZNAME:CET
TZOFFSETFROM:+0100
TZOFFSETTO:+0100
DTSTART:19460101T000000
RDATE:19800101T000000
END:STANDARD
BEGIN:STANDARD
TZNAME:CET
TZOFFSETFROM:+0200
TZOFFSETTO:+0100
DTSTART:19471005T030000
RRULE:FREQ=YEARLY;UNTIL=19491002T010000Z;BYMONTH=10;BYDAY=1SU
END:STANDARD
BEGIN:STANDARD
TZNAME:CET
TZOFFSETFROM:+0200
TZOFFSETTO:+0100
DTSTART:19800928T030000
RRULE:FREQ=YEARLY;UNTIL=19950924T010000Z;BYMONTH=9;BYDAY=-1SU
END:STANDARD
BEGIN:DAYLIGHT
TZNAME:CEST
TZOFFSETFROM:+0100
TZOFFSETTO:+0200
DTSTART:19810329T020000
RRULE:FREQ=YEARLY;BYMONTH=3;BYDAY=-1SU
END:DAYLIGHT
BEGIN:STANDARD
TZNAME:CET
TZOFFSETFROM:+0200
TZOFFSETTO:+0100
DTSTART:19961027T030000
RRULE:FREQ=YEARLY;BYMONTH=10;BYDAY=-1SU
END:STANDARD
END:VTIMEZONE
BEGIN:VEVENT
DTSTAMP:20260424T084034Z
DTSTART;TZID=Europe/Berlin:20251213T140000
DTEND;TZID=Europe/Berlin:20251213T170000
SUMMARY:HE 2. Liga Gr. 1 Langnau vs Worb (41)
UID:33ce3303-bd0b-4245-b08c-55d51710e1c5
STATUS:CONFIRMED
LAST-MODIFIED:20251216T120232Z
DESCRIPTION:2. Liga Herren Gruppe 1\nBegegnungs-Nr: 41\nHeim: Langnau\nGast: Worb\n\nAdresse: Bleicheweg 11\, 3550 Langnau\n
LOCATION:Bleicheweg 11\, 3550 Langnau
CATEGORIES:Saison 2025/26
END:VEVENT
BEGIN:VEVENT
DTSTAMP:20260424T084034Z
DTSTART;TZID=Europe/Berlin:20251203T200000
DTEND;TZID=Europe/Berlin:20251203T230000
SUMMARY:HE 2. Liga Gr. 1 Langnau vs Solothurn II (31)
UID:9efccbae-14bf-4e23-9ff2-a2cbca81b93e
STATUS:CONFIRMED
LAST-MODIFIED:20251206T232455Z
DESCRIPTION:2. Liga Herren Gruppe 1\nBegegnungs-Nr: 31\nHeim: Langnau\nGast: Solothurn II\n\nAdresse: Bleicheweg 11\, 3550 Langnau\n
LOCATION:Bleicheweg 11\, 3550 Langnau
CATEGORIES:Saison 2025/26
END:VEVENT
BEGIN:VEVENT
DTSTAMP:20260424T084034Z
DTSTART;TZID=Europe/Berlin:20250915T200000
DTEND;TZID=Europe/Berlin:20250915T230000
SUMMARY:HE 2. Liga Gr. 1 Langnau vs Belp (1)
UID:3c1ddf88-431c-45e7-8303-4ff784099ed8
STATUS:CONFIRMED
LAST-MODIFIED:20250918T141414Z
DESCRIPTION:2. Liga Herren Gruppe 1\nBegegnungs-Nr: 1\nHeim: Langnau\nGast: Belp\n\nAdresse: Bleicheweg 11\, 3550 Langnau\n
LOCATION:Bleicheweg 11\, 3550 Langnau
CATEGORIES:Saison 2025/26
END:VEVENT
BEGIN:VEVENT
DTSTAMP:20260424T084034Z
DTSTART;TZID=Europe/Berlin:20251108T140000
DTEND;TZID=Europe/Berlin:20251108T170000
SUMMARY:HE 2. Liga Gr. 1 Langnau vs Grauholz (21)
UID:8bb32b7a-1afd-499b-9a88-8c1ad4bfde7c
STATUS:CONFIRMED
LAST-MODIFIED:20251122T091734Z
DESCRIPTION:2. Liga Herren Gruppe 1\nBegegnungs-Nr: 21\nHeim: Langnau\nGast: Grauholz\n\nAdresse: Bleicheweg 11\, 3550 Langnau\n
LOCATION:Bleicheweg 11\, 3550 Langnau
CATEGORIES:Saison 2025/26
END:VEVENT
BEGIN:VEVENT
DTSTAMP:20260424T084034Z
DTSTART;TZID=Europe/Berlin:20260328T140000
DTEND;TZID=Europe/Berlin:20260328T170000
SUMMARY:HE 2. Liga Gr. 1 Langnau vs Burgdorf V (36)
UID:b19185f2-7e97-48af-9367-ce2575672fa3
STATUS:CONFIRMED
LAST-MODIFIED:20260409T123811Z
DESCRIPTION:2. Liga Herren Gruppe 1\nBegegnungs-Nr: 36\nHeim: Langnau\nGast: Burgdorf V\n\nAdresse: Bleicheweg 11\, 3550 Langnau\n
LOCATION:Bleicheweg 11\, 3550 Langnau
CATEGORIES:Saison 2025/26
END:VEVENT
BEGIN:VEVENT
DTSTAMP:20260424T084034Z
DTSTART;TZID=Europe/Berlin:20260304T200000
DTEND;TZID=Europe/Berlin:20260304T230000
SUMMARY:HE 2. Liga Gr. 1 Langnau vs Thun II (26)
UID:3ff9a0e6-e56b-41a5-b339-60ee897e6627
STATUS:CONFIRMED
LAST-MODIFIED:20260308T173336Z
DESCRIPTION:2. Liga Herren Gruppe 1\nBegegnungs-Nr: 26\nHeim: Langnau\nGast: Thun II\n\nAdresse: Bleicheweg 11\, 3550 Langnau\n
LOCATION:Bleicheweg 11\, 3550 Langnau
CATEGORIES:Saison 2025/26
END:VEVENT
BEGIN:VEVENT
DTSTAMP:20260424T084034Z
DTSTART;TZID=Europe/Berlin:20260214T140000
DTEND;TZID=Europe/Berlin:20260214T170000
SUMMARY:HE 2. Liga Gr. 1 Langnau vs Bern III (16)
UID:dd6ed63c-cb6f-4fc3-adaf-238141b023c5
STATUS:CONFIRMED
LAST-MODIFIED:20260217T212239Z
DESCRIPTION:2. Liga Herren Gruppe 1\nBegegnungs-Nr: 16\nHeim: Langnau\nGast: Bern III\n\nAdresse: Bleicheweg 11\, 3550 Langnau\n
LOCATION:Bleicheweg 11\, 3550 Langnau
CATEGORIES:Saison 2025/26
END:VEVENT
BEGIN:VEVENT
DTSTAMP:20260424T084034Z
DTSTART;TZID=Europe/Berlin:20260221T160000
DTEND;TZID=Europe/Berlin:20260221T190000
SUMMARY:HE 2. Liga Gr. 1 Langnau vs Heimberg III (11)
UID:45f987e5-5f38-4942-a7e2-121fbf82f3b4
STATUS:CONFIRMED
LAST-MODIFIED:20260224T075111Z
DESCRIPTION:2. Liga Herren Gruppe 1\nBegegnungs-Nr: 11\nHeim: Langnau\nGast: Heimberg III\n\nAdresse: Bleicheweg 11\, 3550 Langnau\n
LOCATION:Bleicheweg 11\, 3550 Langnau
CATEGORIES:Saison 2025/26
END:VEVENT
BEGIN:VEVENT
DTSTAMP:20260424T084034Z
DTSTART;TZID=Europe/Berlin:20260124T140000
DTEND;TZID=Europe/Berlin:20260124T170000
SUMMARY:HE 2. Liga Gr. 1 Langnau vs Ostermundigen III (6)
UID:c0d423fa-5c82-4144-8900-6a84bb9eb56c
STATUS:CONFIRMED
LAST-MODIFIED:20260125T000155Z
DESCRIPTION:2. Liga Herren Gruppe 1\nBegegnungs-Nr: 6\nHeim: Langnau\nGast: Ostermundigen III\n\nAdresse: Bleicheweg 11\, 3550 Langnau\n
LOCATION:Bleicheweg 11\, 3550 Langnau
CATEGORIES:Saison 2025/26
END:VEVENT
BEGIN:VEVENT
DTSTAMP:20260424T084034Z
DTSTART;TZID=Europe/Berlin:20250917T194500
DTEND;TZID=Europe/Berlin:20250917T224500
SUMMARY:HE 2. Liga Gr. 1 Ostermundigen III vs Langnau (6)
UID:7828639e-dbc5-4912-974d-633aba556c5b
STATUS:CONFIRMED
LAST-MODIFIED:20250918T141356Z
DESCRIPTION:2. Liga Herren Gruppe 1\nBegegnungs-Nr: 6\nHeim: Ostermundigen III\nGast: Langnau\n\nAdresse: Dennigkofenweg 169\, 3072 Ostermundigen\n
LOCATION:Dennigkofenweg 169\, 3072 Ostermundigen
CATEGORIES:Saison 2025/26
END:VEVENT
BEGIN:VEVENT
DTSTAMP:20260424T084034Z
DTSTART;TZID=Europe/Berlin:20251205T193000
DTEND;TZID=Europe/Berlin:20251205T223000
SUMMARY:HE 2. Liga Gr. 1 Burgdorf V vs Langnau (36)
UID:0cf77fe4-74df-4a73-97fe-96efea7ee481
STATUS:CONFIRMED
LAST-MODIFIED:20251206T232514Z
DESCRIPTION:2. Liga Herren Gruppe 1\nBegegnungs-Nr: 36\nHeim: Burgdorf V\nGast: Langnau\n\nAdresse: Pestalozzistrasse 69\, 3400 Burgdorf\n
LOCATION:Pestalozzistrasse 69\, 3400 Burgdorf
CATEGORIES:Saison 2025/26
END:VEVENT
BEGIN:VEVENT
DTSTAMP:20260424T084034Z
DTSTART;TZID=Europe/Berlin:20251114T194500
DTEND;TZID=Europe/Berlin:20251114T224500
SUMMARY:HE 2. Liga Gr. 1 Thun II vs Langnau (26)
UID:26cfcd34-c6fe-47df-9444-c38a4f11a60f
STATUS:CONFIRMED
LAST-MODIFIED:20251122T091649Z
DESCRIPTION:2. Liga Herren Gruppe 1\nBegegnungs-Nr: 26\nHeim: Thun II\nGast: Langnau\n\nAdresse: Hallerstrasse 28\, 3604 Thun\n
LOCATION:Hallerstrasse 28\, 3604 Thun
CATEGORIES:Saison 2025/26
END:VEVENT
BEGIN:VEVENT
DTSTAMP:20260424T084034Z
DTSTART;TZID=Europe/Berlin:20251024T193000
DTEND;TZID=Europe/Berlin:20251024T223000
SUMMARY:HE 2. Liga Gr. 1 Bern III vs Langnau (16)
UID:449315e7-b642-483b-9a26-665d80cd37ff
STATUS:CONFIRMED
LAST-MODIFIED:20251029T220714Z
DESCRIPTION:2. Liga Herren Gruppe 1\nBegegnungs-Nr: 16\nHeim: Bern III\nGast: Langnau\n\nAdresse: Papiermühlestrasse 81\, 3014 Bern\n
LOCATION:Papiermühlestrasse 81\, 3014 Bern
CATEGORIES:Saison 2025/26
END:VEVENT
BEGIN:VEVENT
DTSTAMP:20260424T084034Z
DTSTART;TZID=Europe/Berlin:20251030T194500
DTEND;TZID=Europe/Berlin:20251030T224500
SUMMARY:HE 2. Liga Gr. 1 Heimberg III vs Langnau (11)
UID:9229218a-ad1a-46e3-bc03-4bec0093f398
STATUS:CONFIRMED
LAST-MODIFIED:20251111T072331Z
DESCRIPTION:2. Liga Herren Gruppe 1\nBegegnungs-Nr: 11\nHeim: Heimberg III\nGast: Langnau\n\nAdresse: Niesenstrasse 38\, 3627 Heimberg\n
LOCATION:Niesenstrasse 38\, 3627 Heimberg
CATEGORIES:Saison 2025/26
END:VEVENT
BEGIN:VEVENT
DTSTAMP:20260424T084034Z
DTSTART;TZID=Europe/Berlin:20260327T194500
DTEND;TZID=Europe/Berlin:20260327T224500
SUMMARY:HE 2. Liga Gr. 1 Worb vs Langnau (41)
UID:7b8dfa14-fbd8-4ee1-af85-e6c3230d530b
STATUS:CONFIRMED
LAST-MODIFIED:20260409T123803Z
DESCRIPTION:2. Liga Herren Gruppe 1\nBegegnungs-Nr: 41\nHeim: Worb\nGast: Langnau\n\nAdresse: Rosenweg 9\, 3075 Rüfenacht BE\n
LOCATION:Rosenweg 9\, 3075 Rüfenacht BE
CATEGORIES:Saison 2025/26
END:VEVENT
BEGIN:VEVENT
DTSTAMP:20260424T084034Z
DTSTART;TZID=Europe/Berlin:20260225T194500
DTEND;TZID=Europe/Berlin:20260225T224500
SUMMARY:HE 2. Liga Gr. 1 Solothurn II vs Langnau (31)
UID:a0dd99a8-45dc-4922-aa3a-ec8b8d82733b
STATUS:CONFIRMED
LAST-MODIFIED:20260302T144357Z
DESCRIPTION:2. Liga Herren Gruppe 1\nBegegnungs-Nr: 31\nHeim: Solothurn II\nGast: Langnau\n\nAdresse: Untere Sternengasse 24\, 4500 Solothurn\n
LOCATION:Untere Sternengasse 24\, 4500 Solothurn
CATEGORIES:Saison 2025/26
END:VEVENT
BEGIN:VEVENT
DTSTAMP:20260424T084034Z
DTSTART;TZID=Europe/Berlin:20260107T193000
DTEND;TZID=Europe/Berlin:20260107T223000
SUMMARY:HE 2. Liga Gr. 1 Belp vs Langnau (1)
UID:7229d631-bf5c-4f68-82a3-0b16462475a7
STATUS:CONFIRMED
LAST-MODIFIED:20260124T235936Z
DESCRIPTION:2. Liga Herren Gruppe 1\nBegegnungs-Nr: 1\nHeim: Belp\nGast: Langnau\n\nAdresse: Neumattstrasse 39\, 3123 Belp\n
LOCATION:Neumattstrasse 39\, 3123 Belp
CATEGORIES:Saison 2025/26
END:VEVENT
BEGIN:VEVENT
DTSTAMP:20260424T084034Z
DTSTART;TZID=Europe/Berlin:20260220T194500
DTEND;TZID=Europe/Berlin:20260220T224500
SUMMARY:HE 2. Liga Gr. 1 Grauholz vs Langnau (21)
UID:4ed1b86f-3f4c-4e56-b193-c68ac2cd2ec4
STATUS:CONFIRMED
LAST-MODIFIED:20260224T075024Z
DESCRIPTION:2. Liga Herren Gruppe 1\nBegegnungs-Nr: 21\nHeim: Grauholz\nGast: Langnau\n\nAdresse: Schulhausweg 8\, 3324 Hindelbank\n
LOCATION:Schulhausweg 8\, 3324 Hindelbank
CATEGORIES:Saison 2025/26
END:VEVENT
END:VCALENDAR
