BEGIN:VCALENDAR
PRODID:-//nuDatenautomaten//framework iCal4j //DE
VERSION:2.0
CALSCALE:GREGORIAN
BEGIN:VTIMEZONE
TZID:Europe/Berlin
LAST-MODIFIED:20260306T231828Z
TZURL:https://www.tzurl.org/zoneinfo/Europe/Berlin
X-LIC-LOCATION:Europe/Berlin
X-PROLEPTIC-TZNAME:LMT
BEGIN:STANDARD
TZNAME:CET
TZOFFSETFROM:+005328
TZOFFSETTO:+0100
DTSTART:18930401T000000
END:STANDARD
BEGIN:DAYLIGHT
TZNAME:CEST
TZOFFSETFROM:+0100
TZOFFSETTO:+0200
DTSTART:19160430T230000
RDATE:19400401T020000
RDATE:19430329T020000
RDATE:19460414T020000
RDATE:19470406T030000
RDATE:19480418T020000
RDATE:19490410T020000
RDATE:19800406T020000
END:DAYLIGHT
BEGIN:STANDARD
TZNAME:CET
TZOFFSETFROM:+0200
TZOFFSETTO:+0100
DTSTART:19161001T010000
RDATE:19421102T030000
RDATE:19431004T030000
RDATE:19441002T030000
RDATE:19451118T030000
RDATE:19461007T030000
END:STANDARD
BEGIN:DAYLIGHT
TZNAME:CEST
TZOFFSETFROM:+0100
TZOFFSETTO:+0200
DTSTART:19170416T020000
RRULE:FREQ=YEARLY;UNTIL=19180415T010000Z;BYMONTH=4;BYDAY=3MO
END:DAYLIGHT
BEGIN:STANDARD
TZNAME:CET
TZOFFSETFROM:+0200
TZOFFSETTO:+0100
DTSTART:19170917T030000
RRULE:FREQ=YEARLY;UNTIL=19180916T010000Z;BYMONTH=9;BYDAY=3MO
END:STANDARD
BEGIN:DAYLIGHT
TZNAME:CEST
TZOFFSETFROM:+0100
TZOFFSETTO:+0200
DTSTART:19440403T020000
RRULE:FREQ=YEARLY;UNTIL=19450402T010000Z;BYMONTH=4;BYDAY=1MO
END:DAYLIGHT
BEGIN:DAYLIGHT
TZNAME:CEMT
TZOFFSETFROM:+0200
TZOFFSETTO:+0300
DTSTART:19450524T020000
RDATE:19470511T030000
END:DAYLIGHT
BEGIN:DAYLIGHT
TZNAME:CEST
TZOFFSETFROM:+0300
TZOFFSETTO:+0200
DTSTART:19450924T030000
RDATE:19470629T030000
END:DAYLIGHT
BEGIN:STANDARD
TZNAME:CET
TZOFFSETFROM:+0100
TZOFFSETTO:+0100
DTSTART:19460101T000000
RDATE:19800101T000000
END:STANDARD
BEGIN:STANDARD
TZNAME:CET
TZOFFSETFROM:+0200
TZOFFSETTO:+0100
DTSTART:19471005T030000
RRULE:FREQ=YEARLY;UNTIL=19491002T010000Z;BYMONTH=10;BYDAY=1SU
END:STANDARD
BEGIN:STANDARD
TZNAME:CET
TZOFFSETFROM:+0200
TZOFFSETTO:+0100
DTSTART:19800928T030000
RRULE:FREQ=YEARLY;UNTIL=19950924T010000Z;BYMONTH=9;BYDAY=-1SU
END:STANDARD
BEGIN:DAYLIGHT
TZNAME:CEST
TZOFFSETFROM:+0100
TZOFFSETTO:+0200
DTSTART:19810329T020000
RRULE:FREQ=YEARLY;BYMONTH=3;BYDAY=-1SU
END:DAYLIGHT
BEGIN:STANDARD
TZNAME:CET
TZOFFSETFROM:+0200
TZOFFSETTO:+0100
DTSTART:19961027T030000
RRULE:FREQ=YEARLY;BYMONTH=10;BYDAY=-1SU
END:STANDARD
END:VTIMEZONE
BEGIN:VEVENT
DTSTAMP:20260424T063718Z
DTSTART;TZID=Europe/Berlin:20251017T193000
DTEND;TZID=Europe/Berlin:20251017T223000
SUMMARY:HE 2. Liga Gr. 2 Burgdorf IV vs Grenchen (12)
UID:1ffc2c9d-9d12-4953-8538-c7389fa7e65e
STATUS:CONFIRMED
LAST-MODIFIED:20251020T114226Z
DESCRIPTION:2. Liga Herren Gruppe 2\nBegegnungs-Nr: 12\nHeim: Burgdorf IV\nGast: Grenchen\n\nAdresse: Pestalozzistrasse 69\, 3400 Burgdorf\n
LOCATION:Pestalozzistrasse 69\, 3400 Burgdorf
CATEGORIES:Saison 2025/26
END:VEVENT
BEGIN:VEVENT
DTSTAMP:20260424T063718Z
DTSTART;TZID=Europe/Berlin:20260227T193000
DTEND;TZID=Europe/Berlin:20260227T223000
SUMMARY:HE 2. Liga Gr. 2 Burgdorf IV vs Royal Bern (27)
UID:9ad45956-2654-4f6e-b63e-dd8b09e5cb85
STATUS:CONFIRMED
LAST-MODIFIED:20260302T144428Z
DESCRIPTION:2. Liga Herren Gruppe 2\nBegegnungs-Nr: 27\nHeim: Burgdorf IV\nGast: Royal Bern\n\nAdresse: Pestalozzistrasse 69\, 3400 Burgdorf\n
LOCATION:Pestalozzistrasse 69\, 3400 Burgdorf
CATEGORIES:Saison 2025/26
END:VEVENT
BEGIN:VEVENT
DTSTAMP:20260424T063718Z
DTSTART;TZID=Europe/Berlin:20260213T193000
DTEND;TZID=Europe/Berlin:20260213T223000
SUMMARY:HE 2. Liga Gr. 2 Burgdorf IV vs Solothurn III (17)
UID:3fa5040f-dad3-4479-9a20-67db0a9f1afa
STATUS:CONFIRMED
LAST-MODIFIED:20260217T212616Z
DESCRIPTION:2. Liga Herren Gruppe 2\nBegegnungs-Nr: 17\nHeim: Burgdorf IV\nGast: Solothurn III\n\nAdresse: Pestalozzistrasse 69\, 3400 Burgdorf\n
LOCATION:Pestalozzistrasse 69\, 3400 Burgdorf
CATEGORIES:Saison 2025/26
END:VEVENT
BEGIN:VEVENT
DTSTAMP:20260424T063718Z
DTSTART;TZID=Europe/Berlin:20260313T193000
DTEND;TZID=Europe/Berlin:20260313T223000
SUMMARY:HE 2. Liga Gr. 2 Burgdorf IV vs Port IV (37)
UID:f7d02a19-8e06-4394-86de-67df65e2aeec
STATUS:CONFIRMED
LAST-MODIFIED:20260315T225817Z
DESCRIPTION:2. Liga Herren Gruppe 2\nBegegnungs-Nr: 37\nHeim: Burgdorf IV\nGast: Port IV\n\nAdresse: Pestalozzistrasse 69\, 3400 Burgdorf\n
LOCATION:Pestalozzistrasse 69\, 3400 Burgdorf
CATEGORIES:Saison 2025/26
END:VEVENT
BEGIN:VEVENT
DTSTAMP:20260424T063718Z
DTSTART;TZID=Europe/Berlin:20260221T163000
DTEND;TZID=Europe/Berlin:20260221T193000
SUMMARY:HE 2. Liga Gr. 2 Burgdorf IV vs Wohlensee (7)
UID:59a10e29-5fb3-461a-ad72-38bcfb3f466e
STATUS:CONFIRMED
LAST-MODIFIED:20260224T075145Z
DESCRIPTION:2. Liga Herren Gruppe 2\nBegegnungs-Nr: 7\nHeim: Burgdorf IV\nGast: Wohlensee\n\nAdresse: Pestalozzistrasse 69\, 3400 Burgdorf\n
LOCATION:Pestalozzistrasse 69\, 3400 Burgdorf
CATEGORIES:Saison 2025/26
END:VEVENT
BEGIN:VEVENT
DTSTAMP:20260424T063718Z
DTSTART;TZID=Europe/Berlin:20260109T193000
DTEND;TZID=Europe/Berlin:20260109T223000
SUMMARY:HE 2. Liga Gr. 2 Burgdorf IV vs Bern II (2)
UID:e45567aa-a64d-44a0-bff9-a277ebc93735
STATUS:CONFIRMED
LAST-MODIFIED:20260125T000230Z
DESCRIPTION:2. Liga Herren Gruppe 2\nBegegnungs-Nr: 2\nHeim: Burgdorf IV\nGast: Bern II\n\nAdresse: Pestalozzistrasse 69\, 3400 Burgdorf\n
LOCATION:Pestalozzistrasse 69\, 3400 Burgdorf
CATEGORIES:Saison 2025/26
END:VEVENT
BEGIN:VEVENT
DTSTAMP:20260424T063718Z
DTSTART;TZID=Europe/Berlin:20260318T200000
DTEND;TZID=Europe/Berlin:20260318T230000
SUMMARY:HE 2. Liga Gr. 2 Burgdorf IV vs Thun III (41)
UID:62409614-de83-4fa0-baeb-7899adb96607
STATUS:CONFIRMED
LAST-MODIFIED:20260327T143258Z
DESCRIPTION:2. Liga Herren Gruppe 2\nBegegnungs-Nr: 41\nHeim: Burgdorf IV\nGast: Thun III\n\nAdresse: Pestalozzistrasse 69\, 3400 Burgdorf\n
LOCATION:Pestalozzistrasse 69\, 3400 Burgdorf
CATEGORIES:Saison 2025/26
END:VEVENT
BEGIN:VEVENT
DTSTAMP:20260424T063718Z
DTSTART;TZID=Europe/Berlin:20251121T193000
DTEND;TZID=Europe/Berlin:20251121T223000
SUMMARY:HE 2. Liga Gr. 2 Burgdorf IV vs Köniz (32)
UID:4784354d-0b1c-496f-a752-a559604a571c
STATUS:CONFIRMED
LAST-MODIFIED:20251206T233255Z
DESCRIPTION:2. Liga Herren Gruppe 2\nBegegnungs-Nr: 32\nHeim: Burgdorf IV\nGast: Köniz\n\nAdresse: Pestalozzistrasse 69\, 3400 Burgdorf\n
LOCATION:Pestalozzistrasse 69\, 3400 Burgdorf
CATEGORIES:Saison 2025/26
END:VEVENT
BEGIN:VEVENT
DTSTAMP:20260424T063718Z
DTSTART;TZID=Europe/Berlin:20251107T193000
DTEND;TZID=Europe/Berlin:20251107T223000
SUMMARY:HE 2. Liga Gr. 2 Burgdorf IV vs Kirchberg (22)
UID:dae694e1-c286-4e00-8377-5b097a8d9d91
STATUS:CONFIRMED
LAST-MODIFIED:20251115T171310Z
DESCRIPTION:2. Liga Herren Gruppe 2\nBegegnungs-Nr: 22\nHeim: Burgdorf IV\nGast: Kirchberg\n\nAdresse: Pestalozzistrasse 69\, 3400 Burgdorf\n
LOCATION:Pestalozzistrasse 69\, 3400 Burgdorf
CATEGORIES:Saison 2025/26
END:VEVENT
BEGIN:VEVENT
DTSTAMP:20260424T063718Z
DTSTART;TZID=Europe/Berlin:20251022T194500
DTEND;TZID=Europe/Berlin:20251022T224500
SUMMARY:HE 2. Liga Gr. 2 Solothurn III vs Burgdorf IV (17)
UID:bbff5143-3985-4610-beb0-6744c3217e01
STATUS:CONFIRMED
LAST-MODIFIED:20251029T220738Z
DESCRIPTION:2. Liga Herren Gruppe 2\nBegegnungs-Nr: 17\nHeim: Solothurn III\nGast: Burgdorf IV\n\nAdresse: Untere Sternengasse 24\, 4500 Solothurn\n
LOCATION:Untere Sternengasse 24\, 4500 Solothurn
CATEGORIES:Saison 2025/26
END:VEVENT
BEGIN:VEVENT
DTSTAMP:20260424T063718Z
DTSTART;TZID=Europe/Berlin:20250918T193000
DTEND;TZID=Europe/Berlin:20250918T223000
SUMMARY:HE 2. Liga Gr. 2 Wohlensee vs Burgdorf IV (7)
UID:2376abf3-b3f9-46f9-b742-07f1c9c56feb
STATUS:CONFIRMED
LAST-MODIFIED:20250921T150449Z
DESCRIPTION:2. Liga Herren Gruppe 2\nBegegnungs-Nr: 7\nHeim: Wohlensee\nGast: Burgdorf IV\n\nAdresse: Kappelenring 36 a\, 3032 Hinterkappelen\n
LOCATION:Kappelenring 36 a\, 3032 Hinterkappelen
CATEGORIES:Saison 2025/26
END:VEVENT
BEGIN:VEVENT
DTSTAMP:20260424T063718Z
DTSTART;TZID=Europe/Berlin:20250827T193000
DTEND;TZID=Europe/Berlin:20250827T223000
SUMMARY:HE 2. Liga Gr. 2 Bern II vs Burgdorf IV (2)
UID:03c5f4c8-c81a-476d-9154-a0e31f250855
STATUS:CONFIRMED
LAST-MODIFIED:20250828T192343Z
DESCRIPTION:2. Liga Herren Gruppe 2\nBegegnungs-Nr: 2\nHeim: Bern II\nGast: Burgdorf IV\n\nAdresse: Papiermühlestrasse 81\, 3014 Bern\n
LOCATION:Papiermühlestrasse 81\, 3014 Bern
CATEGORIES:Saison 2025/26
END:VEVENT
BEGIN:VEVENT
DTSTAMP:20260424T063718Z
DTSTART;TZID=Europe/Berlin:20260309T200000
DTEND;TZID=Europe/Berlin:20260309T230000
SUMMARY:HE 2. Liga Gr. 2 Köniz vs Burgdorf IV (32)
UID:26ea50d2-d478-4139-a8e9-31f2ac3a1c67
STATUS:CONFIRMED
LAST-MODIFIED:20260315T225727Z
DESCRIPTION:2. Liga Herren Gruppe 2\nBegegnungs-Nr: 32\nHeim: Köniz\nGast: Burgdorf IV\n\nAdresse: Kirchstrasse 72-76\, 3084 Wabern\n
LOCATION:Kirchstrasse 72-76\, 3084 Wabern
CATEGORIES:Saison 2025/26
END:VEVENT
BEGIN:VEVENT
DTSTAMP:20260424T063718Z
DTSTART;TZID=Europe/Berlin:20260220T194500
DTEND;TZID=Europe/Berlin:20260220T224500
SUMMARY:HE 2. Liga Gr. 2 Kirchberg vs Burgdorf IV (22)
UID:8dcb724f-50d6-4b52-9b0e-47e696294a05
STATUS:CONFIRMED
LAST-MODIFIED:20260224T075119Z
DESCRIPTION:2. Liga Herren Gruppe 2\nBegegnungs-Nr: 22\nHeim: Kirchberg\nGast: Burgdorf IV\n\nAdresse: Reinhardweg\, 3422 Kirchberg\n
LOCATION:Reinhardweg\, 3422 Kirchberg
CATEGORIES:Saison 2025/26
END:VEVENT
BEGIN:VEVENT
DTSTAMP:20260424T063718Z
DTSTART;TZID=Europe/Berlin:20260130T194500
DTEND;TZID=Europe/Berlin:20260130T224500
SUMMARY:HE 2. Liga Gr. 2 Grenchen vs Burgdorf IV (12)
UID:2998bebd-b28b-48fc-a878-41c1bcf89018
STATUS:CONFIRMED
LAST-MODIFIED:20260217T212201Z
DESCRIPTION:2. Liga Herren Gruppe 2\nBegegnungs-Nr: 12\nHeim: Grenchen\nGast: Burgdorf IV\n\nAdresse: Witmattstrasse\, 2540 Grenchen\n
LOCATION:Witmattstrasse\, 2540 Grenchen
CATEGORIES:Saison 2025/26
END:VEVENT
BEGIN:VEVENT
DTSTAMP:20260424T063718Z
DTSTART;TZID=Europe/Berlin:20251217T194500
DTEND;TZID=Europe/Berlin:20251217T224500
SUMMARY:HE 2. Liga Gr. 2 Thun III vs Burgdorf IV (41)
UID:a42fb312-91f9-4200-b92c-4caccf8e9993
STATUS:CONFIRMED
LAST-MODIFIED:20251218T122030Z
DESCRIPTION:2. Liga Herren Gruppe 2\nBegegnungs-Nr: 41\nHeim: Thun III\nGast: Burgdorf IV\n\nAdresse: Hallerstrasse 28\, 3604 Thun\n
LOCATION:Hallerstrasse 28\, 3604 Thun
CATEGORIES:Saison 2025/26
END:VEVENT
BEGIN:VEVENT
DTSTAMP:20260424T063718Z
DTSTART;TZID=Europe/Berlin:20251205T194500
DTEND;TZID=Europe/Berlin:20251205T224500
SUMMARY:HE 2. Liga Gr. 2 Port IV vs Burgdorf IV (37)
UID:809d9bca-8976-4b10-9d20-76b65cb9b38c
STATUS:CONFIRMED
LAST-MODIFIED:20251206T233409Z
DESCRIPTION:2. Liga Herren Gruppe 2\nBegegnungs-Nr: 37\nHeim: Port IV\nGast: Burgdorf IV\n\nAdresse: Allmendstrasse 23\, 2562 Port\n
LOCATION:Allmendstrasse 23\, 2562 Port
CATEGORIES:Saison 2025/26
END:VEVENT
BEGIN:VEVENT
DTSTAMP:20260424T063718Z
DTSTART;TZID=Europe/Berlin:20251110T194500
DTEND;TZID=Europe/Berlin:20251110T224500
SUMMARY:HE 2. Liga Gr. 2 Royal Bern vs Burgdorf IV (27)
UID:82bc0f6a-01f1-415f-b3d4-d5fc8b01f068
STATUS:CONFIRMED
LAST-MODIFIED:20251115T171415Z
DESCRIPTION:2. Liga Herren Gruppe 2\nBegegnungs-Nr: 27\nHeim: Royal Bern\nGast: Burgdorf IV\n\nAdresse: Dändlikerweg 60\, 3014 Bern\n
LOCATION:Dändlikerweg 60\, 3014 Bern
CATEGORIES:Saison 2025/26
END:VEVENT
END:VCALENDAR
