BEGIN:VCALENDAR
PRODID:-//nuDatenautomaten//framework iCal4j //DE
VERSION:2.0
CALSCALE:GREGORIAN
BEGIN:VTIMEZONE
TZID:Europe/Berlin
LAST-MODIFIED:20260306T231828Z
TZURL:https://www.tzurl.org/zoneinfo/Europe/Berlin
X-LIC-LOCATION:Europe/Berlin
X-PROLEPTIC-TZNAME:LMT
BEGIN:STANDARD
TZNAME:CET
TZOFFSETFROM:+005328
TZOFFSETTO:+0100
DTSTART:18930401T000000
END:STANDARD
BEGIN:DAYLIGHT
TZNAME:CEST
TZOFFSETFROM:+0100
TZOFFSETTO:+0200
DTSTART:19160430T230000
RDATE:19400401T020000
RDATE:19430329T020000
RDATE:19460414T020000
RDATE:19470406T030000
RDATE:19480418T020000
RDATE:19490410T020000
RDATE:19800406T020000
END:DAYLIGHT
BEGIN:STANDARD
TZNAME:CET
TZOFFSETFROM:+0200
TZOFFSETTO:+0100
DTSTART:19161001T010000
RDATE:19421102T030000
RDATE:19431004T030000
RDATE:19441002T030000
RDATE:19451118T030000
RDATE:19461007T030000
END:STANDARD
BEGIN:DAYLIGHT
TZNAME:CEST
TZOFFSETFROM:+0100
TZOFFSETTO:+0200
DTSTART:19170416T020000
RRULE:FREQ=YEARLY;UNTIL=19180415T010000Z;BYMONTH=4;BYDAY=3MO
END:DAYLIGHT
BEGIN:STANDARD
TZNAME:CET
TZOFFSETFROM:+0200
TZOFFSETTO:+0100
DTSTART:19170917T030000
RRULE:FREQ=YEARLY;UNTIL=19180916T010000Z;BYMONTH=9;BYDAY=3MO
END:STANDARD
BEGIN:DAYLIGHT
TZNAME:CEST
TZOFFSETFROM:+0100
TZOFFSETTO:+0200
DTSTART:19440403T020000
RRULE:FREQ=YEARLY;UNTIL=19450402T010000Z;BYMONTH=4;BYDAY=1MO
END:DAYLIGHT
BEGIN:DAYLIGHT
TZNAME:CEMT
TZOFFSETFROM:+0200
TZOFFSETTO:+0300
DTSTART:19450524T020000
RDATE:19470511T030000
END:DAYLIGHT
BEGIN:DAYLIGHT
TZNAME:CEST
TZOFFSETFROM:+0300
TZOFFSETTO:+0200
DTSTART:19450924T030000
RDATE:19470629T030000
END:DAYLIGHT
BEGIN:STANDARD
TZNAME:CET
TZOFFSETFROM:+0100
TZOFFSETTO:+0100
DTSTART:19460101T000000
RDATE:19800101T000000
END:STANDARD
BEGIN:STANDARD
TZNAME:CET
TZOFFSETFROM:+0200
TZOFFSETTO:+0100
DTSTART:19471005T030000
RRULE:FREQ=YEARLY;UNTIL=19491002T010000Z;BYMONTH=10;BYDAY=1SU
END:STANDARD
BEGIN:STANDARD
TZNAME:CET
TZOFFSETFROM:+0200
TZOFFSETTO:+0100
DTSTART:19800928T030000
RRULE:FREQ=YEARLY;UNTIL=19950924T010000Z;BYMONTH=9;BYDAY=-1SU
END:STANDARD
BEGIN:DAYLIGHT
TZNAME:CEST
TZOFFSETFROM:+0100
TZOFFSETTO:+0200
DTSTART:19810329T020000
RRULE:FREQ=YEARLY;BYMONTH=3;BYDAY=-1SU
END:DAYLIGHT
BEGIN:STANDARD
TZNAME:CET
TZOFFSETFROM:+0200
TZOFFSETTO:+0100
DTSTART:19961027T030000
RRULE:FREQ=YEARLY;BYMONTH=10;BYDAY=-1SU
END:STANDARD
END:VTIMEZONE
BEGIN:VEVENT
DTSTAMP:20260424T083901Z
DTSTART;TZID=Europe/Berlin:20260121T194500
DTEND;TZID=Europe/Berlin:20260121T224500
SUMMARY:HE 5. Liga Gr. 1 Worb III vs Thun VI (5)
UID:c2ab9cc8-4fa9-4737-b691-3a53e8dae914
STATUS:CONFIRMED
LAST-MODIFIED:20260125T002224Z
DESCRIPTION:5. Liga Herren Gruppe 1\nBegegnungs-Nr: 5\nHeim: Worb III\nGast: Thun VI\n\nAdresse: Rosenweg 9\, 3075 Rüfenacht BE\n
LOCATION:Rosenweg 9\, 3075 Rüfenacht BE
CATEGORIES:Saison 2025/26
END:VEVENT
BEGIN:VEVENT
DTSTAMP:20260424T083901Z
DTSTART;TZID=Europe/Berlin:20260311T194500
DTEND;TZID=Europe/Berlin:20260311T224500
SUMMARY:HE 5. Liga Gr. 1 Worb III vs Münsingen IV (21)
UID:96a8433e-3678-4eb9-abbb-12a67003fb12
STATUS:CONFIRMED
LAST-MODIFIED:20260315T230320Z
DESCRIPTION:5. Liga Herren Gruppe 1\nBegegnungs-Nr: 21\nHeim: Worb III\nGast: Münsingen IV\n\nAdresse: Rosenweg 9\, 3075 Rüfenacht BE\n
LOCATION:Rosenweg 9\, 3075 Rüfenacht BE
CATEGORIES:Saison 2025/26
END:VEVENT
BEGIN:VEVENT
DTSTAMP:20260424T083901Z
DTSTART;TZID=Europe/Berlin:20260225T194500
DTEND;TZID=Europe/Berlin:20260225T224500
SUMMARY:HE 5. Liga Gr. 1 Worb III vs Steffisburg (13)
UID:6f0d8f31-76cf-4d0e-9df2-1791cf03439d
STATUS:CONFIRMED
LAST-MODIFIED:20260302T144816Z
DESCRIPTION:5. Liga Herren Gruppe 1\nBegegnungs-Nr: 13\nHeim: Worb III\nGast: Steffisburg\n\nAdresse: Rosenweg 9\, 3075 Rüfenacht BE\n
LOCATION:Rosenweg 9\, 3075 Rüfenacht BE
CATEGORIES:Saison 2025/26
END:VEVENT
BEGIN:VEVENT
DTSTAMP:20260424T083901Z
DTSTART;TZID=Europe/Berlin:20251217T194500
DTEND;TZID=Europe/Berlin:20251217T224500
SUMMARY:HE 5. Liga Gr. 1 Worb III vs Wichtrach II (25)
UID:f01e2f37-3441-4b3d-be68-5903f25dabd4
STATUS:CONFIRMED
LAST-MODIFIED:20251218T122237Z
DESCRIPTION:5. Liga Herren Gruppe 1\nBegegnungs-Nr: 25\nHeim: Worb III\nGast: Wichtrach II\n\nAdresse: Rosenweg 9\, 3075 Rüfenacht BE\n
LOCATION:Rosenweg 9\, 3075 Rüfenacht BE
CATEGORIES:Saison 2025/26
END:VEVENT
BEGIN:VEVENT
DTSTAMP:20260424T083901Z
DTSTART;TZID=Europe/Berlin:20251112T194500
DTEND;TZID=Europe/Berlin:20251112T224500
SUMMARY:HE 5. Liga Gr. 1 Worb III vs Bern X (17)
UID:7c0ef42d-5d83-4ec8-931e-a497293ec742
STATUS:CONFIRMED
LAST-MODIFIED:20251115T173142Z
DESCRIPTION:5. Liga Herren Gruppe 1\nBegegnungs-Nr: 17\nHeim: Worb III\nGast: Bern X\n\nAdresse: Rosenweg 9\, 3075 Rüfenacht BE\n
LOCATION:Rosenweg 9\, 3075 Rüfenacht BE
CATEGORIES:Saison 2025/26
END:VEVENT
BEGIN:VEVENT
DTSTAMP:20260424T083901Z
DTSTART;TZID=Europe/Berlin:20250919T194500
DTEND;TZID=Europe/Berlin:20250919T224500
SUMMARY:HE 5. Liga Gr. 1 Worb III vs Langnau V (1)
UID:b2f878d0-67bd-498a-b87a-c2aa04911f2f
STATUS:CONFIRMED
LAST-MODIFIED:20250921T150253Z
DESCRIPTION:5. Liga Herren Gruppe 1\nBegegnungs-Nr: 1\nHeim: Worb III\nGast: Langnau V\n\nAdresse: Rosenweg 9\, 3075 Rüfenacht BE\n
LOCATION:Rosenweg 9\, 3075 Rüfenacht BE
CATEGORIES:Saison 2025/26
END:VEVENT
BEGIN:VEVENT
DTSTAMP:20260424T083901Z
DTSTART;TZID=Europe/Berlin:20251015T194500
DTEND;TZID=Europe/Berlin:20251015T224500
SUMMARY:HE 5. Liga Gr. 1 Worb III vs Interlaken III (9)
UID:0ec03c21-cb1c-499b-adee-b579bfede2b0
STATUS:CONFIRMED
LAST-MODIFIED:20251016T191225Z
DESCRIPTION:5. Liga Herren Gruppe 1\nBegegnungs-Nr: 9\nHeim: Worb III\nGast: Interlaken III\n\nAdresse: Rosenweg 9\, 3075 Rüfenacht BE\n
LOCATION:Rosenweg 9\, 3075 Rüfenacht BE
CATEGORIES:Saison 2025/26
END:VEVENT
BEGIN:VEVENT
DTSTAMP:20260424T083901Z
DTSTART;TZID=Europe/Berlin:20260327T200000
DTEND;TZID=Europe/Berlin:20260327T230000
SUMMARY:HE 5. Liga Gr. 1 Wichtrach II vs Worb III (25)
UID:a82c4898-bae9-41e0-b9d3-bb10fc82e59c
STATUS:CONFIRMED
LAST-MODIFIED:20260409T123116Z
DESCRIPTION:5. Liga Herren Gruppe 1\nBegegnungs-Nr: 25\nHeim: Wichtrach II\nGast: Worb III\n\nAdresse: Hängertstrasse 4\, 3114 Wichtrach\n
LOCATION:Hängertstrasse 4\, 3114 Wichtrach
CATEGORIES:Saison 2025/26
END:VEVENT
BEGIN:VEVENT
DTSTAMP:20260424T083901Z
DTSTART;TZID=Europe/Berlin:20260302T193000
DTEND;TZID=Europe/Berlin:20260302T223000
SUMMARY:HE 5. Liga Gr. 1 Bern X vs Worb III (17)
UID:befa02ed-feba-4e3b-b4ec-368f87aa1616
STATUS:CONFIRMED
LAST-MODIFIED:20260308T174901Z
DESCRIPTION:5. Liga Herren Gruppe 1\nBegegnungs-Nr: 17\nHeim: Bern X\nGast: Worb III\n\nAdresse: Mädergutstrasse 58\, 3018 Bern\n
LOCATION:Mädergutstrasse 58\, 3018 Bern
CATEGORIES:Saison 2025/26
END:VEVENT
BEGIN:VEVENT
DTSTAMP:20260424T083901Z
DTSTART;TZID=Europe/Berlin:20260110T140000
DTEND;TZID=Europe/Berlin:20260110T170000
SUMMARY:HE 5. Liga Gr. 1 Langnau V vs Worb III (1)
UID:6957f481-c5fd-4895-8db8-e0379909abd5
STATUS:CONFIRMED
LAST-MODIFIED:20260125T002150Z
DESCRIPTION:5. Liga Herren Gruppe 1\nBegegnungs-Nr: 1\nHeim: Langnau V\nGast: Worb III\n\nAdresse: Bleicheweg 11\, 3550 Langnau\n
LOCATION:Bleicheweg 11\, 3550 Langnau
CATEGORIES:Saison 2025/26
END:VEVENT
BEGIN:VEVENT
DTSTAMP:20260424T083901Z
DTSTART;TZID=Europe/Berlin:20260206T200000
DTEND;TZID=Europe/Berlin:20260206T230000
SUMMARY:HE 5. Liga Gr. 1 Interlaken III vs Worb III (9)
UID:8b2b80ba-31cf-49ae-bf4d-662d412ad5d5
STATUS:CONFIRMED
LAST-MODIFIED:20260217T214102Z
DESCRIPTION:5. Liga Herren Gruppe 1\nBegegnungs-Nr: 9\nHeim: Interlaken III\nGast: Worb III\n\nAdresse: Burgweg 239R\, 3852 Ringgenberg\n
LOCATION:Burgweg 239R\, 3852 Ringgenberg
CATEGORIES:Saison 2025/26
END:VEVENT
BEGIN:VEVENT
DTSTAMP:20260424T083901Z
DTSTART;TZID=Europe/Berlin:20251126T200000
DTEND;TZID=Europe/Berlin:20251126T230000
SUMMARY:HE 5. Liga Gr. 1 Münsingen IV vs Worb III (21)
UID:c6c2d229-4d4c-413c-b45e-5317fc7b0e47
STATUS:CONFIRMED
LAST-MODIFIED:20251207T173539Z
DESCRIPTION:5. Liga Herren Gruppe 1\nBegegnungs-Nr: 21\nHeim: Münsingen IV\nGast: Worb III\n\nAdresse: Turnhallenweg 8\, 3110 Münsingen\n
LOCATION:Turnhallenweg 8\, 3110 Münsingen
CATEGORIES:Saison 2025/26
END:VEVENT
BEGIN:VEVENT
DTSTAMP:20260424T083901Z
DTSTART;TZID=Europe/Berlin:20251031T194500
DTEND;TZID=Europe/Berlin:20251031T224500
SUMMARY:HE 5. Liga Gr. 1 Steffisburg vs Worb III (13)
UID:552a1cc6-78a9-4845-89bc-1d3ed74f3f09
STATUS:CONFIRMED
LAST-MODIFIED:20251101T151516Z
DESCRIPTION:5. Liga Herren Gruppe 1\nBegegnungs-Nr: 13\nHeim: Steffisburg\nGast: Worb III\n\nAdresse: Sonnenfeldstrasse 10\, 3613 Steffisburg\n
LOCATION:Sonnenfeldstrasse 10\, 3613 Steffisburg
CATEGORIES:Saison 2025/26
END:VEVENT
BEGIN:VEVENT
DTSTAMP:20260424T083901Z
DTSTART;TZID=Europe/Berlin:20250917T194500
DTEND;TZID=Europe/Berlin:20250917T224500
SUMMARY:HE 5. Liga Gr. 1 Thun VI vs Worb III (5)
UID:860ed106-840b-429e-a4e3-7037084b3e6a
STATUS:CONFIRMED
LAST-MODIFIED:20250921T150304Z
DESCRIPTION:5. Liga Herren Gruppe 1\nBegegnungs-Nr: 5\nHeim: Thun VI\nGast: Worb III\n\nAdresse: Hallerstrasse 28\, 3604 Thun\n
LOCATION:Hallerstrasse 28\, 3604 Thun
CATEGORIES:Saison 2025/26
END:VEVENT
END:VCALENDAR
