BEGIN:VCALENDAR
PRODID:-//nuDatenautomaten//framework iCal4j //DE
VERSION:2.0
CALSCALE:GREGORIAN
BEGIN:VTIMEZONE
TZID:Europe/Berlin
LAST-MODIFIED:20260306T231828Z
TZURL:https://www.tzurl.org/zoneinfo/Europe/Berlin
X-LIC-LOCATION:Europe/Berlin
X-PROLEPTIC-TZNAME:LMT
BEGIN:STANDARD
TZNAME:CET
TZOFFSETFROM:+005328
TZOFFSETTO:+0100
DTSTART:18930401T000000
END:STANDARD
BEGIN:DAYLIGHT
TZNAME:CEST
TZOFFSETFROM:+0100
TZOFFSETTO:+0200
DTSTART:19160430T230000
RDATE:19400401T020000
RDATE:19430329T020000
RDATE:19460414T020000
RDATE:19470406T030000
RDATE:19480418T020000
RDATE:19490410T020000
RDATE:19800406T020000
END:DAYLIGHT
BEGIN:STANDARD
TZNAME:CET
TZOFFSETFROM:+0200
TZOFFSETTO:+0100
DTSTART:19161001T010000
RDATE:19421102T030000
RDATE:19431004T030000
RDATE:19441002T030000
RDATE:19451118T030000
RDATE:19461007T030000
END:STANDARD
BEGIN:DAYLIGHT
TZNAME:CEST
TZOFFSETFROM:+0100
TZOFFSETTO:+0200
DTSTART:19170416T020000
RRULE:FREQ=YEARLY;UNTIL=19180415T010000Z;BYMONTH=4;BYDAY=3MO
END:DAYLIGHT
BEGIN:STANDARD
TZNAME:CET
TZOFFSETFROM:+0200
TZOFFSETTO:+0100
DTSTART:19170917T030000
RRULE:FREQ=YEARLY;UNTIL=19180916T010000Z;BYMONTH=9;BYDAY=3MO
END:STANDARD
BEGIN:DAYLIGHT
TZNAME:CEST
TZOFFSETFROM:+0100
TZOFFSETTO:+0200
DTSTART:19440403T020000
RRULE:FREQ=YEARLY;UNTIL=19450402T010000Z;BYMONTH=4;BYDAY=1MO
END:DAYLIGHT
BEGIN:DAYLIGHT
TZNAME:CEMT
TZOFFSETFROM:+0200
TZOFFSETTO:+0300
DTSTART:19450524T020000
RDATE:19470511T030000
END:DAYLIGHT
BEGIN:DAYLIGHT
TZNAME:CEST
TZOFFSETFROM:+0300
TZOFFSETTO:+0200
DTSTART:19450924T030000
RDATE:19470629T030000
END:DAYLIGHT
BEGIN:STANDARD
TZNAME:CET
TZOFFSETFROM:+0100
TZOFFSETTO:+0100
DTSTART:19460101T000000
RDATE:19800101T000000
END:STANDARD
BEGIN:STANDARD
TZNAME:CET
TZOFFSETFROM:+0200
TZOFFSETTO:+0100
DTSTART:19471005T030000
RRULE:FREQ=YEARLY;UNTIL=19491002T010000Z;BYMONTH=10;BYDAY=1SU
END:STANDARD
BEGIN:STANDARD
TZNAME:CET
TZOFFSETFROM:+0200
TZOFFSETTO:+0100
DTSTART:19800928T030000
RRULE:FREQ=YEARLY;UNTIL=19950924T010000Z;BYMONTH=9;BYDAY=-1SU
END:STANDARD
BEGIN:DAYLIGHT
TZNAME:CEST
TZOFFSETFROM:+0100
TZOFFSETTO:+0200
DTSTART:19810329T020000
RRULE:FREQ=YEARLY;BYMONTH=3;BYDAY=-1SU
END:DAYLIGHT
BEGIN:STANDARD
TZNAME:CET
TZOFFSETFROM:+0200
TZOFFSETTO:+0100
DTSTART:19961027T030000
RRULE:FREQ=YEARLY;BYMONTH=10;BYDAY=-1SU
END:STANDARD
END:VTIMEZONE
BEGIN:VEVENT
DTSTAMP:20260424T115048Z
DTSTART;TZID=Europe/Berlin:20250905T193000
DTEND;TZID=Europe/Berlin:20250905T223000
SUMMARY:ME L3 Gr 1\, Tours 1&2 Gampel-Steg vs Gampel-Steg II (0)
UID:7e82bd38-f42f-498d-8a5d-973c96531fd6
STATUS:CONFIRMED
LAST-MODIFIED:20250907T174153Z
DESCRIPTION:3ème ligue Hommes Groupe 1\, Tours 1&2\nBegegnungs-Nr: 0\nHeim: Gampel-Steg\nGast: Gampel-Steg II\n\nAdresse: Bienenstrasse 2\, 3945 Niedergampel\n
LOCATION:Bienenstrasse 2\, 3945 Niedergampel
CATEGORIES:Saison 2025/26
END:VEVENT
BEGIN:VEVENT
DTSTAMP:20260424T115048Z
DTSTART;TZID=Europe/Berlin:20251003T193000
DTEND;TZID=Europe/Berlin:20251003T223000
SUMMARY:ME L3 Gr 1\, Tours 1&2 Gampel-Steg vs Collombey/Muraz III (0)
UID:e0726dc7-87a0-42fa-82da-7104fd34d81a
STATUS:CONFIRMED
LAST-MODIFIED:20251006T212503Z
DESCRIPTION:3ème ligue Hommes Groupe 1\, Tours 1&2\nBegegnungs-Nr: 0\nHeim: Gampel-Steg\nGast: Collombey/Muraz III\n\nAdresse: Bienenstrasse 2\, 3945 Niedergampel\n
LOCATION:Bienenstrasse 2\, 3945 Niedergampel
CATEGORIES:Saison 2025/26
END:VEVENT
BEGIN:VEVENT
DTSTAMP:20260424T115048Z
DTSTART;TZID=Europe/Berlin:20251010T193000
DTEND;TZID=Europe/Berlin:20251010T223000
SUMMARY:ME L3 Gr 1\, Tours 1&2 Gampel-Steg vs Grône (0)
UID:41745871-85d1-44d2-a3f3-1f05b8b8a698
STATUS:CONFIRMED
LAST-MODIFIED:20251012T123611Z
DESCRIPTION:3ème ligue Hommes Groupe 1\, Tours 1&2\nBegegnungs-Nr: 0\nHeim: Gampel-Steg\nGast: Grône\n\nAdresse: Bienenstrasse 2\, 3945 Niedergampel\n
LOCATION:Bienenstrasse 2\, 3945 Niedergampel
CATEGORIES:Saison 2025/26
END:VEVENT
BEGIN:VEVENT
DTSTAMP:20260424T115048Z
DTSTART;TZID=Europe/Berlin:20251107T193000
DTEND;TZID=Europe/Berlin:20251107T223000
SUMMARY:ME L3 Gr 1\, Tours 1&2 Gampel-Steg vs Blonay II (0)
UID:727ce27d-2633-4eec-b916-e66c20d5846d
STATUS:CONFIRMED
LAST-MODIFIED:20251111T210141Z
DESCRIPTION:3ème ligue Hommes Groupe 1\, Tours 1&2\nBegegnungs-Nr: 0\nHeim: Gampel-Steg\nGast: Blonay II\n\nAdresse: Bienenstrasse 2\, 3945 Niedergampel\n
LOCATION:Bienenstrasse 2\, 3945 Niedergampel
CATEGORIES:Saison 2025/26
END:VEVENT
BEGIN:VEVENT
DTSTAMP:20260424T115048Z
DTSTART;TZID=Europe/Berlin:20251121T193000
DTEND;TZID=Europe/Berlin:20251121T223000
SUMMARY:ME L3 Gr 1\, Tours 1&2 Gampel-Steg vs Stalden (0)
UID:cd160aac-e414-42da-8ca6-7a1f93421512
STATUS:CONFIRMED
LAST-MODIFIED:20251127T112014Z
DESCRIPTION:3ème ligue Hommes Groupe 1\, Tours 1&2\nBegegnungs-Nr: 0\nHeim: Gampel-Steg\nGast: Stalden\n\nAdresse: Bienenstrasse 2\, 3945 Niedergampel\n
LOCATION:Bienenstrasse 2\, 3945 Niedergampel
CATEGORIES:Saison 2025/26
END:VEVENT
BEGIN:VEVENT
DTSTAMP:20260424T115048Z
DTSTART;TZID=Europe/Berlin:20260123T193000
DTEND;TZID=Europe/Berlin:20260123T223000
SUMMARY:ME L3 Gr 1\, Tours 3&4 Gampel-Steg vs Collombey/Muraz III (0)
UID:ab35495b-e837-4850-b655-3fa8d5803327
STATUS:CONFIRMED
LAST-MODIFIED:20260414T180531Z
DESCRIPTION:3ème ligue Hommes Groupe 1\, Tours 3&4\nBegegnungs-Nr: 0\nHeim: Gampel-Steg\nGast: Collombey/Muraz III\n\nAdresse: Bienenstrasse 2\, 3945 Niedergampel\n
LOCATION:Bienenstrasse 2\, 3945 Niedergampel
CATEGORIES:Saison 2025/26
END:VEVENT
BEGIN:VEVENT
DTSTAMP:20260424T115048Z
DTSTART;TZID=Europe/Berlin:20260206T193000
DTEND;TZID=Europe/Berlin:20260206T223000
SUMMARY:ME L3 Gr 1\, Tours 3&4 Gampel-Steg vs Yvorne (0)
UID:8f30728e-157d-4377-9659-7fe8f3f32d70
STATUS:CONFIRMED
LAST-MODIFIED:20260212T112858Z
DESCRIPTION:3ème ligue Hommes Groupe 1\, Tours 3&4\nBegegnungs-Nr: 0\nHeim: Gampel-Steg\nGast: Yvorne\n\nAdresse: Bienenstrasse 2\, 3945 Niedergampel\n
LOCATION:Bienenstrasse 2\, 3945 Niedergampel
CATEGORIES:Saison 2025/26
END:VEVENT
BEGIN:VEVENT
DTSTAMP:20260424T115048Z
DTSTART;TZID=Europe/Berlin:20260313T193000
DTEND;TZID=Europe/Berlin:20260313T223000
SUMMARY:ME L3 Gr 1\, Tours 3&4 Gampel-Steg vs Martigny III (0)
UID:44a4f440-1cde-4e09-ac34-05e988862746
STATUS:CONFIRMED
LAST-MODIFIED:20260316T211351Z
DESCRIPTION:3ème ligue Hommes Groupe 1\, Tours 3&4\nBegegnungs-Nr: 0\nHeim: Gampel-Steg\nGast: Martigny III\n\nAdresse: Bienenstrasse 2\, 3945 Niedergampel\n
LOCATION:Bienenstrasse 2\, 3945 Niedergampel
CATEGORIES:Saison 2025/26
END:VEVENT
BEGIN:VEVENT
DTSTAMP:20260424T115048Z
DTSTART;TZID=Europe/Berlin:20260424T193000
DTEND;TZID=Europe/Berlin:20260424T223000
SUMMARY:ME L3 Gr 1\, Tours 3&4 Gampel-Steg vs Sion II (0)
UID:589d767e-e4b8-409f-911e-8bc07d90f463
STATUS:CONFIRMED
DESCRIPTION:3ème ligue Hommes Groupe 1\, Tours 3&4\nBegegnungs-Nr: 0\nHeim: Gampel-Steg\nGast: Sion II\n\nAdresse: Bienenstrasse 2\, 3945 Niedergampel\n
LOCATION:Bienenstrasse 2\, 3945 Niedergampel
CATEGORIES:Saison 2025/26
END:VEVENT
BEGIN:VEVENT
DTSTAMP:20260424T115048Z
DTSTART;TZID=Europe/Berlin:20260417T200000
DTEND;TZID=Europe/Berlin:20260417T230000
SUMMARY:ME L3 Gr 1\, Tours 3&4 Gampel-Steg vs Stalden (0)
UID:788c0ad2-7169-417f-b373-b82ddb3da27e
STATUS:CONFIRMED
LAST-MODIFIED:20260423T075420Z
DESCRIPTION:3ème ligue Hommes Groupe 1\, Tours 3&4\nBegegnungs-Nr: 0\nHeim: Gampel-Steg\nGast: Stalden\n\nAdresse: Bienenstrasse 2\, 3945 Niedergampel\n
LOCATION:Bienenstrasse 2\, 3945 Niedergampel
CATEGORIES:Saison 2025/26
END:VEVENT
BEGIN:VEVENT
DTSTAMP:20260424T115048Z
DTSTART;TZID=Europe/Berlin:20250910T200000
DTEND;TZID=Europe/Berlin:20250910T230000
SUMMARY:ME L3 Gr 1\, Tours 1&2 Blonay II vs Gampel-Steg (0)
UID:32a9240c-bf02-4be4-8ff7-20e70d927f0d
STATUS:CONFIRMED
LAST-MODIFIED:20250910T230542Z
DESCRIPTION:3ème ligue Hommes Groupe 1\, Tours 1&2\nBegegnungs-Nr: 0\nHeim: Blonay II\nGast: Gampel-Steg\n\nAdresse: Route de Prélaz 2\, 1807 Blonay\n
LOCATION:Route de Prélaz 2\, 1807 Blonay
CATEGORIES:Saison 2025/26
END:VEVENT
BEGIN:VEVENT
DTSTAMP:20260424T115048Z
DTSTART;TZID=Europe/Berlin:20250929T200000
DTEND;TZID=Europe/Berlin:20250929T230000
SUMMARY:ME L3 Gr 1\, Tours 1&2 Stalden vs Gampel-Steg (0)
UID:3de3bbf0-6985-4336-a489-8437feb78254
STATUS:CONFIRMED
LAST-MODIFIED:20250930T095800Z
DESCRIPTION:3ème ligue Hommes Groupe 1\, Tours 1&2\nBegegnungs-Nr: 0\nHeim: Stalden\nGast: Gampel-Steg\n\nAdresse: -\, 3922 Stalden\n
LOCATION:-\, 3922 Stalden
CATEGORIES:Saison 2025/26
END:VEVENT
BEGIN:VEVENT
DTSTAMP:20260424T115048Z
DTSTART;TZID=Europe/Berlin:20251031T200000
DTEND;TZID=Europe/Berlin:20251031T230000
SUMMARY:ME L3 Gr 1\, Tours 1&2 Gampel-Steg II vs Gampel-Steg (0)
UID:e5f449a1-7b5d-426e-a0ef-d65f05fd834f
STATUS:CONFIRMED
LAST-MODIFIED:20251101T153851Z
DESCRIPTION:3ème ligue Hommes Groupe 1\, Tours 1&2\nBegegnungs-Nr: 0\nHeim: Gampel-Steg II\nGast: Gampel-Steg\n\nAdresse: Bienenstrasse 2\, 3945 Niedergampel\n
LOCATION:Bienenstrasse 2\, 3945 Niedergampel
CATEGORIES:Saison 2025/26
END:VEVENT
BEGIN:VEVENT
DTSTAMP:20260424T115048Z
DTSTART;TZID=Europe/Berlin:20251119T193000
DTEND;TZID=Europe/Berlin:20251119T223000
SUMMARY:ME L3 Gr 1\, Tours 1&2 Collombey/Muraz III vs Gampel-Steg (0)
UID:3bf00b1a-a5bb-4bd8-8156-584e1a3ebf86
STATUS:CONFIRMED
LAST-MODIFIED:20251121T100251Z
DESCRIPTION:3ème ligue Hommes Groupe 1\, Tours 1&2\nBegegnungs-Nr: 0\nHeim: Collombey/Muraz III\nGast: Gampel-Steg\n\nAdresse: Route du Montagnier 81\, 1868 Collombey\n
LOCATION:Route du Montagnier 81\, 1868 Collombey
CATEGORIES:Saison 2025/26
END:VEVENT
BEGIN:VEVENT
DTSTAMP:20260424T115048Z
DTSTART;TZID=Europe/Berlin:20251212T200000
DTEND;TZID=Europe/Berlin:20251212T230000
SUMMARY:ME L3 Gr 1\, Tours 1&2 Grône vs Gampel-Steg (0)
UID:ec17a5c2-5944-4f22-821b-1ca35d1d7eb6
STATUS:CONFIRMED
LAST-MODIFIED:20251214T162150Z
DESCRIPTION:3ème ligue Hommes Groupe 1\, Tours 1&2\nBegegnungs-Nr: 0\nHeim: Grône\nGast: Gampel-Steg\n\nAdresse:  Rue Centrale\,  \, Rue de la Piscine\, \, 3979 Grône\n
LOCATION: Rue Centrale\,  \, Rue de la Piscine\, \, 3979 Grône
CATEGORIES:Saison 2025/26
END:VEVENT
BEGIN:VEVENT
DTSTAMP:20260424T115048Z
DTSTART;TZID=Europe/Berlin:20260113T200000
DTEND;TZID=Europe/Berlin:20260113T230000
SUMMARY:ME L3 Gr 1\, Tours 3&4 Martigny III vs Gampel-Steg (0)
UID:b3e81400-f22c-43a1-8504-86afabe08f86
STATUS:CONFIRMED
LAST-MODIFIED:20260114T192649Z
DESCRIPTION:3ème ligue Hommes Groupe 1\, Tours 3&4\nBegegnungs-Nr: 0\nHeim: Martigny III\nGast: Gampel-Steg\n\nAdresse: Rue des Ecoles 9\, 1920 Martigny\n
LOCATION:Rue des Ecoles 9\, 1920 Martigny
CATEGORIES:Saison 2025/26
END:VEVENT
BEGIN:VEVENT
DTSTAMP:20260424T115048Z
DTSTART;TZID=Europe/Berlin:20260212T193000
DTEND;TZID=Europe/Berlin:20260212T223000
SUMMARY:ME L3 Gr 1\, Tours 3&4 Sion II vs Gampel-Steg (0)
UID:64a59b9b-4817-4b5d-900a-c28b300b8b51
STATUS:CONFIRMED
LAST-MODIFIED:20260214T170256Z
DESCRIPTION:3ème ligue Hommes Groupe 1\, Tours 3&4\nBegegnungs-Nr: 0\nHeim: Sion II\nGast: Gampel-Steg\n\nAdresse: Rue du Chanoine-Berchtold 17\, 1950 Sion\n
LOCATION:Rue du Chanoine-Berchtold 17\, 1950 Sion
CATEGORIES:Saison 2025/26
END:VEVENT
BEGIN:VEVENT
DTSTAMP:20260424T115048Z
DTSTART;TZID=Europe/Berlin:20260302T200000
DTEND;TZID=Europe/Berlin:20260302T230000
SUMMARY:ME L3 Gr 1\, Tours 3&4 Stalden vs Gampel-Steg (0)
UID:c0a23917-cef0-4b1a-878c-33818229d5b0
STATUS:CONFIRMED
LAST-MODIFIED:20260303T223810Z
DESCRIPTION:3ème ligue Hommes Groupe 1\, Tours 3&4\nBegegnungs-Nr: 0\nHeim: Stalden\nGast: Gampel-Steg\n\nAdresse: -\, 3922 Stalden\n
LOCATION:-\, 3922 Stalden
CATEGORIES:Saison 2025/26
END:VEVENT
BEGIN:VEVENT
DTSTAMP:20260424T115048Z
DTSTART;TZID=Europe/Berlin:20260330T193000
DTEND;TZID=Europe/Berlin:20260330T223000
SUMMARY:ME L3 Gr 1\, Tours 3&4 Collombey/Muraz III vs Gampel-Steg (0)
UID:d27c1e1c-6e91-4c1c-9f0e-4ec4729397fe
STATUS:CONFIRMED
LAST-MODIFIED:20260401T092350Z
DESCRIPTION:3ème ligue Hommes Groupe 1\, Tours 3&4\nBegegnungs-Nr: 0\nHeim: Collombey/Muraz III\nGast: Gampel-Steg\n\nAdresse: Route du Montagnier 81\, 1868 Collombey\n
LOCATION:Route du Montagnier 81\, 1868 Collombey
CATEGORIES:Saison 2025/26
END:VEVENT
BEGIN:VEVENT
DTSTAMP:20260424T115048Z
DTSTART;TZID=Europe/Berlin:20260401T194500
DTEND;TZID=Europe/Berlin:20260401T224500
SUMMARY:ME L3 Gr 1\, Tours 3&4 Yvorne vs Gampel-Steg (0)
UID:82f85995-bf18-44f7-a375-adcdc9af09c3
STATUS:CONFIRMED
LAST-MODIFIED:20260402T081031Z
DESCRIPTION:3ème ligue Hommes Groupe 1\, Tours 3&4\nBegegnungs-Nr: 0\nHeim: Yvorne\nGast: Gampel-Steg\n\nAdresse: Les Maisons Neuves 38\, 1853 Yvorne\n
LOCATION:Les Maisons Neuves 38\, 1853 Yvorne
CATEGORIES:Saison 2025/26
END:VEVENT
END:VCALENDAR
