BEGIN:VCALENDAR
PRODID:-//nuDatenautomaten//framework iCal4j //DE
VERSION:2.0
CALSCALE:GREGORIAN
BEGIN:VTIMEZONE
TZID:Europe/Berlin
LAST-MODIFIED:20260306T231828Z
TZURL:https://www.tzurl.org/zoneinfo/Europe/Berlin
X-LIC-LOCATION:Europe/Berlin
X-PROLEPTIC-TZNAME:LMT
BEGIN:STANDARD
TZNAME:CET
TZOFFSETFROM:+005328
TZOFFSETTO:+0100
DTSTART:18930401T000000
END:STANDARD
BEGIN:DAYLIGHT
TZNAME:CEST
TZOFFSETFROM:+0100
TZOFFSETTO:+0200
DTSTART:19160430T230000
RDATE:19400401T020000
RDATE:19430329T020000
RDATE:19460414T020000
RDATE:19470406T030000
RDATE:19480418T020000
RDATE:19490410T020000
RDATE:19800406T020000
END:DAYLIGHT
BEGIN:STANDARD
TZNAME:CET
TZOFFSETFROM:+0200
TZOFFSETTO:+0100
DTSTART:19161001T010000
RDATE:19421102T030000
RDATE:19431004T030000
RDATE:19441002T030000
RDATE:19451118T030000
RDATE:19461007T030000
END:STANDARD
BEGIN:DAYLIGHT
TZNAME:CEST
TZOFFSETFROM:+0100
TZOFFSETTO:+0200
DTSTART:19170416T020000
RRULE:FREQ=YEARLY;UNTIL=19180415T010000Z;BYMONTH=4;BYDAY=3MO
END:DAYLIGHT
BEGIN:STANDARD
TZNAME:CET
TZOFFSETFROM:+0200
TZOFFSETTO:+0100
DTSTART:19170917T030000
RRULE:FREQ=YEARLY;UNTIL=19180916T010000Z;BYMONTH=9;BYDAY=3MO
END:STANDARD
BEGIN:DAYLIGHT
TZNAME:CEST
TZOFFSETFROM:+0100
TZOFFSETTO:+0200
DTSTART:19440403T020000
RRULE:FREQ=YEARLY;UNTIL=19450402T010000Z;BYMONTH=4;BYDAY=1MO
END:DAYLIGHT
BEGIN:DAYLIGHT
TZNAME:CEMT
TZOFFSETFROM:+0200
TZOFFSETTO:+0300
DTSTART:19450524T020000
RDATE:19470511T030000
END:DAYLIGHT
BEGIN:DAYLIGHT
TZNAME:CEST
TZOFFSETFROM:+0300
TZOFFSETTO:+0200
DTSTART:19450924T030000
RDATE:19470629T030000
END:DAYLIGHT
BEGIN:STANDARD
TZNAME:CET
TZOFFSETFROM:+0100
TZOFFSETTO:+0100
DTSTART:19460101T000000
RDATE:19800101T000000
END:STANDARD
BEGIN:STANDARD
TZNAME:CET
TZOFFSETFROM:+0200
TZOFFSETTO:+0100
DTSTART:19471005T030000
RRULE:FREQ=YEARLY;UNTIL=19491002T010000Z;BYMONTH=10;BYDAY=1SU
END:STANDARD
BEGIN:STANDARD
TZNAME:CET
TZOFFSETFROM:+0200
TZOFFSETTO:+0100
DTSTART:19800928T030000
RRULE:FREQ=YEARLY;UNTIL=19950924T010000Z;BYMONTH=9;BYDAY=-1SU
END:STANDARD
BEGIN:DAYLIGHT
TZNAME:CEST
TZOFFSETFROM:+0100
TZOFFSETTO:+0200
DTSTART:19810329T020000
RRULE:FREQ=YEARLY;BYMONTH=3;BYDAY=-1SU
END:DAYLIGHT
BEGIN:STANDARD
TZNAME:CET
TZOFFSETFROM:+0200
TZOFFSETTO:+0100
DTSTART:19961027T030000
RRULE:FREQ=YEARLY;BYMONTH=10;BYDAY=-1SU
END:STANDARD
END:VTIMEZONE
BEGIN:VEVENT
DTSTAMP:20260424T134208Z
DTSTART;TZID=Europe/Berlin:20260206T193000
DTEND;TZID=Europe/Berlin:20260206T223000
SUMMARY:O40 3. Liga Gr. 3 Pinguin Zürich vs Thalwil (0)
UID:051a566a-43ad-4954-9bb7-2f95ec12c59d
STATUS:CONFIRMED
LAST-MODIFIED:20260209T135417Z
DESCRIPTION:3. Liga O40 Gruppe 3\nBegegnungs-Nr: 0\nHeim: Pinguin Zürich\nGast: Thalwil\n\nAdresse: Basteiplatz\, 8001 Zürich\n
LOCATION:Basteiplatz\, 8001 Zürich
CATEGORIES:Saison 2025/26
END:VEVENT
BEGIN:VEVENT
DTSTAMP:20260424T134208Z
DTSTART;TZID=Europe/Berlin:20260227T193000
DTEND;TZID=Europe/Berlin:20260227T223000
SUMMARY:O40 3. Liga Gr. 3 Pinguin Zürich vs Horgen (0)
UID:0df0be33-5d58-449c-b89b-d62141a6d25b
STATUS:CONFIRMED
LAST-MODIFIED:20260303T133554Z
DESCRIPTION:3. Liga O40 Gruppe 3\nBegegnungs-Nr: 0\nHeim: Pinguin Zürich\nGast: Horgen\n\nAdresse: Basteiplatz\, 8001 Zürich\n
LOCATION:Basteiplatz\, 8001 Zürich
CATEGORIES:Saison 2025/26
END:VEVENT
BEGIN:VEVENT
DTSTAMP:20260424T134208Z
DTSTART;TZID=Europe/Berlin:20251003T193000
DTEND;TZID=Europe/Berlin:20251003T223000
SUMMARY:O40 3. Liga Gr. 3 Pinguin Zürich vs Dietikon-Weiningen (0)
UID:6dd40789-2899-458b-a3e2-b4e02d5ddace
STATUS:CONFIRMED
LAST-MODIFIED:20251007T062333Z
DESCRIPTION:3. Liga O40 Gruppe 3\nBegegnungs-Nr: 0\nHeim: Pinguin Zürich\nGast: Dietikon-Weiningen\n\nAdresse: Basteiplatz\, 8001 Zürich\n
LOCATION:Basteiplatz\, 8001 Zürich
CATEGORIES:Saison 2025/26
END:VEVENT
BEGIN:VEVENT
DTSTAMP:20260424T134208Z
DTSTART;TZID=Europe/Berlin:20251121T193000
DTEND;TZID=Europe/Berlin:20251121T223000
SUMMARY:O40 3. Liga Gr. 3 Pinguin Zürich vs Affoltern A/A II (0)
UID:a12d6104-7864-4c08-9735-11bb1bf401b9
STATUS:CONFIRMED
LAST-MODIFIED:20251124T150305Z
DESCRIPTION:3. Liga O40 Gruppe 3\nBegegnungs-Nr: 0\nHeim: Pinguin Zürich\nGast: Affoltern A/A II\n\nAdresse: Basteiplatz\, 8001 Zürich\n
LOCATION:Basteiplatz\, 8001 Zürich
CATEGORIES:Saison 2025/26
END:VEVENT
BEGIN:VEVENT
DTSTAMP:20260424T134208Z
DTSTART;TZID=Europe/Berlin:20251128T193000
DTEND;TZID=Europe/Berlin:20251128T223000
SUMMARY:O40 3. Liga Gr. 3 Pinguin Zürich vs BW-Wollishofen (0)
UID:a21ce90f-859f-4661-9985-a32a1d9cdcd6
STATUS:CONFIRMED
LAST-MODIFIED:20251205T132041Z
DESCRIPTION:3. Liga O40 Gruppe 3\nBegegnungs-Nr: 0\nHeim: Pinguin Zürich\nGast: BW-Wollishofen\n\nAdresse: Basteiplatz\, 8001 Zürich\n
LOCATION:Basteiplatz\, 8001 Zürich
CATEGORIES:Saison 2025/26
END:VEVENT
BEGIN:VEVENT
DTSTAMP:20260424T134208Z
DTSTART;TZID=Europe/Berlin:20260116T200000
DTEND;TZID=Europe/Berlin:20260116T230000
SUMMARY:O40 3. Liga Gr. 3 Dietikon-Weiningen vs Pinguin Zürich (0)
UID:28a61c53-eef6-4fe8-ad0d-4badfc01973a
STATUS:CONFIRMED
LAST-MODIFIED:20260119T091856Z
DESCRIPTION:3. Liga O40 Gruppe 3\nBegegnungs-Nr: 0\nHeim: Dietikon-Weiningen\nGast: Pinguin Zürich\n\nAdresse: Bohnackerstrasse 5\, 8953 Dietikon\n
LOCATION:Bohnackerstrasse 5\, 8953 Dietikon
CATEGORIES:Saison 2025/26
END:VEVENT
BEGIN:VEVENT
DTSTAMP:20260424T134208Z
DTSTART;TZID=Europe/Berlin:20260317T193000
DTEND;TZID=Europe/Berlin:20260317T223000
SUMMARY:O40 3. Liga Gr. 3 Affoltern A/A II vs Pinguin Zürich (0)
UID:2b52270a-4bd1-403a-8a85-0d1b972d88b5
STATUS:CONFIRMED
LAST-MODIFIED:20260318T111351Z
DESCRIPTION:3. Liga O40 Gruppe 3\nBegegnungs-Nr: 0\nHeim: Affoltern A/A II\nGast: Pinguin Zürich\n\nAdresse: Butzenstrasse 8\, 8910 Affoltern am Albis\n
LOCATION:Butzenstrasse 8\, 8910 Affoltern am Albis
CATEGORIES:Saison 2025/26
END:VEVENT
BEGIN:VEVENT
DTSTAMP:20260424T134208Z
DTSTART;TZID=Europe/Berlin:20260401T200000
DTEND;TZID=Europe/Berlin:20260401T230000
SUMMARY:O40 3. Liga Gr. 3 BW-Wollishofen vs Pinguin Zürich (0)
UID:a4c09a43-c958-42d3-8be9-7aea8ed503c1
STATUS:CONFIRMED
LAST-MODIFIED:20260402T064159Z
DESCRIPTION:3. Liga O40 Gruppe 3\nBegegnungs-Nr: 0\nHeim: BW-Wollishofen\nGast: Pinguin Zürich\n\nAdresse: Kilchbergstr. 28\, 8038 Zürich\n
LOCATION:Kilchbergstr. 28\, 8038 Zürich
CATEGORIES:Saison 2025/26
END:VEVENT
BEGIN:VEVENT
DTSTAMP:20260424T134208Z
DTSTART;TZID=Europe/Berlin:20250910T201500
DTEND;TZID=Europe/Berlin:20250910T231500
SUMMARY:O40 3. Liga Gr. 3 Thalwil vs Pinguin Zürich (0)
UID:9dd86b37-83c4-41fd-91a2-874293f25db3
STATUS:CONFIRMED
LAST-MODIFIED:20250911T101023Z
DESCRIPTION:3. Liga O40 Gruppe 3\nBegegnungs-Nr: 0\nHeim: Thalwil\nGast: Pinguin Zürich\n\nAdresse: Bergstrasse 2\, 8800 Thalwil\n
LOCATION:Bergstrasse 2\, 8800 Thalwil
CATEGORIES:Saison 2025/26
END:VEVENT
BEGIN:VEVENT
DTSTAMP:20260424T134208Z
DTSTART;TZID=Europe/Berlin:20251021T200000
DTEND;TZID=Europe/Berlin:20251021T230000
SUMMARY:O40 3. Liga Gr. 3 Horgen vs Pinguin Zürich (0)
UID:cb752114-b1b7-42b6-a806-eac914343cc5
STATUS:CONFIRMED
LAST-MODIFIED:20251022T090931Z
DESCRIPTION:3. Liga O40 Gruppe 3\nBegegnungs-Nr: 0\nHeim: Horgen\nGast: Pinguin Zürich\n\nAdresse: Seestrasse 110\, 8810 Horgen\n
LOCATION:Seestrasse 110\, 8810 Horgen
CATEGORIES:Saison 2025/26
END:VEVENT
END:VCALENDAR
