BEGIN:VCALENDAR
PRODID:-//nuDatenautomaten//framework iCal4j //DE
VERSION:2.0
CALSCALE:GREGORIAN
BEGIN:VTIMEZONE
TZID:Europe/Berlin
LAST-MODIFIED:20260306T231828Z
TZURL:https://www.tzurl.org/zoneinfo/Europe/Berlin
X-LIC-LOCATION:Europe/Berlin
X-PROLEPTIC-TZNAME:LMT
BEGIN:STANDARD
TZNAME:CET
TZOFFSETFROM:+005328
TZOFFSETTO:+0100
DTSTART:18930401T000000
END:STANDARD
BEGIN:DAYLIGHT
TZNAME:CEST
TZOFFSETFROM:+0100
TZOFFSETTO:+0200
DTSTART:19160430T230000
RDATE:19400401T020000
RDATE:19430329T020000
RDATE:19460414T020000
RDATE:19470406T030000
RDATE:19480418T020000
RDATE:19490410T020000
RDATE:19800406T020000
END:DAYLIGHT
BEGIN:STANDARD
TZNAME:CET
TZOFFSETFROM:+0200
TZOFFSETTO:+0100
DTSTART:19161001T010000
RDATE:19421102T030000
RDATE:19431004T030000
RDATE:19441002T030000
RDATE:19451118T030000
RDATE:19461007T030000
END:STANDARD
BEGIN:DAYLIGHT
TZNAME:CEST
TZOFFSETFROM:+0100
TZOFFSETTO:+0200
DTSTART:19170416T020000
RRULE:FREQ=YEARLY;UNTIL=19180415T010000Z;BYMONTH=4;BYDAY=3MO
END:DAYLIGHT
BEGIN:STANDARD
TZNAME:CET
TZOFFSETFROM:+0200
TZOFFSETTO:+0100
DTSTART:19170917T030000
RRULE:FREQ=YEARLY;UNTIL=19180916T010000Z;BYMONTH=9;BYDAY=3MO
END:STANDARD
BEGIN:DAYLIGHT
TZNAME:CEST
TZOFFSETFROM:+0100
TZOFFSETTO:+0200
DTSTART:19440403T020000
RRULE:FREQ=YEARLY;UNTIL=19450402T010000Z;BYMONTH=4;BYDAY=1MO
END:DAYLIGHT
BEGIN:DAYLIGHT
TZNAME:CEMT
TZOFFSETFROM:+0200
TZOFFSETTO:+0300
DTSTART:19450524T020000
RDATE:19470511T030000
END:DAYLIGHT
BEGIN:DAYLIGHT
TZNAME:CEST
TZOFFSETFROM:+0300
TZOFFSETTO:+0200
DTSTART:19450924T030000
RDATE:19470629T030000
END:DAYLIGHT
BEGIN:STANDARD
TZNAME:CET
TZOFFSETFROM:+0100
TZOFFSETTO:+0100
DTSTART:19460101T000000
RDATE:19800101T000000
END:STANDARD
BEGIN:STANDARD
TZNAME:CET
TZOFFSETFROM:+0200
TZOFFSETTO:+0100
DTSTART:19471005T030000
RRULE:FREQ=YEARLY;UNTIL=19491002T010000Z;BYMONTH=10;BYDAY=1SU
END:STANDARD
BEGIN:STANDARD
TZNAME:CET
TZOFFSETFROM:+0200
TZOFFSETTO:+0100
DTSTART:19800928T030000
RRULE:FREQ=YEARLY;UNTIL=19950924T010000Z;BYMONTH=9;BYDAY=-1SU
END:STANDARD
BEGIN:DAYLIGHT
TZNAME:CEST
TZOFFSETFROM:+0100
TZOFFSETTO:+0200
DTSTART:19810329T020000
RRULE:FREQ=YEARLY;BYMONTH=3;BYDAY=-1SU
END:DAYLIGHT
BEGIN:STANDARD
TZNAME:CET
TZOFFSETFROM:+0200
TZOFFSETTO:+0100
DTSTART:19961027T030000
RRULE:FREQ=YEARLY;BYMONTH=10;BYDAY=-1SU
END:STANDARD
END:VTIMEZONE
BEGIN:VEVENT
DTSTAMP:20260424T115000Z
DTSTART;TZID=Europe/Berlin:20251125T193000
DTEND;TZID=Europe/Berlin:20251125T223000
SUMMARY:ME L5 Gr 1\, Tours 1&2 Gampel-Steg III vs Brig-Glis II (0)
UID:dcde85b8-d795-4dc3-9d1e-c36198e7c1e1
STATUS:CONFIRMED
LAST-MODIFIED:20251126T124805Z
DESCRIPTION:5ème ligue Hommes Groupe 1\, Tours 1&2\nBegegnungs-Nr: 0\nHeim: Gampel-Steg III\nGast: Brig-Glis II\n\nAdresse: Bachofen\, 3949 Hohtenn\n
LOCATION:Bachofen\, 3949 Hohtenn
CATEGORIES:Saison 2025/26
END:VEVENT
BEGIN:VEVENT
DTSTAMP:20260424T115000Z
DTSTART;TZID=Europe/Berlin:20251209T193000
DTEND;TZID=Europe/Berlin:20251209T223000
SUMMARY:ME L5 Gr 1\, Tours 1&2 Gampel-Steg III vs Grône II (0)
UID:460fded6-9d82-444e-b8e8-96942edd4f9a
STATUS:CONFIRMED
LAST-MODIFIED:20251210T075735Z
DESCRIPTION:5ème ligue Hommes Groupe 1\, Tours 1&2\nBegegnungs-Nr: 0\nHeim: Gampel-Steg III\nGast: Grône II\n\nAdresse: Bachofen\, 3949 Hohtenn\n
LOCATION:Bachofen\, 3949 Hohtenn
CATEGORIES:Saison 2025/26
END:VEVENT
BEGIN:VEVENT
DTSTAMP:20260424T115000Z
DTSTART;TZID=Europe/Berlin:20250909T193000
DTEND;TZID=Europe/Berlin:20250909T223000
SUMMARY:ME L5 Gr 1\, Tours 1&2 Gampel-Steg III vs Martigny IV (0)
UID:55d8b009-a3a1-4df1-9417-e8eca5d3ca46
STATUS:CONFIRMED
LAST-MODIFIED:20250910T230708Z
DESCRIPTION:5ème ligue Hommes Groupe 1\, Tours 1&2\nBegegnungs-Nr: 0\nHeim: Gampel-Steg III\nGast: Martigny IV\n\nAdresse: Bachofen\, 3949 Hohtenn\n
LOCATION:Bachofen\, 3949 Hohtenn
CATEGORIES:Saison 2025/26
END:VEVENT
BEGIN:VEVENT
DTSTAMP:20260424T115000Z
DTSTART;TZID=Europe/Berlin:20250916T193000
DTEND;TZID=Europe/Berlin:20250916T223000
SUMMARY:ME L5 Gr 1\, Tours 1&2 Gampel-Steg III vs Sion IV (0)
UID:7c8e10ce-7b40-4295-8bf0-ca8ddc68cbb5
STATUS:CONFIRMED
LAST-MODIFIED:20250919T205134Z
DESCRIPTION:5ème ligue Hommes Groupe 1\, Tours 1&2\nBegegnungs-Nr: 0\nHeim: Gampel-Steg III\nGast: Sion IV\n\nAdresse: Bachofen\, 3949 Hohtenn\n
LOCATION:Bachofen\, 3949 Hohtenn
CATEGORIES:Saison 2025/26
END:VEVENT
BEGIN:VEVENT
DTSTAMP:20260424T115000Z
DTSTART;TZID=Europe/Berlin:20251028T193000
DTEND;TZID=Europe/Berlin:20251028T223000
SUMMARY:ME L5 Gr 1\, Tours 1&2 Gampel-Steg III vs Sierre V (0)
UID:245c21a0-dc18-4c67-8f65-2f4ba99d1e9a
STATUS:CONFIRMED
LAST-MODIFIED:20251101T154050Z
DESCRIPTION:5ème ligue Hommes Groupe 1\, Tours 1&2\nBegegnungs-Nr: 0\nHeim: Gampel-Steg III\nGast: Sierre V\n\nAdresse: Bachofen\, 3949 Hohtenn\n
LOCATION:Bachofen\, 3949 Hohtenn
CATEGORIES:Saison 2025/26
END:VEVENT
BEGIN:VEVENT
DTSTAMP:20260424T115000Z
DTSTART;TZID=Europe/Berlin:20260113T193000
DTEND;TZID=Europe/Berlin:20260113T223000
SUMMARY:ME L5 Gr 1\, Tours 3&4 Gampel-Steg III vs Martigny V (0)
UID:c93e7855-7687-475d-a3f8-c3b54a62a4aa
STATUS:CONFIRMED
LAST-MODIFIED:20260116T194452Z
DESCRIPTION:5ème ligue Hommes Groupe 1\, Tours 3&4\nBegegnungs-Nr: 0\nHeim: Gampel-Steg III\nGast: Martigny V\n\nAdresse: Bachofen\, 3949 Hohtenn\n
LOCATION:Bachofen\, 3949 Hohtenn
CATEGORIES:Saison 2025/26
END:VEVENT
BEGIN:VEVENT
DTSTAMP:20260424T115000Z
DTSTART;TZID=Europe/Berlin:20260210T193000
DTEND;TZID=Europe/Berlin:20260210T223000
SUMMARY:ME L5 Gr 1\, Tours 3&4 Gampel-Steg III vs Sion IV (0)
UID:91ed10b9-5329-4737-8b7f-af40115fbe56
STATUS:CONFIRMED
LAST-MODIFIED:20260212T112953Z
DESCRIPTION:5ème ligue Hommes Groupe 1\, Tours 3&4\nBegegnungs-Nr: 0\nHeim: Gampel-Steg III\nGast: Sion IV\n\nAdresse: Bachofen\, 3949 Hohtenn\n
LOCATION:Bachofen\, 3949 Hohtenn
CATEGORIES:Saison 2025/26
END:VEVENT
BEGIN:VEVENT
DTSTAMP:20260424T115000Z
DTSTART;TZID=Europe/Berlin:20260224T193000
DTEND;TZID=Europe/Berlin:20260224T223000
SUMMARY:ME L5 Gr 1\, Tours 3&4 Gampel-Steg III vs Sierre V (0)
UID:c87a7763-93d2-412c-8d7c-4659c9890329
STATUS:CONFIRMED
LAST-MODIFIED:20260228T130007Z
DESCRIPTION:5ème ligue Hommes Groupe 1\, Tours 3&4\nBegegnungs-Nr: 0\nHeim: Gampel-Steg III\nGast: Sierre V\n\nAdresse: Bachofen\, 3949 Hohtenn\n
LOCATION:Bachofen\, 3949 Hohtenn
CATEGORIES:Saison 2025/26
END:VEVENT
BEGIN:VEVENT
DTSTAMP:20260424T115000Z
DTSTART;TZID=Europe/Berlin:20260324T193000
DTEND;TZID=Europe/Berlin:20260324T223000
SUMMARY:ME L5 Gr 1\, Tours 3&4 Gampel-Steg III vs Sion III (0)
UID:692aa309-5684-4281-ac1b-8bf191fa1889
STATUS:CONFIRMED
LAST-MODIFIED:20260327T193626Z
DESCRIPTION:5ème ligue Hommes Groupe 1\, Tours 3&4\nBegegnungs-Nr: 0\nHeim: Gampel-Steg III\nGast: Sion III\n\nAdresse: Bachofen\, 3949 Hohtenn\n
LOCATION:Bachofen\, 3949 Hohtenn
CATEGORIES:Saison 2025/26
END:VEVENT
BEGIN:VEVENT
DTSTAMP:20260424T115000Z
DTSTART;TZID=Europe/Berlin:20260331T193000
DTEND;TZID=Europe/Berlin:20260331T223000
SUMMARY:ME L5 Gr 1\, Tours 3&4 Gampel-Steg III vs Grône II (0)
UID:26739bd1-493f-426c-8e8f-f2d2aa0bf33a
STATUS:CONFIRMED
LAST-MODIFIED:20260407T130552Z
DESCRIPTION:5ème ligue Hommes Groupe 1\, Tours 3&4\nBegegnungs-Nr: 0\nHeim: Gampel-Steg III\nGast: Grône II\n\nAdresse: Bachofen\, 3949 Hohtenn\n
LOCATION:Bachofen\, 3949 Hohtenn
CATEGORIES:Saison 2025/26
END:VEVENT
BEGIN:VEVENT
DTSTAMP:20260424T115000Z
DTSTART;TZID=Europe/Berlin:20251106T200000
DTEND;TZID=Europe/Berlin:20251106T230000
SUMMARY:ME L5 Gr 1\, Tours 1&2 Martigny IV vs Gampel-Steg III (0)
UID:f0a9a1eb-09af-40d5-90da-89ee964fda27
STATUS:CONFIRMED
LAST-MODIFIED:20251110T194818Z
DESCRIPTION:5ème ligue Hommes Groupe 1\, Tours 1&2\nBegegnungs-Nr: 0\nHeim: Martigny IV\nGast: Gampel-Steg III\n\nAdresse: Rue des Ecoles 9\, 1920 Martigny\n
LOCATION:Rue des Ecoles 9\, 1920 Martigny
CATEGORIES:Saison 2025/26
END:VEVENT
BEGIN:VEVENT
DTSTAMP:20260424T115000Z
DTSTART;TZID=Europe/Berlin:20251119T190000
DTEND;TZID=Europe/Berlin:20251119T220000
SUMMARY:ME L5 Gr 1\, Tours 1&2 Sion IV vs Gampel-Steg III (0)
UID:8e3a79b3-6380-4b30-aef9-3e90740e28df
STATUS:CONFIRMED
LAST-MODIFIED:20251120T094536Z
DESCRIPTION:5ème ligue Hommes Groupe 1\, Tours 1&2\nBegegnungs-Nr: 0\nHeim: Sion IV\nGast: Gampel-Steg III\n\nAdresse: Rue du Chanoine-Berchtold 17\, 1950 Sion\n
LOCATION:Rue du Chanoine-Berchtold 17\, 1950 Sion
CATEGORIES:Saison 2025/26
END:VEVENT
BEGIN:VEVENT
DTSTAMP:20260424T115000Z
DTSTART;TZID=Europe/Berlin:20250901T194500
DTEND;TZID=Europe/Berlin:20250901T224500
SUMMARY:ME L5 Gr 1\, Tours 1&2 Sierre V vs Gampel-Steg III (0)
UID:91f15db6-0816-4c90-95c0-f3764bdd28a4
STATUS:CONFIRMED
LAST-MODIFIED:20250903T213120Z
DESCRIPTION:5ème ligue Hommes Groupe 1\, Tours 1&2\nBegegnungs-Nr: 0\nHeim: Sierre V\nGast: Gampel-Steg III\n\nAdresse: Rte des Liddes 6\, 3960 Sierre\n
LOCATION:Rte des Liddes 6\, 3960 Sierre
CATEGORIES:Saison 2025/26
END:VEVENT
BEGIN:VEVENT
DTSTAMP:20260424T115000Z
DTSTART;TZID=Europe/Berlin:20250929T193000
DTEND;TZID=Europe/Berlin:20250929T223000
SUMMARY:ME L5 Gr 1\, Tours 1&2 Brig-Glis II vs Gampel-Steg III (0)
UID:c54bbc16-3d75-4268-bf2c-e5fc8b7de0ca
STATUS:CONFIRMED
LAST-MODIFIED:20250930T095829Z
DESCRIPTION:5ème ligue Hommes Groupe 1\, Tours 1&2\nBegegnungs-Nr: 0\nHeim: Brig-Glis II\nGast: Gampel-Steg III\n\nAdresse: Alte Simplonstrasse 53\, 3900 Brig\n
LOCATION:Alte Simplonstrasse 53\, 3900 Brig
CATEGORIES:Saison 2025/26
END:VEVENT
BEGIN:VEVENT
DTSTAMP:20260424T115000Z
DTSTART;TZID=Europe/Berlin:20251010T200000
DTEND;TZID=Europe/Berlin:20251010T230000
SUMMARY:ME L5 Gr 1\, Tours 1&2 Grône II vs Gampel-Steg III (0)
UID:a34520ea-9242-40c5-8871-08d0fdeb1f58
STATUS:CONFIRMED
LAST-MODIFIED:20251011T112323Z
DESCRIPTION:5ème ligue Hommes Groupe 1\, Tours 1&2\nBegegnungs-Nr: 0\nHeim: Grône II\nGast: Gampel-Steg III\n\nAdresse:  Rue Centrale\,  \, Rue de la Piscine\, \, 3979 Grône\n
LOCATION: Rue Centrale\,  \, Rue de la Piscine\, \, 3979 Grône
CATEGORIES:Saison 2025/26
END:VEVENT
BEGIN:VEVENT
DTSTAMP:20260424T115000Z
DTSTART;TZID=Europe/Berlin:20260121T193000
DTEND;TZID=Europe/Berlin:20260121T223000
SUMMARY:ME L5 Gr 1\, Tours 3&4 Sion III vs Gampel-Steg III (0)
UID:6f320133-e90e-4673-b92c-452d9e6e145f
STATUS:CONFIRMED
LAST-MODIFIED:20260122T114143Z
DESCRIPTION:5ème ligue Hommes Groupe 1\, Tours 3&4\nBegegnungs-Nr: 0\nHeim: Sion III\nGast: Gampel-Steg III\n\nAdresse: Rue du Chanoine-Berchtold 17\, 1950 Sion\n
LOCATION:Rue du Chanoine-Berchtold 17\, 1950 Sion
CATEGORIES:Saison 2025/26
END:VEVENT
BEGIN:VEVENT
DTSTAMP:20260424T115000Z
DTSTART;TZID=Europe/Berlin:20260206T200000
DTEND;TZID=Europe/Berlin:20260206T230000
SUMMARY:ME L5 Gr 1\, Tours 3&4 Grône II vs Gampel-Steg III (0)
UID:bcc9583f-20aa-49e8-80bf-7cb5f0776dfa
STATUS:CONFIRMED
LAST-MODIFIED:20260207T152924Z
DESCRIPTION:5ème ligue Hommes Groupe 1\, Tours 3&4\nBegegnungs-Nr: 0\nHeim: Grône II\nGast: Gampel-Steg III\n\nAdresse:  Rue Centrale\,  \, Rue de la Piscine\, \, 3979 Grône\n
LOCATION: Rue Centrale\,  \, Rue de la Piscine\, \, 3979 Grône
CATEGORIES:Saison 2025/26
END:VEVENT
BEGIN:VEVENT
DTSTAMP:20260424T115000Z
DTSTART;TZID=Europe/Berlin:20260313T193000
DTEND;TZID=Europe/Berlin:20260313T223000
SUMMARY:ME L5 Gr 1\, Tours 3&4 Martigny V vs Gampel-Steg III (0)
UID:d680a7ce-9954-4acf-8ce8-c3b87e4ca4fc
STATUS:CONFIRMED
LAST-MODIFIED:20260315T145035Z
DESCRIPTION:5ème ligue Hommes Groupe 1\, Tours 3&4\nBegegnungs-Nr: 0\nHeim: Martigny V\nGast: Gampel-Steg III\n\nAdresse: Rue des Ecoles 9\, 1920 Martigny\n
LOCATION:Rue des Ecoles 9\, 1920 Martigny
CATEGORIES:Saison 2025/26
END:VEVENT
BEGIN:VEVENT
DTSTAMP:20260424T115000Z
DTSTART;TZID=Europe/Berlin:20260422T190000
DTEND;TZID=Europe/Berlin:20260422T220000
SUMMARY:ME L5 Gr 1\, Tours 3&4 Sion IV vs Gampel-Steg III (0)
UID:aa44b339-8fbe-470e-af1f-18fa9d24535b
STATUS:CONFIRMED
LAST-MODIFIED:20260423T093201Z
DESCRIPTION:5ème ligue Hommes Groupe 1\, Tours 3&4\nBegegnungs-Nr: 0\nHeim: Sion IV\nGast: Gampel-Steg III\n\nAdresse: Rue du Chanoine-Berchtold 17\, 1950 Sion\n
LOCATION:Rue du Chanoine-Berchtold 17\, 1950 Sion
CATEGORIES:Saison 2025/26
END:VEVENT
BEGIN:VEVENT
DTSTAMP:20260424T115000Z
DTSTART;TZID=Europe/Berlin:20260427T194500
DTEND;TZID=Europe/Berlin:20260427T224500
SUMMARY:ME L5 Gr 1\, Tours 3&4 Sierre V vs Gampel-Steg III (0)
UID:46dff699-9c33-446f-95c6-5ae9667868a7
STATUS:CONFIRMED
DESCRIPTION:5ème ligue Hommes Groupe 1\, Tours 3&4\nBegegnungs-Nr: 0\nHeim: Sierre V\nGast: Gampel-Steg III\n\nAdresse: Rte des Liddes 6\, 3960 Sierre\n
LOCATION:Rte des Liddes 6\, 3960 Sierre
CATEGORIES:Saison 2025/26
END:VEVENT
END:VCALENDAR
