BEGIN:VCALENDAR
PRODID:-//nuDatenautomaten//framework iCal4j //DE
VERSION:2.0
CALSCALE:GREGORIAN
BEGIN:VTIMEZONE
TZID:Europe/Berlin
LAST-MODIFIED:20260306T231828Z
TZURL:https://www.tzurl.org/zoneinfo/Europe/Berlin
X-LIC-LOCATION:Europe/Berlin
X-PROLEPTIC-TZNAME:LMT
BEGIN:STANDARD
TZNAME:CET
TZOFFSETFROM:+005328
TZOFFSETTO:+0100
DTSTART:18930401T000000
END:STANDARD
BEGIN:DAYLIGHT
TZNAME:CEST
TZOFFSETFROM:+0100
TZOFFSETTO:+0200
DTSTART:19160430T230000
RDATE:19400401T020000
RDATE:19430329T020000
RDATE:19460414T020000
RDATE:19470406T030000
RDATE:19480418T020000
RDATE:19490410T020000
RDATE:19800406T020000
END:DAYLIGHT
BEGIN:STANDARD
TZNAME:CET
TZOFFSETFROM:+0200
TZOFFSETTO:+0100
DTSTART:19161001T010000
RDATE:19421102T030000
RDATE:19431004T030000
RDATE:19441002T030000
RDATE:19451118T030000
RDATE:19461007T030000
END:STANDARD
BEGIN:DAYLIGHT
TZNAME:CEST
TZOFFSETFROM:+0100
TZOFFSETTO:+0200
DTSTART:19170416T020000
RRULE:FREQ=YEARLY;UNTIL=19180415T010000Z;BYMONTH=4;BYDAY=3MO
END:DAYLIGHT
BEGIN:STANDARD
TZNAME:CET
TZOFFSETFROM:+0200
TZOFFSETTO:+0100
DTSTART:19170917T030000
RRULE:FREQ=YEARLY;UNTIL=19180916T010000Z;BYMONTH=9;BYDAY=3MO
END:STANDARD
BEGIN:DAYLIGHT
TZNAME:CEST
TZOFFSETFROM:+0100
TZOFFSETTO:+0200
DTSTART:19440403T020000
RRULE:FREQ=YEARLY;UNTIL=19450402T010000Z;BYMONTH=4;BYDAY=1MO
END:DAYLIGHT
BEGIN:DAYLIGHT
TZNAME:CEMT
TZOFFSETFROM:+0200
TZOFFSETTO:+0300
DTSTART:19450524T020000
RDATE:19470511T030000
END:DAYLIGHT
BEGIN:DAYLIGHT
TZNAME:CEST
TZOFFSETFROM:+0300
TZOFFSETTO:+0200
DTSTART:19450924T030000
RDATE:19470629T030000
END:DAYLIGHT
BEGIN:STANDARD
TZNAME:CET
TZOFFSETFROM:+0100
TZOFFSETTO:+0100
DTSTART:19460101T000000
RDATE:19800101T000000
END:STANDARD
BEGIN:STANDARD
TZNAME:CET
TZOFFSETFROM:+0200
TZOFFSETTO:+0100
DTSTART:19471005T030000
RRULE:FREQ=YEARLY;UNTIL=19491002T010000Z;BYMONTH=10;BYDAY=1SU
END:STANDARD
BEGIN:STANDARD
TZNAME:CET
TZOFFSETFROM:+0200
TZOFFSETTO:+0100
DTSTART:19800928T030000
RRULE:FREQ=YEARLY;UNTIL=19950924T010000Z;BYMONTH=9;BYDAY=-1SU
END:STANDARD
BEGIN:DAYLIGHT
TZNAME:CEST
TZOFFSETFROM:+0100
TZOFFSETTO:+0200
DTSTART:19810329T020000
RRULE:FREQ=YEARLY;BYMONTH=3;BYDAY=-1SU
END:DAYLIGHT
BEGIN:STANDARD
TZNAME:CET
TZOFFSETFROM:+0200
TZOFFSETTO:+0100
DTSTART:19961027T030000
RRULE:FREQ=YEARLY;BYMONTH=10;BYDAY=-1SU
END:STANDARD
END:VTIMEZONE
BEGIN:VEVENT
DTSTAMP:20260424T152415Z
DTSTART;TZID=Europe/Berlin:20251012T113000
DTEND;TZID=Europe/Berlin:20251012T143000
SUMMARY:STTL Women Uster vs ZZ-Lancy (6)
UID:980e50f7-3664-495f-b4a0-ab6423050318
STATUS:CONFIRMED
LAST-MODIFIED:20251016T144826Z
DESCRIPTION:Swiss Table Tennis League Women\nBegegnungs-Nr: 6\nHeim: Uster\nGast: ZZ-Lancy\n\nAdresse: Wilstrasse 30 / Zürcherstrasse\, 8610 Uster\n
LOCATION:Wilstrasse 30 / Zürcherstrasse\, 8610 Uster
CATEGORIES:Saison 2025/26
END:VEVENT
BEGIN:VEVENT
DTSTAMP:20260424T152415Z
DTSTART;TZID=Europe/Berlin:20251108T153000
DTEND;TZID=Europe/Berlin:20251108T183000
SUMMARY:STTL Women Uster vs Zürich-Affoltern (8)
UID:e4c3bfdb-2d64-47c1-890d-9b6565b81acc
STATUS:CONFIRMED
LAST-MODIFIED:20251110T080059Z
DESCRIPTION:Swiss Table Tennis League Women\nBegegnungs-Nr: 8\nHeim: Uster\nGast: Zürich-Affoltern\n\nAdresse: Wilstrasse 30 / Zürcherstrasse\, 8610 Uster\n
LOCATION:Wilstrasse 30 / Zürcherstrasse\, 8610 Uster
CATEGORIES:Saison 2025/26
END:VEVENT
BEGIN:VEVENT
DTSTAMP:20260424T152415Z
DTSTART;TZID=Europe/Berlin:20260329T140000
DTEND;TZID=Europe/Berlin:20260329T170000
SUMMARY:STTL Women Uster vs Young Stars ZH (15)
UID:d1ab7f20-05f1-44a6-9948-b4fc4361b579
STATUS:CONFIRMED
LAST-MODIFIED:20260330T081205Z
DESCRIPTION:Swiss Table Tennis League Women\nBegegnungs-Nr: 15\nHeim: Uster\nGast: Young Stars ZH\n\nAdresse: Wilstrasse 30 / Zürcherstrasse\, 8610 Uster\n
LOCATION:Wilstrasse 30 / Zürcherstrasse\, 8610 Uster
CATEGORIES:Saison 2025/26
END:VEVENT
BEGIN:VEVENT
DTSTAMP:20260424T152415Z
DTSTART;TZID=Europe/Berlin:20260131T174500
DTEND;TZID=Europe/Berlin:20260131T204500
SUMMARY:STTL Women Uster vs Rio-Star Muttenz (6)
UID:1ad2a01a-118a-4f9d-a92f-59367c1b8caa
STATUS:CONFIRMED
LAST-MODIFIED:20260203T081655Z
DESCRIPTION:Swiss Table Tennis League Women\nBegegnungs-Nr: 6\nHeim: Uster\nGast: Rio-Star Muttenz\n\nAdresse: Wilstrasse 30 / Zürcherstrasse\, 8610 Uster\n
LOCATION:Wilstrasse 30 / Zürcherstrasse\, 8610 Uster
CATEGORIES:Saison 2025/26
END:VEVENT
BEGIN:VEVENT
DTSTAMP:20260424T152415Z
DTSTART;TZID=Europe/Berlin:20251214T113000
DTEND;TZID=Europe/Berlin:20251214T143000
SUMMARY:STTL Women Uster vs Neuhausen (1)
UID:895a9c71-b79c-4cbe-9615-871a9efcb43a
STATUS:CONFIRMED
LAST-MODIFIED:20251216T085349Z
DESCRIPTION:Swiss Table Tennis League Women\nBegegnungs-Nr: 1\nHeim: Uster\nGast: Neuhausen\n\nAdresse: Wilstrasse 30 / Zürcherstrasse\, 8610 Uster\n
LOCATION:Wilstrasse 30 / Zürcherstrasse\, 8610 Uster
CATEGORIES:Saison 2025/26
END:VEVENT
BEGIN:VEVENT
DTSTAMP:20260424T152415Z
DTSTART;TZID=Europe/Berlin:20251109T140000
DTEND;TZID=Europe/Berlin:20251109T170000
SUMMARY:STTL Women Rio-Star Muttenz vs Uster (12)
UID:90a3a58a-ff9c-4ae2-81c3-fca9a9995abc
STATUS:CONFIRMED
LAST-MODIFIED:20251110T080145Z
DESCRIPTION:Swiss Table Tennis League Women\nBegegnungs-Nr: 12\nHeim: Rio-Star Muttenz\nGast: Uster\n\nAdresse: Gründenstrasse 32\, 4132 Muttenz\n
LOCATION:Gründenstrasse 32\, 4132 Muttenz
CATEGORIES:Saison 2025/26
END:VEVENT
BEGIN:VEVENT
DTSTAMP:20260424T152415Z
DTSTART;TZID=Europe/Berlin:20251213T180000
DTEND;TZID=Europe/Berlin:20251213T210000
SUMMARY:STTL Women Neuhausen vs Uster (13)
UID:128de4a2-5525-4ad8-be4f-c86ee095ec11
STATUS:CONFIRMED
LAST-MODIFIED:20251216T085328Z
DESCRIPTION:Swiss Table Tennis League Women\nBegegnungs-Nr: 13\nHeim: Neuhausen\nGast: Uster\n\nAdresse: Ebnatstrasse 35\, 8200 Schaffhausen\n
LOCATION:Ebnatstrasse 35\, 8200 Schaffhausen
CATEGORIES:Saison 2025/26
END:VEVENT
BEGIN:VEVENT
DTSTAMP:20260424T152415Z
DTSTART;TZID=Europe/Berlin:20251011T160000
DTEND;TZID=Europe/Berlin:20251011T190000
SUMMARY:STTL Women Young Stars ZH vs Uster (3)
UID:fb5f41d6-6720-47bb-ae24-b83c030d083f
STATUS:CONFIRMED
LAST-MODIFIED:20251016T144632Z
DESCRIPTION:Swiss Table Tennis League Women\nBegegnungs-Nr: 3\nHeim: Young Stars ZH\nGast: Uster\n\nAdresse: Seefeldstrasse 93\, 8008 Zürich\n
LOCATION:Seefeldstrasse 93\, 8008 Zürich
CATEGORIES:Saison 2025/26
END:VEVENT
BEGIN:VEVENT
DTSTAMP:20260424T152415Z
DTSTART;TZID=Europe/Berlin:20260201T120000
DTEND;TZID=Europe/Berlin:20260201T150000
SUMMARY:STTL Women Zürich-Affoltern vs Uster (8)
UID:90d838e4-43b0-46a4-98f1-c270585b1a11
STATUS:CONFIRMED
LAST-MODIFIED:20260203T081732Z
DESCRIPTION:Swiss Table Tennis League Women\nBegegnungs-Nr: 8\nHeim: Zürich-Affoltern\nGast: Uster\n\nAdresse: Rümlangstr. 89\, 8052 Zürich\n
LOCATION:Rümlangstr. 89\, 8052 Zürich
CATEGORIES:Saison 2025/26
END:VEVENT
BEGIN:VEVENT
DTSTAMP:20260424T152415Z
DTSTART;TZID=Europe/Berlin:20260328T150000
DTEND;TZID=Europe/Berlin:20260328T180000
SUMMARY:STTL Women ZZ-Lancy vs Uster (12)
UID:5d5bbd78-013a-434c-b585-fc73ef9780dc
STATUS:CONFIRMED
LAST-MODIFIED:20260330T084255Z
DESCRIPTION:Swiss Table Tennis League Women\nBegegnungs-Nr: 12\nHeim: ZZ-Lancy\nGast: Uster\n\nAdresse: Avenue du Curé-Baud 40\, 1212 Grand-Lancy\n
LOCATION:Avenue du Curé-Baud 40\, 1212 Grand-Lancy
CATEGORIES:Saison 2025/26
END:VEVENT
END:VCALENDAR
