BEGIN:VCALENDAR
PRODID:-//nuDatenautomaten//framework iCal4j //DE
VERSION:2.0
CALSCALE:GREGORIAN
BEGIN:VTIMEZONE
TZID:Europe/Berlin
LAST-MODIFIED:20260306T231828Z
TZURL:https://www.tzurl.org/zoneinfo/Europe/Berlin
X-LIC-LOCATION:Europe/Berlin
X-PROLEPTIC-TZNAME:LMT
BEGIN:STANDARD
TZNAME:CET
TZOFFSETFROM:+005328
TZOFFSETTO:+0100
DTSTART:18930401T000000
END:STANDARD
BEGIN:DAYLIGHT
TZNAME:CEST
TZOFFSETFROM:+0100
TZOFFSETTO:+0200
DTSTART:19160430T230000
RDATE:19400401T020000
RDATE:19430329T020000
RDATE:19460414T020000
RDATE:19470406T030000
RDATE:19480418T020000
RDATE:19490410T020000
RDATE:19800406T020000
END:DAYLIGHT
BEGIN:STANDARD
TZNAME:CET
TZOFFSETFROM:+0200
TZOFFSETTO:+0100
DTSTART:19161001T010000
RDATE:19421102T030000
RDATE:19431004T030000
RDATE:19441002T030000
RDATE:19451118T030000
RDATE:19461007T030000
END:STANDARD
BEGIN:DAYLIGHT
TZNAME:CEST
TZOFFSETFROM:+0100
TZOFFSETTO:+0200
DTSTART:19170416T020000
RRULE:FREQ=YEARLY;UNTIL=19180415T010000Z;BYMONTH=4;BYDAY=3MO
END:DAYLIGHT
BEGIN:STANDARD
TZNAME:CET
TZOFFSETFROM:+0200
TZOFFSETTO:+0100
DTSTART:19170917T030000
RRULE:FREQ=YEARLY;UNTIL=19180916T010000Z;BYMONTH=9;BYDAY=3MO
END:STANDARD
BEGIN:DAYLIGHT
TZNAME:CEST
TZOFFSETFROM:+0100
TZOFFSETTO:+0200
DTSTART:19440403T020000
RRULE:FREQ=YEARLY;UNTIL=19450402T010000Z;BYMONTH=4;BYDAY=1MO
END:DAYLIGHT
BEGIN:DAYLIGHT
TZNAME:CEMT
TZOFFSETFROM:+0200
TZOFFSETTO:+0300
DTSTART:19450524T020000
RDATE:19470511T030000
END:DAYLIGHT
BEGIN:DAYLIGHT
TZNAME:CEST
TZOFFSETFROM:+0300
TZOFFSETTO:+0200
DTSTART:19450924T030000
RDATE:19470629T030000
END:DAYLIGHT
BEGIN:STANDARD
TZNAME:CET
TZOFFSETFROM:+0100
TZOFFSETTO:+0100
DTSTART:19460101T000000
RDATE:19800101T000000
END:STANDARD
BEGIN:STANDARD
TZNAME:CET
TZOFFSETFROM:+0200
TZOFFSETTO:+0100
DTSTART:19471005T030000
RRULE:FREQ=YEARLY;UNTIL=19491002T010000Z;BYMONTH=10;BYDAY=1SU
END:STANDARD
BEGIN:STANDARD
TZNAME:CET
TZOFFSETFROM:+0200
TZOFFSETTO:+0100
DTSTART:19800928T030000
RRULE:FREQ=YEARLY;UNTIL=19950924T010000Z;BYMONTH=9;BYDAY=-1SU
END:STANDARD
BEGIN:DAYLIGHT
TZNAME:CEST
TZOFFSETFROM:+0100
TZOFFSETTO:+0200
DTSTART:19810329T020000
RRULE:FREQ=YEARLY;BYMONTH=3;BYDAY=-1SU
END:DAYLIGHT
BEGIN:STANDARD
TZNAME:CET
TZOFFSETFROM:+0200
TZOFFSETTO:+0100
DTSTART:19961027T030000
RRULE:FREQ=YEARLY;BYMONTH=10;BYDAY=-1SU
END:STANDARD
END:VTIMEZONE
BEGIN:VEVENT
DTSTAMP:20260424T115002Z
DTSTART;TZID=Europe/Berlin:20251002T194500
DTEND;TZID=Europe/Berlin:20251002T224500
SUMMARY:ME L1 Gr 1\, Tours 1&2 Forward-Morges II vs Lausanne II (0)
UID:30bb9f36-5efd-45ba-ba0f-629d107c2f88
STATUS:CONFIRMED
LAST-MODIFIED:20251003T163209Z
DESCRIPTION:1ère ligue Hommes Groupe 1\, Tours 1&2\nBegegnungs-Nr: 0\nHeim: Forward-Morges II\nGast: Lausanne II\n\nAdresse: Chemin de Tolochenaz\, 1110 Morges\n
LOCATION:Chemin de Tolochenaz\, 1110 Morges
CATEGORIES:Saison 2025/26
END:VEVENT
BEGIN:VEVENT
DTSTAMP:20260424T115002Z
DTSTART;TZID=Europe/Berlin:20251009T194500
DTEND;TZID=Europe/Berlin:20251009T224500
SUMMARY:ME L1 Gr 1\, Tours 1&2 Forward-Morges II vs Collombey/Muraz (0)
UID:1b80df4d-a4e1-498b-bdc4-cb38e4c0c8d0
STATUS:CONFIRMED
LAST-MODIFIED:20251011T111828Z
DESCRIPTION:1ère ligue Hommes Groupe 1\, Tours 1&2\nBegegnungs-Nr: 0\nHeim: Forward-Morges II\nGast: Collombey/Muraz\n\nAdresse: Chemin de Tolochenaz\, 1110 Morges\n
LOCATION:Chemin de Tolochenaz\, 1110 Morges
CATEGORIES:Saison 2025/26
END:VEVENT
BEGIN:VEVENT
DTSTAMP:20260424T115002Z
DTSTART;TZID=Europe/Berlin:20251106T194500
DTEND;TZID=Europe/Berlin:20251106T224500
SUMMARY:ME L1 Gr 1\, Tours 1&2 Forward-Morges II vs Martigny (0)
UID:4784b695-afc9-492d-8044-724aaff8ca9b
STATUS:CONFIRMED
LAST-MODIFIED:20251109T122246Z
DESCRIPTION:1ère ligue Hommes Groupe 1\, Tours 1&2\nBegegnungs-Nr: 0\nHeim: Forward-Morges II\nGast: Martigny\n\nAdresse: Chemin de Tolochenaz\, 1110 Morges\n
LOCATION:Chemin de Tolochenaz\, 1110 Morges
CATEGORIES:Saison 2025/26
END:VEVENT
BEGIN:VEVENT
DTSTAMP:20260424T115002Z
DTSTART;TZID=Europe/Berlin:20251120T194500
DTEND;TZID=Europe/Berlin:20251120T224500
SUMMARY:ME L1 Gr 1\, Tours 1&2 Forward-Morges II vs Sierre II (0)
UID:1b45d213-63cb-40e6-9ee5-7026fa13d7c2
STATUS:CONFIRMED
LAST-MODIFIED:20251122T095720Z
DESCRIPTION:1ère ligue Hommes Groupe 1\, Tours 1&2\nBegegnungs-Nr: 0\nHeim: Forward-Morges II\nGast: Sierre II\n\nAdresse: Chemin de Tolochenaz\, 1110 Morges\n
LOCATION:Chemin de Tolochenaz\, 1110 Morges
CATEGORIES:Saison 2025/26
END:VEVENT
BEGIN:VEVENT
DTSTAMP:20260424T115002Z
DTSTART;TZID=Europe/Berlin:20250904T194500
DTEND;TZID=Europe/Berlin:20250904T224500
SUMMARY:ME L1 Gr 1\, Tours 1&2 Forward-Morges II vs Vevey II (0)
UID:851074b8-ac9c-4e19-8d47-233be7c668e9
STATUS:CONFIRMED
LAST-MODIFIED:20250905T182521Z
DESCRIPTION:1ère ligue Hommes Groupe 1\, Tours 1&2\nBegegnungs-Nr: 0\nHeim: Forward-Morges II\nGast: Vevey II\n\nAdresse: Chemin de Tolochenaz\, 1110 Morges\n
LOCATION:Chemin de Tolochenaz\, 1110 Morges
CATEGORIES:Saison 2025/26
END:VEVENT
BEGIN:VEVENT
DTSTAMP:20260424T115002Z
DTSTART;TZID=Europe/Berlin:20260122T194500
DTEND;TZID=Europe/Berlin:20260122T224500
SUMMARY:ME L1 Gr 2\, Tours 3&4 Forward-Morges II vs Yverdon (0)
UID:6a3a5d5c-bcf5-44a1-a7f4-81086e8da109
STATUS:CONFIRMED
LAST-MODIFIED:20260124T153540Z
DESCRIPTION:1ère ligue Hommes Groupe 2\, Tours 3&4\nBegegnungs-Nr: 0\nHeim: Forward-Morges II\nGast: Yverdon\n\nAdresse: Chemin de Tolochenaz\, 1110 Morges\n
LOCATION:Chemin de Tolochenaz\, 1110 Morges
CATEGORIES:Saison 2025/26
END:VEVENT
BEGIN:VEVENT
DTSTAMP:20260424T115002Z
DTSTART;TZID=Europe/Berlin:20260205T194500
DTEND;TZID=Europe/Berlin:20260205T224500
SUMMARY:ME L1 Gr 2\, Tours 3&4 Forward-Morges II vs Martigny (0)
UID:f150d48f-376b-4e1e-b199-186bf6024f90
STATUS:CONFIRMED
LAST-MODIFIED:20260206T183804Z
DESCRIPTION:1ère ligue Hommes Groupe 2\, Tours 3&4\nBegegnungs-Nr: 0\nHeim: Forward-Morges II\nGast: Martigny\n\nAdresse: Chemin de Tolochenaz\, 1110 Morges\n
LOCATION:Chemin de Tolochenaz\, 1110 Morges
CATEGORIES:Saison 2025/26
END:VEVENT
BEGIN:VEVENT
DTSTAMP:20260424T115002Z
DTSTART;TZID=Europe/Berlin:20260212T194500
DTEND;TZID=Europe/Berlin:20260212T224500
SUMMARY:ME L1 Gr 2\, Tours 3&4 Forward-Morges II vs Lausanne V (0)
UID:41439eb0-4ec5-4552-a87d-ab0056425431
STATUS:CONFIRMED
LAST-MODIFIED:20260214T170202Z
DESCRIPTION:1ère ligue Hommes Groupe 2\, Tours 3&4\nBegegnungs-Nr: 0\nHeim: Forward-Morges II\nGast: Lausanne V\n\nAdresse: Chemin de Tolochenaz\, 1110 Morges\n
LOCATION:Chemin de Tolochenaz\, 1110 Morges
CATEGORIES:Saison 2025/26
END:VEVENT
BEGIN:VEVENT
DTSTAMP:20260424T115002Z
DTSTART;TZID=Europe/Berlin:20260226T194500
DTEND;TZID=Europe/Berlin:20260226T224500
SUMMARY:ME L1 Gr 2\, Tours 3&4 Forward-Morges II vs Rossens II (0)
UID:ac110064-0b38-4c38-9999-cfa91eb3fcb1
STATUS:CONFIRMED
LAST-MODIFIED:20260227T102028Z
DESCRIPTION:1ère ligue Hommes Groupe 2\, Tours 3&4\nBegegnungs-Nr: 0\nHeim: Forward-Morges II\nGast: Rossens II\n\nAdresse: Chemin de Tolochenaz\, 1110 Morges\n
LOCATION:Chemin de Tolochenaz\, 1110 Morges
CATEGORIES:Saison 2025/26
END:VEVENT
BEGIN:VEVENT
DTSTAMP:20260424T115002Z
DTSTART;TZID=Europe/Berlin:20260312T194500
DTEND;TZID=Europe/Berlin:20260312T224500
SUMMARY:ME L1 Gr 2\, Tours 3&4 Forward-Morges II vs Sierre II (0)
UID:f4732c7e-4295-4744-9da0-ad07c731ca4e
STATUS:CONFIRMED
LAST-MODIFIED:20260313T231642Z
DESCRIPTION:1ère ligue Hommes Groupe 2\, Tours 3&4\nBegegnungs-Nr: 0\nHeim: Forward-Morges II\nGast: Sierre II\n\nAdresse: Chemin de Tolochenaz\, 1110 Morges\n
LOCATION:Chemin de Tolochenaz\, 1110 Morges
CATEGORIES:Saison 2025/26
END:VEVENT
BEGIN:VEVENT
DTSTAMP:20260424T115002Z
DTSTART;TZID=Europe/Berlin:20251030T200000
DTEND;TZID=Europe/Berlin:20251030T230000
SUMMARY:ME L1 Gr 1\, Tours 1&2 Vevey II vs Forward-Morges II (0)
UID:1c68dc8e-446f-433d-8056-0ae4fb94289a
STATUS:CONFIRMED
LAST-MODIFIED:20251101T153725Z
DESCRIPTION:1ère ligue Hommes Groupe 1\, Tours 1&2\nBegegnungs-Nr: 0\nHeim: Vevey II\nGast: Forward-Morges II\n\nAdresse: Rue Louis-Meyer\, 1800 Vevey\n
LOCATION:Rue Louis-Meyer\, 1800 Vevey
CATEGORIES:Saison 2025/26
END:VEVENT
BEGIN:VEVENT
DTSTAMP:20260424T115002Z
DTSTART;TZID=Europe/Berlin:20251124T194500
DTEND;TZID=Europe/Berlin:20251124T224500
SUMMARY:ME L1 Gr 1\, Tours 1&2 Lausanne II vs Forward-Morges II (0)
UID:1fd8b859-6a31-4c70-a26f-170449533c35
STATUS:CONFIRMED
LAST-MODIFIED:20251125T150441Z
DESCRIPTION:1ère ligue Hommes Groupe 1\, Tours 1&2\nBegegnungs-Nr: 0\nHeim: Lausanne II\nGast: Forward-Morges II\n\nAdresse: Vaudoise Aréna\, Ch. du Viaduc 14\, 1008 Prilly\n
LOCATION:Vaudoise Aréna\, Ch. du Viaduc 14\, 1008 Prilly
CATEGORIES:Saison 2025/26
END:VEVENT
BEGIN:VEVENT
DTSTAMP:20260424T115002Z
DTSTART;TZID=Europe/Berlin:20251116T170000
DTEND;TZID=Europe/Berlin:20251116T200000
SUMMARY:ME L1 Gr 1\, Tours 1&2 Collombey/Muraz vs Forward-Morges II (0)
UID:32cb900e-ddb6-4454-9350-425b24545aa2
STATUS:CONFIRMED
LAST-MODIFIED:20251116T214733Z
DESCRIPTION:1ère ligue Hommes Groupe 1\, Tours 1&2\nBegegnungs-Nr: 0\nHeim: Collombey/Muraz\nGast: Forward-Morges II\n\nAdresse: Route du Montagnier 81\, 1868 Collombey\n
LOCATION:Route du Montagnier 81\, 1868 Collombey
CATEGORIES:Saison 2025/26
END:VEVENT
BEGIN:VEVENT
DTSTAMP:20260424T115002Z
DTSTART;TZID=Europe/Berlin:20250911T200000
DTEND;TZID=Europe/Berlin:20250911T230000
SUMMARY:ME L1 Gr 1\, Tours 1&2 Martigny vs Forward-Morges II (0)
UID:e8dac149-24fb-4de6-a97a-f55c80b653ee
STATUS:CONFIRMED
LAST-MODIFIED:20250912T142456Z
DESCRIPTION:1ère ligue Hommes Groupe 1\, Tours 1&2\nBegegnungs-Nr: 0\nHeim: Martigny\nGast: Forward-Morges II\n\nAdresse: Rue des Ecoles 9\, 1920 Martigny\n
LOCATION:Rue des Ecoles 9\, 1920 Martigny
CATEGORIES:Saison 2025/26
END:VEVENT
BEGIN:VEVENT
DTSTAMP:20260424T115002Z
DTSTART;TZID=Europe/Berlin:20250917T200000
DTEND;TZID=Europe/Berlin:20250917T230000
SUMMARY:ME L1 Gr 1\, Tours 1&2 Sierre II vs Forward-Morges II (0)
UID:3af56544-b850-4799-982e-6c8bbe62806b
STATUS:CONFIRMED
LAST-MODIFIED:20250918T181921Z
DESCRIPTION:1ère ligue Hommes Groupe 1\, Tours 1&2\nBegegnungs-Nr: 0\nHeim: Sierre II\nGast: Forward-Morges II\n\nAdresse: Rte des Liddes 6\, 3960 Sierre\n
LOCATION:Rte des Liddes 6\, 3960 Sierre
CATEGORIES:Saison 2025/26
END:VEVENT
BEGIN:VEVENT
DTSTAMP:20260424T115002Z
DTSTART;TZID=Europe/Berlin:20260116T200000
DTEND;TZID=Europe/Berlin:20260116T230000
SUMMARY:ME L1 Gr 2\, Tours 3&4 Rossens II vs Forward-Morges II (0)
UID:0d562872-d19f-4373-8bdd-225c6e336a00
STATUS:CONFIRMED
LAST-MODIFIED:20260117T130758Z
DESCRIPTION:1ère ligue Hommes Groupe 2\, Tours 3&4\nBegegnungs-Nr: 0\nHeim: Rossens II\nGast: Forward-Morges II\n\nAdresse: Route du Jordil 14\, 1728 Rossens\n
LOCATION:Route du Jordil 14\, 1728 Rossens
CATEGORIES:Saison 2025/26
END:VEVENT
BEGIN:VEVENT
DTSTAMP:20260424T115002Z
DTSTART;TZID=Europe/Berlin:20260128T200000
DTEND;TZID=Europe/Berlin:20260128T230000
SUMMARY:ME L1 Gr 2\, Tours 3&4 Sierre II vs Forward-Morges II (0)
UID:0fa4717f-08f2-4aaf-b454-0f698a0d3e62
STATUS:CONFIRMED
LAST-MODIFIED:20260130T172827Z
DESCRIPTION:1ère ligue Hommes Groupe 2\, Tours 3&4\nBegegnungs-Nr: 0\nHeim: Sierre II\nGast: Forward-Morges II\n\nAdresse: Rte des Liddes 6\, 3960 Sierre\n
LOCATION:Rte des Liddes 6\, 3960 Sierre
CATEGORIES:Saison 2025/26
END:VEVENT
BEGIN:VEVENT
DTSTAMP:20260424T115002Z
DTSTART;TZID=Europe/Berlin:20260305T201500
DTEND;TZID=Europe/Berlin:20260305T231500
SUMMARY:ME L1 Gr 2\, Tours 3&4 Yverdon vs Forward-Morges II (0)
UID:45d9e39a-6b5f-412d-a78d-97cdb1efb67c
STATUS:CONFIRMED
LAST-MODIFIED:20260306T212002Z
DESCRIPTION:1ère ligue Hommes Groupe 2\, Tours 3&4\nBegegnungs-Nr: 0\nHeim: Yverdon\nGast: Forward-Morges II\n\nAdresse: Avenue des Quatre Marroniers 1\, 1400 Yverdon-les-Bains\n
LOCATION:Avenue des Quatre Marroniers 1\, 1400 Yverdon-les-Bains
CATEGORIES:Saison 2025/26
END:VEVENT
BEGIN:VEVENT
DTSTAMP:20260424T115002Z
DTSTART;TZID=Europe/Berlin:20260317T200000
DTEND;TZID=Europe/Berlin:20260317T230000
SUMMARY:ME L1 Gr 2\, Tours 3&4 Martigny vs Forward-Morges II (0)
UID:55202797-c7ea-422a-b013-2aaf62aee8bf
STATUS:CONFIRMED
LAST-MODIFIED:20260318T000041Z
DESCRIPTION:1ère ligue Hommes Groupe 2\, Tours 3&4\nBegegnungs-Nr: 0\nHeim: Martigny\nGast: Forward-Morges II\n\nAdresse: Rue des Ecoles 9\, 1920 Martigny\n
LOCATION:Rue des Ecoles 9\, 1920 Martigny
CATEGORIES:Saison 2025/26
END:VEVENT
BEGIN:VEVENT
DTSTAMP:20260424T115002Z
DTSTART;TZID=Europe/Berlin:20260331T200000
DTEND;TZID=Europe/Berlin:20260331T230000
SUMMARY:ME L1 Gr 2\, Tours 3&4 Lausanne V vs Forward-Morges II (0)
UID:338e1a64-76f8-40b0-983b-d5b86878da52
STATUS:CONFIRMED
LAST-MODIFIED:20260401T151029Z
DESCRIPTION:1ère ligue Hommes Groupe 2\, Tours 3&4\nBegegnungs-Nr: 0\nHeim: Lausanne V\nGast: Forward-Morges II\n\nAdresse: Vaudoise Aréna\, Ch. du Viaduc 14\, 1008 Prilly\n
LOCATION:Vaudoise Aréna\, Ch. du Viaduc 14\, 1008 Prilly
CATEGORIES:Saison 2025/26
END:VEVENT
END:VCALENDAR
