BEGIN:VCALENDAR
PRODID:-//nuDatenautomaten//framework iCal4j //DE
VERSION:2.0
CALSCALE:GREGORIAN
BEGIN:VTIMEZONE
TZID:Europe/Berlin
LAST-MODIFIED:20260306T231828Z
TZURL:https://www.tzurl.org/zoneinfo/Europe/Berlin
X-LIC-LOCATION:Europe/Berlin
X-PROLEPTIC-TZNAME:LMT
BEGIN:STANDARD
TZNAME:CET
TZOFFSETFROM:+005328
TZOFFSETTO:+0100
DTSTART:18930401T000000
END:STANDARD
BEGIN:DAYLIGHT
TZNAME:CEST
TZOFFSETFROM:+0100
TZOFFSETTO:+0200
DTSTART:19160430T230000
RDATE:19400401T020000
RDATE:19430329T020000
RDATE:19460414T020000
RDATE:19470406T030000
RDATE:19480418T020000
RDATE:19490410T020000
RDATE:19800406T020000
END:DAYLIGHT
BEGIN:STANDARD
TZNAME:CET
TZOFFSETFROM:+0200
TZOFFSETTO:+0100
DTSTART:19161001T010000
RDATE:19421102T030000
RDATE:19431004T030000
RDATE:19441002T030000
RDATE:19451118T030000
RDATE:19461007T030000
END:STANDARD
BEGIN:DAYLIGHT
TZNAME:CEST
TZOFFSETFROM:+0100
TZOFFSETTO:+0200
DTSTART:19170416T020000
RRULE:FREQ=YEARLY;UNTIL=19180415T010000Z;BYMONTH=4;BYDAY=3MO
END:DAYLIGHT
BEGIN:STANDARD
TZNAME:CET
TZOFFSETFROM:+0200
TZOFFSETTO:+0100
DTSTART:19170917T030000
RRULE:FREQ=YEARLY;UNTIL=19180916T010000Z;BYMONTH=9;BYDAY=3MO
END:STANDARD
BEGIN:DAYLIGHT
TZNAME:CEST
TZOFFSETFROM:+0100
TZOFFSETTO:+0200
DTSTART:19440403T020000
RRULE:FREQ=YEARLY;UNTIL=19450402T010000Z;BYMONTH=4;BYDAY=1MO
END:DAYLIGHT
BEGIN:DAYLIGHT
TZNAME:CEMT
TZOFFSETFROM:+0200
TZOFFSETTO:+0300
DTSTART:19450524T020000
RDATE:19470511T030000
END:DAYLIGHT
BEGIN:DAYLIGHT
TZNAME:CEST
TZOFFSETFROM:+0300
TZOFFSETTO:+0200
DTSTART:19450924T030000
RDATE:19470629T030000
END:DAYLIGHT
BEGIN:STANDARD
TZNAME:CET
TZOFFSETFROM:+0100
TZOFFSETTO:+0100
DTSTART:19460101T000000
RDATE:19800101T000000
END:STANDARD
BEGIN:STANDARD
TZNAME:CET
TZOFFSETFROM:+0200
TZOFFSETTO:+0100
DTSTART:19471005T030000
RRULE:FREQ=YEARLY;UNTIL=19491002T010000Z;BYMONTH=10;BYDAY=1SU
END:STANDARD
BEGIN:STANDARD
TZNAME:CET
TZOFFSETFROM:+0200
TZOFFSETTO:+0100
DTSTART:19800928T030000
RRULE:FREQ=YEARLY;UNTIL=19950924T010000Z;BYMONTH=9;BYDAY=-1SU
END:STANDARD
BEGIN:DAYLIGHT
TZNAME:CEST
TZOFFSETFROM:+0100
TZOFFSETTO:+0200
DTSTART:19810329T020000
RRULE:FREQ=YEARLY;BYMONTH=3;BYDAY=-1SU
END:DAYLIGHT
BEGIN:STANDARD
TZNAME:CET
TZOFFSETFROM:+0200
TZOFFSETTO:+0100
DTSTART:19961027T030000
RRULE:FREQ=YEARLY;BYMONTH=10;BYDAY=-1SU
END:STANDARD
END:VTIMEZONE
BEGIN:VEVENT
DTSTAMP:20260424T121226Z
DTSTART;TZID=Europe/Berlin:20260105T201500
DTEND;TZID=Europe/Berlin:20260105T231500
SUMMARY:HE 6. Liga Gr. 3 Wallenwil IV vs Steckborn-Homburg VI (0)
UID:3b9b2e0e-d6ae-4819-98d6-4af23e333e00
STATUS:CONFIRMED
LAST-MODIFIED:20260109T080308Z
DESCRIPTION:6. Liga Herren Gruppe 3\nBegegnungs-Nr: 0\nHeim: Wallenwil IV\nGast: Steckborn-Homburg VI\n\nAdresse: Stationsstrasse 29\, 8360 Wallenwil\n
LOCATION:Stationsstrasse 29\, 8360 Wallenwil
CATEGORIES:Saison 2025/26
END:VEVENT
BEGIN:VEVENT
DTSTAMP:20260424T121226Z
DTSTART;TZID=Europe/Berlin:20260119T201500
DTEND;TZID=Europe/Berlin:20260119T231500
SUMMARY:HE 6. Liga Gr. 3 Wallenwil IV vs Schlatt III (0)
UID:dcdcd2db-9146-445e-bbbc-6af46216179a
STATUS:CONFIRMED
LAST-MODIFIED:20260120T153723Z
DESCRIPTION:6. Liga Herren Gruppe 3\nBegegnungs-Nr: 0\nHeim: Wallenwil IV\nGast: Schlatt III\n\nAdresse: Stationsstrasse 29\, 8360 Wallenwil\n
LOCATION:Stationsstrasse 29\, 8360 Wallenwil
CATEGORIES:Saison 2025/26
END:VEVENT
BEGIN:VEVENT
DTSTAMP:20260424T121226Z
DTSTART;TZID=Europe/Berlin:20260323T201500
DTEND;TZID=Europe/Berlin:20260323T231500
SUMMARY:HE 6. Liga Gr. 3 Wallenwil IV vs Weinfelden VI (0)
UID:c9e2f4c6-1666-4cff-8a98-d05b6292a7e8
STATUS:CONFIRMED
LAST-MODIFIED:20260326T153411Z
DESCRIPTION:6. Liga Herren Gruppe 3\nBegegnungs-Nr: 0\nHeim: Wallenwil IV\nGast: Weinfelden VI\n\nAdresse: Stationsstrasse 29\, 8360 Wallenwil\n
LOCATION:Stationsstrasse 29\, 8360 Wallenwil
CATEGORIES:Saison 2025/26
END:VEVENT
BEGIN:VEVENT
DTSTAMP:20260424T121226Z
DTSTART;TZID=Europe/Berlin:20260316T201500
DTEND;TZID=Europe/Berlin:20260316T231500
SUMMARY:HE 6. Liga Gr. 3 Wallenwil IV vs Wuppenau III (0)
UID:23e6c449-892a-40cf-b624-fdc98c5c450f
STATUS:CONFIRMED
LAST-MODIFIED:20260317T145014Z
DESCRIPTION:6. Liga Herren Gruppe 3\nBegegnungs-Nr: 0\nHeim: Wallenwil IV\nGast: Wuppenau III\n\nAdresse: Stationsstrasse 29\, 8360 Wallenwil\n
LOCATION:Stationsstrasse 29\, 8360 Wallenwil
CATEGORIES:Saison 2025/26
END:VEVENT
BEGIN:VEVENT
DTSTAMP:20260424T121226Z
DTSTART;TZID=Europe/Berlin:20250901T201500
DTEND;TZID=Europe/Berlin:20250901T231500
SUMMARY:HE 6. Liga Gr. 3 Wallenwil IV vs Neuhausen VII (0)
UID:8bc4b758-26da-4c6c-bb14-216339a39026
STATUS:CONFIRMED
LAST-MODIFIED:20250902T093217Z
DESCRIPTION:6. Liga Herren Gruppe 3\nBegegnungs-Nr: 0\nHeim: Wallenwil IV\nGast: Neuhausen VII\n\nAdresse: Stationsstrasse 29\, 8360 Wallenwil\n
LOCATION:Stationsstrasse 29\, 8360 Wallenwil
CATEGORIES:Saison 2025/26
END:VEVENT
BEGIN:VEVENT
DTSTAMP:20260424T121226Z
DTSTART;TZID=Europe/Berlin:20250929T201500
DTEND;TZID=Europe/Berlin:20250929T231500
SUMMARY:HE 6. Liga Gr. 3 Wallenwil IV vs Imperial Winterthur III (0)
UID:aaccad91-99e9-418f-8274-ceeda0d4a785
STATUS:CONFIRMED
LAST-MODIFIED:20250930T124448Z
DESCRIPTION:6. Liga Herren Gruppe 3\nBegegnungs-Nr: 0\nHeim: Wallenwil IV\nGast: Imperial Winterthur III\n\nAdresse: Stationsstrasse 29\, 8360 Wallenwil\n
LOCATION:Stationsstrasse 29\, 8360 Wallenwil
CATEGORIES:Saison 2025/26
END:VEVENT
BEGIN:VEVENT
DTSTAMP:20260424T121226Z
DTSTART;TZID=Europe/Berlin:20251027T201500
DTEND;TZID=Europe/Berlin:20251027T231500
SUMMARY:HE 6. Liga Gr. 3 Wallenwil IV vs Bronschhofen IV (0)
UID:a9c75120-52d4-41c9-9915-d51a1bdd0d57
STATUS:CONFIRMED
LAST-MODIFIED:20251031T144439Z
DESCRIPTION:6. Liga Herren Gruppe 3\nBegegnungs-Nr: 0\nHeim: Wallenwil IV\nGast: Bronschhofen IV\n\nAdresse: Stationsstrasse 29\, 8360 Wallenwil\n
LOCATION:Stationsstrasse 29\, 8360 Wallenwil
CATEGORIES:Saison 2025/26
END:VEVENT
BEGIN:VEVENT
DTSTAMP:20260424T121226Z
DTSTART;TZID=Europe/Berlin:20260121T200000
DTEND;TZID=Europe/Berlin:20260121T230000
SUMMARY:HE 6. Liga Gr. 3 Neuhausen VII vs Wallenwil IV (0)
UID:f49caa17-44cc-41a5-859d-39ce3d29bb79
STATUS:CONFIRMED
LAST-MODIFIED:20260123T082730Z
DESCRIPTION:6. Liga Herren Gruppe 3\nBegegnungs-Nr: 0\nHeim: Neuhausen VII\nGast: Wallenwil IV\n\nAdresse: Ebnatstrasse 35\, 8200 Schaffhausen\n
LOCATION:Ebnatstrasse 35\, 8200 Schaffhausen
CATEGORIES:Saison 2025/26
END:VEVENT
BEGIN:VEVENT
DTSTAMP:20260424T121226Z
DTSTART;TZID=Europe/Berlin:20260302T200000
DTEND;TZID=Europe/Berlin:20260302T230000
SUMMARY:HE 6. Liga Gr. 3 Imperial Winterthur III vs Wallenwil IV (0)
UID:62bebd28-2844-4f80-888e-d8d4f5e2d38b
STATUS:CONFIRMED
LAST-MODIFIED:20260303T132639Z
DESCRIPTION:6. Liga Herren Gruppe 3\nBegegnungs-Nr: 0\nHeim: Imperial Winterthur III\nGast: Wallenwil IV\n\nAdresse: Büelhofstrasse 25a\, 8405 Winterthur\n
LOCATION:Büelhofstrasse 25a\, 8405 Winterthur
CATEGORIES:Saison 2025/26
END:VEVENT
BEGIN:VEVENT
DTSTAMP:20260424T121226Z
DTSTART;TZID=Europe/Berlin:20260309T200000
DTEND;TZID=Europe/Berlin:20260309T230000
SUMMARY:HE 6. Liga Gr. 3 Bronschhofen IV vs Wallenwil IV (0)
UID:4e69d54c-9e65-4167-a526-33fbccf7e9e6
STATUS:CONFIRMED
LAST-MODIFIED:20260313T132617Z
DESCRIPTION:6. Liga Herren Gruppe 3\nBegegnungs-Nr: 0\nHeim: Bronschhofen IV\nGast: Wallenwil IV\n\nAdresse: Schulstrasse 6\, 9552 Bronschhofen\n
LOCATION:Schulstrasse 6\, 9552 Bronschhofen
CATEGORIES:Saison 2025/26
END:VEVENT
BEGIN:VEVENT
DTSTAMP:20260424T121226Z
DTSTART;TZID=Europe/Berlin:20250829T194500
DTEND;TZID=Europe/Berlin:20250829T224500
SUMMARY:HE 6. Liga Gr. 3 Steckborn-Homburg VI vs Wallenwil IV (0)
UID:db1e74df-f0f7-4cd7-9da6-1dc7f4b4ed9d
STATUS:CONFIRMED
LAST-MODIFIED:20250902T093137Z
DESCRIPTION:6. Liga Herren Gruppe 3\nBegegnungs-Nr: 0\nHeim: Steckborn-Homburg VI\nGast: Wallenwil IV\n\nAdresse: Schulstrasse 4\, 8508 Unterhörstetten\n
LOCATION:Schulstrasse 4\, 8508 Unterhörstetten
CATEGORIES:Saison 2025/26
END:VEVENT
BEGIN:VEVENT
DTSTAMP:20260424T121226Z
DTSTART;TZID=Europe/Berlin:20250920T100000
DTEND;TZID=Europe/Berlin:20250920T130000
SUMMARY:HE 6. Liga Gr. 3 Schlatt III vs Wallenwil IV (0)
UID:d295c4d1-03f5-40e0-8717-a46ee4761e46
STATUS:CONFIRMED
LAST-MODIFIED:20251007T060316Z
DESCRIPTION:6. Liga Herren Gruppe 3\nBegegnungs-Nr: 0\nHeim: Schlatt III\nGast: Wallenwil IV\n\nAdresse: Waltersteinerstrasse 79\, 8418 Schlatt ZH\n
LOCATION:Waltersteinerstrasse 79\, 8418 Schlatt ZH
CATEGORIES:Saison 2025/26
END:VEVENT
BEGIN:VEVENT
DTSTAMP:20260424T121226Z
DTSTART;TZID=Europe/Berlin:20251106T201500
DTEND;TZID=Europe/Berlin:20251106T231500
SUMMARY:HE 6. Liga Gr. 3 Weinfelden VI vs Wallenwil IV (0)
UID:15ce38a5-e3e5-4d51-8f53-c23501dc6958
STATUS:CONFIRMED
LAST-MODIFIED:20251107T145409Z
DESCRIPTION:6. Liga Herren Gruppe 3\nBegegnungs-Nr: 0\nHeim: Weinfelden VI\nGast: Wallenwil IV\n\nAdresse: Bleichestrasse 3 (neben Hallenbad)\, 8570 Weinfelden\n
LOCATION:Bleichestrasse 3 (neben Hallenbad)\, 8570 Weinfelden
CATEGORIES:Saison 2025/26
END:VEVENT
BEGIN:VEVENT
DTSTAMP:20260424T121226Z
DTSTART;TZID=Europe/Berlin:20251205T200000
DTEND;TZID=Europe/Berlin:20251205T230000
SUMMARY:HE 6. Liga Gr. 3 Wuppenau III vs Wallenwil IV (0)
UID:6bd0dbc4-a215-455c-b483-062e11b34d7c
STATUS:CONFIRMED
LAST-MODIFIED:20251210T093202Z
DESCRIPTION:6. Liga Herren Gruppe 3\nBegegnungs-Nr: 0\nHeim: Wuppenau III\nGast: Wallenwil IV\n\nAdresse: Nollenstrasse\, 9514 Wuppenau\n
LOCATION:Nollenstrasse\, 9514 Wuppenau
CATEGORIES:Saison 2025/26
END:VEVENT
END:VCALENDAR
