BEGIN:VCALENDAR
PRODID:-//nuDatenautomaten//framework iCal4j //DE
VERSION:2.0
CALSCALE:GREGORIAN
BEGIN:VTIMEZONE
TZID:Europe/Berlin
LAST-MODIFIED:20260306T231828Z
TZURL:https://www.tzurl.org/zoneinfo/Europe/Berlin
X-LIC-LOCATION:Europe/Berlin
X-PROLEPTIC-TZNAME:LMT
BEGIN:STANDARD
TZNAME:CET
TZOFFSETFROM:+005328
TZOFFSETTO:+0100
DTSTART:18930401T000000
END:STANDARD
BEGIN:DAYLIGHT
TZNAME:CEST
TZOFFSETFROM:+0100
TZOFFSETTO:+0200
DTSTART:19160430T230000
RDATE:19400401T020000
RDATE:19430329T020000
RDATE:19460414T020000
RDATE:19470406T030000
RDATE:19480418T020000
RDATE:19490410T020000
RDATE:19800406T020000
END:DAYLIGHT
BEGIN:STANDARD
TZNAME:CET
TZOFFSETFROM:+0200
TZOFFSETTO:+0100
DTSTART:19161001T010000
RDATE:19421102T030000
RDATE:19431004T030000
RDATE:19441002T030000
RDATE:19451118T030000
RDATE:19461007T030000
END:STANDARD
BEGIN:DAYLIGHT
TZNAME:CEST
TZOFFSETFROM:+0100
TZOFFSETTO:+0200
DTSTART:19170416T020000
RRULE:FREQ=YEARLY;UNTIL=19180415T010000Z;BYMONTH=4;BYDAY=3MO
END:DAYLIGHT
BEGIN:STANDARD
TZNAME:CET
TZOFFSETFROM:+0200
TZOFFSETTO:+0100
DTSTART:19170917T030000
RRULE:FREQ=YEARLY;UNTIL=19180916T010000Z;BYMONTH=9;BYDAY=3MO
END:STANDARD
BEGIN:DAYLIGHT
TZNAME:CEST
TZOFFSETFROM:+0100
TZOFFSETTO:+0200
DTSTART:19440403T020000
RRULE:FREQ=YEARLY;UNTIL=19450402T010000Z;BYMONTH=4;BYDAY=1MO
END:DAYLIGHT
BEGIN:DAYLIGHT
TZNAME:CEMT
TZOFFSETFROM:+0200
TZOFFSETTO:+0300
DTSTART:19450524T020000
RDATE:19470511T030000
END:DAYLIGHT
BEGIN:DAYLIGHT
TZNAME:CEST
TZOFFSETFROM:+0300
TZOFFSETTO:+0200
DTSTART:19450924T030000
RDATE:19470629T030000
END:DAYLIGHT
BEGIN:STANDARD
TZNAME:CET
TZOFFSETFROM:+0100
TZOFFSETTO:+0100
DTSTART:19460101T000000
RDATE:19800101T000000
END:STANDARD
BEGIN:STANDARD
TZNAME:CET
TZOFFSETFROM:+0200
TZOFFSETTO:+0100
DTSTART:19471005T030000
RRULE:FREQ=YEARLY;UNTIL=19491002T010000Z;BYMONTH=10;BYDAY=1SU
END:STANDARD
BEGIN:STANDARD
TZNAME:CET
TZOFFSETFROM:+0200
TZOFFSETTO:+0100
DTSTART:19800928T030000
RRULE:FREQ=YEARLY;UNTIL=19950924T010000Z;BYMONTH=9;BYDAY=-1SU
END:STANDARD
BEGIN:DAYLIGHT
TZNAME:CEST
TZOFFSETFROM:+0100
TZOFFSETTO:+0200
DTSTART:19810329T020000
RRULE:FREQ=YEARLY;BYMONTH=3;BYDAY=-1SU
END:DAYLIGHT
BEGIN:STANDARD
TZNAME:CET
TZOFFSETFROM:+0200
TZOFFSETTO:+0100
DTSTART:19961027T030000
RRULE:FREQ=YEARLY;BYMONTH=10;BYDAY=-1SU
END:STANDARD
END:VTIMEZONE
BEGIN:VEVENT
DTSTAMP:20260424T135219Z
DTSTART;TZID=Europe/Berlin:20260325T201500
DTEND;TZID=Europe/Berlin:20260325T231500
SUMMARY:HE 3. Liga Gr. 2 Wil SG III vs Wallenwil (0)
UID:e3fc5546-7abe-4bf4-a796-b9993806bbc9
STATUS:CONFIRMED
LAST-MODIFIED:20260326T141108Z
DESCRIPTION:3. Liga Herren Gruppe 2\nBegegnungs-Nr: 0\nHeim: Wil SG III\nGast: Wallenwil\n\nAdresse: Lindenhofstr. 23\, 9500 Wil\n
LOCATION:Lindenhofstr. 23\, 9500 Wil
CATEGORIES:Saison 2025/26
END:VEVENT
BEGIN:VEVENT
DTSTAMP:20260424T135219Z
DTSTART;TZID=Europe/Berlin:20260318T201500
DTEND;TZID=Europe/Berlin:20260318T231500
SUMMARY:HE 3. Liga Gr. 2 Wil SG III vs Herisau (0)
UID:d8657704-56d8-4cba-aa7d-6dc05085d6db
STATUS:CONFIRMED
LAST-MODIFIED:20260319T112815Z
DESCRIPTION:3. Liga Herren Gruppe 2\nBegegnungs-Nr: 0\nHeim: Wil SG III\nGast: Herisau\n\nAdresse: Lindenhofstr. 23\, 9500 Wil\n
LOCATION:Lindenhofstr. 23\, 9500 Wil
CATEGORIES:Saison 2025/26
END:VEVENT
BEGIN:VEVENT
DTSTAMP:20260424T135219Z
DTSTART;TZID=Europe/Berlin:20251029T201500
DTEND;TZID=Europe/Berlin:20251029T231500
SUMMARY:HE 3. Liga Gr. 2 Wil SG III vs Steckborn-Homburg II (0)
UID:cf0d8169-6122-468f-88cb-2dce65c40e5e
STATUS:CONFIRMED
LAST-MODIFIED:20251031T143003Z
DESCRIPTION:3. Liga Herren Gruppe 2\nBegegnungs-Nr: 0\nHeim: Wil SG III\nGast: Steckborn-Homburg II\n\nAdresse: Lindenhofstr. 23\, 9500 Wil\n
LOCATION:Lindenhofstr. 23\, 9500 Wil
CATEGORIES:Saison 2025/26
END:VEVENT
BEGIN:VEVENT
DTSTAMP:20260424T135219Z
DTSTART;TZID=Europe/Berlin:20260217T201500
DTEND;TZID=Europe/Berlin:20260217T231500
SUMMARY:HE 3. Liga Gr. 2 Wil SG III vs St. Gallen IV (0)
UID:e782ef77-0d14-4a3a-9177-b9bc01674d3a
STATUS:CONFIRMED
LAST-MODIFIED:20260225T102528Z
DESCRIPTION:3. Liga Herren Gruppe 2\nBegegnungs-Nr: 0\nHeim: Wil SG III\nGast: St. Gallen IV\n\nAdresse: Lindenhofstr. 23\, 9500 Wil\n
LOCATION:Lindenhofstr. 23\, 9500 Wil
CATEGORIES:Saison 2025/26
END:VEVENT
BEGIN:VEVENT
DTSTAMP:20260424T135219Z
DTSTART;TZID=Europe/Berlin:20250827T201500
DTEND;TZID=Europe/Berlin:20250827T231500
SUMMARY:HE 3. Liga Gr. 2 Wil SG III vs Gaiserwald II (0)
UID:bd549aa4-2ac1-4b9c-a35f-433ccff9a399
STATUS:CONFIRMED
LAST-MODIFIED:20250829T143041Z
DESCRIPTION:3. Liga Herren Gruppe 2\nBegegnungs-Nr: 0\nHeim: Wil SG III\nGast: Gaiserwald II\n\nAdresse: Lindenhofstr. 23\, 9500 Wil\n
LOCATION:Lindenhofstr. 23\, 9500 Wil
CATEGORIES:Saison 2025/26
END:VEVENT
BEGIN:VEVENT
DTSTAMP:20260424T135219Z
DTSTART;TZID=Europe/Berlin:20251008T201500
DTEND;TZID=Europe/Berlin:20251008T231500
SUMMARY:HE 3. Liga Gr. 2 Wil SG III vs Bronschhofen III (0)
UID:214b5555-e5e1-40bd-b75e-80e34f5c0ae6
STATUS:CONFIRMED
LAST-MODIFIED:20251015T084058Z
DESCRIPTION:3. Liga Herren Gruppe 2\nBegegnungs-Nr: 0\nHeim: Wil SG III\nGast: Bronschhofen III\n\nAdresse: Lindenhofstr. 23\, 9500 Wil\n
LOCATION:Lindenhofstr. 23\, 9500 Wil
CATEGORIES:Saison 2025/26
END:VEVENT
BEGIN:VEVENT
DTSTAMP:20260424T135219Z
DTSTART;TZID=Europe/Berlin:20260224T201500
DTEND;TZID=Europe/Berlin:20260224T231500
SUMMARY:HE 3. Liga Gr. 2 Wil SG III vs Ettenhausen (0)
UID:7788fc7a-07c8-40da-870c-64f88de56290
STATUS:CONFIRMED
LAST-MODIFIED:20260225T102538Z
DESCRIPTION:3. Liga Herren Gruppe 2\nBegegnungs-Nr: 0\nHeim: Wil SG III\nGast: Ettenhausen\n\nAdresse: Lindenhofstr. 23\, 9500 Wil\n
LOCATION:Lindenhofstr. 23\, 9500 Wil
CATEGORIES:Saison 2025/26
END:VEVENT
BEGIN:VEVENT
DTSTAMP:20260424T135219Z
DTSTART;TZID=Europe/Berlin:20251120T201500
DTEND;TZID=Europe/Berlin:20251120T231500
SUMMARY:HE 3. Liga Gr. 2 Wallenwil vs Wil SG III (0)
UID:8453a066-2c9a-472e-a9df-b75954e8a641
STATUS:CONFIRMED
LAST-MODIFIED:20251121T094359Z
DESCRIPTION:3. Liga Herren Gruppe 2\nBegegnungs-Nr: 0\nHeim: Wallenwil\nGast: Wil SG III\n\nAdresse: Stationsstrasse 29\, 8360 Wallenwil\n
LOCATION:Stationsstrasse 29\, 8360 Wallenwil
CATEGORIES:Saison 2025/26
END:VEVENT
BEGIN:VEVENT
DTSTAMP:20260424T135219Z
DTSTART;TZID=Europe/Berlin:20251212T200000
DTEND;TZID=Europe/Berlin:20251212T230000
SUMMARY:HE 3. Liga Gr. 2 Herisau vs Wil SG III (0)
UID:8d85a3e4-30c5-4663-8071-4f018ca4099f
STATUS:CONFIRMED
LAST-MODIFIED:20251215T133002Z
DESCRIPTION:3. Liga Herren Gruppe 2\nBegegnungs-Nr: 0\nHeim: Herisau\nGast: Wil SG III\n\nAdresse: Schwellbrunnerstrasse 29\, 9100 Herisau\n
LOCATION:Schwellbrunnerstrasse 29\, 9100 Herisau
CATEGORIES:Saison 2025/26
END:VEVENT
BEGIN:VEVENT
DTSTAMP:20260424T135219Z
DTSTART;TZID=Europe/Berlin:20260108T200000
DTEND;TZID=Europe/Berlin:20260108T230000
SUMMARY:HE 3. Liga Gr. 2 Gaiserwald II vs Wil SG III (0)
UID:a3948b28-7aa3-4e49-9422-fee0e1182f89
STATUS:CONFIRMED
LAST-MODIFIED:20260112T090649Z
DESCRIPTION:3. Liga Herren Gruppe 2\nBegegnungs-Nr: 0\nHeim: Gaiserwald II\nGast: Wil SG III\n\nAdresse: Sonnenbergstrasse 15\, 9030 Abtwil\n
LOCATION:Sonnenbergstrasse 15\, 9030 Abtwil
CATEGORIES:Saison 2025/26
END:VEVENT
BEGIN:VEVENT
DTSTAMP:20260424T135219Z
DTSTART;TZID=Europe/Berlin:20250905T200000
DTEND;TZID=Europe/Berlin:20250905T230000
SUMMARY:HE 3. Liga Gr. 2 St. Gallen IV vs Wil SG III (0)
UID:b4d4e457-8f50-4332-85b6-66157967ee0b
STATUS:CONFIRMED
LAST-MODIFIED:20250915T121554Z
DESCRIPTION:3. Liga Herren Gruppe 2\nBegegnungs-Nr: 0\nHeim: St. Gallen IV\nGast: Wil SG III\n\nAdresse: Zilstrasse 61\, 9016 St.Gallen\n
LOCATION:Zilstrasse 61\, 9016 St.Gallen
CATEGORIES:Saison 2025/26
END:VEVENT
BEGIN:VEVENT
DTSTAMP:20260424T135219Z
DTSTART;TZID=Europe/Berlin:20251213T123000
DTEND;TZID=Europe/Berlin:20251213T153000
SUMMARY:HE 3. Liga Gr. 2 Ettenhausen vs Wil SG III (0)
UID:38e635ba-c8ae-4bb1-a6a5-75c3235ee41e
STATUS:CONFIRMED
LAST-MODIFIED:20251215T133019Z
DESCRIPTION:3. Liga Herren Gruppe 2\nBegegnungs-Nr: 0\nHeim: Ettenhausen\nGast: Wil SG III\n\nAdresse: Weidlistrasse 12\, 8356 Ettenhausen\n
LOCATION:Weidlistrasse 12\, 8356 Ettenhausen
CATEGORIES:Saison 2025/26
END:VEVENT
BEGIN:VEVENT
DTSTAMP:20260424T135219Z
DTSTART;TZID=Europe/Berlin:20260128T200000
DTEND;TZID=Europe/Berlin:20260128T230000
SUMMARY:HE 3. Liga Gr. 2 Bronschhofen III vs Wil SG III (0)
UID:15866a5e-fc0f-4bb2-bcf1-3006037b6935
STATUS:CONFIRMED
LAST-MODIFIED:20260130T072952Z
DESCRIPTION:3. Liga Herren Gruppe 2\nBegegnungs-Nr: 0\nHeim: Bronschhofen III\nGast: Wil SG III\n\nAdresse: Industriestrasse 4\, 9552 Bronschhofen\n
LOCATION:Industriestrasse 4\, 9552 Bronschhofen
CATEGORIES:Saison 2025/26
END:VEVENT
BEGIN:VEVENT
DTSTAMP:20260424T135219Z
DTSTART;TZID=Europe/Berlin:20260313T194500
DTEND;TZID=Europe/Berlin:20260313T224500
SUMMARY:HE 3. Liga Gr. 2 Steckborn-Homburg II vs Wil SG III (0)
UID:bfc42c13-a3b3-403e-9449-68390ca94eec
STATUS:CONFIRMED
LAST-MODIFIED:20260317T133922Z
DESCRIPTION:3. Liga Herren Gruppe 2\nBegegnungs-Nr: 0\nHeim: Steckborn-Homburg II\nGast: Wil SG III\n\nAdresse: Schulstrasse 4\, 8508 Unterhörstetten\n
LOCATION:Schulstrasse 4\, 8508 Unterhörstetten
CATEGORIES:Saison 2025/26
END:VEVENT
END:VCALENDAR
