BEGIN:VCALENDAR
PRODID:-//nuDatenautomaten//framework iCal4j //DE
VERSION:2.0
CALSCALE:GREGORIAN
BEGIN:VTIMEZONE
TZID:Europe/Berlin
LAST-MODIFIED:20260306T231828Z
TZURL:https://www.tzurl.org/zoneinfo/Europe/Berlin
X-LIC-LOCATION:Europe/Berlin
X-PROLEPTIC-TZNAME:LMT
BEGIN:STANDARD
TZNAME:CET
TZOFFSETFROM:+005328
TZOFFSETTO:+0100
DTSTART:18930401T000000
END:STANDARD
BEGIN:DAYLIGHT
TZNAME:CEST
TZOFFSETFROM:+0100
TZOFFSETTO:+0200
DTSTART:19160430T230000
RDATE:19400401T020000
RDATE:19430329T020000
RDATE:19460414T020000
RDATE:19470406T030000
RDATE:19480418T020000
RDATE:19490410T020000
RDATE:19800406T020000
END:DAYLIGHT
BEGIN:STANDARD
TZNAME:CET
TZOFFSETFROM:+0200
TZOFFSETTO:+0100
DTSTART:19161001T010000
RDATE:19421102T030000
RDATE:19431004T030000
RDATE:19441002T030000
RDATE:19451118T030000
RDATE:19461007T030000
END:STANDARD
BEGIN:DAYLIGHT
TZNAME:CEST
TZOFFSETFROM:+0100
TZOFFSETTO:+0200
DTSTART:19170416T020000
RRULE:FREQ=YEARLY;UNTIL=19180415T010000Z;BYMONTH=4;BYDAY=3MO
END:DAYLIGHT
BEGIN:STANDARD
TZNAME:CET
TZOFFSETFROM:+0200
TZOFFSETTO:+0100
DTSTART:19170917T030000
RRULE:FREQ=YEARLY;UNTIL=19180916T010000Z;BYMONTH=9;BYDAY=3MO
END:STANDARD
BEGIN:DAYLIGHT
TZNAME:CEST
TZOFFSETFROM:+0100
TZOFFSETTO:+0200
DTSTART:19440403T020000
RRULE:FREQ=YEARLY;UNTIL=19450402T010000Z;BYMONTH=4;BYDAY=1MO
END:DAYLIGHT
BEGIN:DAYLIGHT
TZNAME:CEMT
TZOFFSETFROM:+0200
TZOFFSETTO:+0300
DTSTART:19450524T020000
RDATE:19470511T030000
END:DAYLIGHT
BEGIN:DAYLIGHT
TZNAME:CEST
TZOFFSETFROM:+0300
TZOFFSETTO:+0200
DTSTART:19450924T030000
RDATE:19470629T030000
END:DAYLIGHT
BEGIN:STANDARD
TZNAME:CET
TZOFFSETFROM:+0100
TZOFFSETTO:+0100
DTSTART:19460101T000000
RDATE:19800101T000000
END:STANDARD
BEGIN:STANDARD
TZNAME:CET
TZOFFSETFROM:+0200
TZOFFSETTO:+0100
DTSTART:19471005T030000
RRULE:FREQ=YEARLY;UNTIL=19491002T010000Z;BYMONTH=10;BYDAY=1SU
END:STANDARD
BEGIN:STANDARD
TZNAME:CET
TZOFFSETFROM:+0200
TZOFFSETTO:+0100
DTSTART:19800928T030000
RRULE:FREQ=YEARLY;UNTIL=19950924T010000Z;BYMONTH=9;BYDAY=-1SU
END:STANDARD
BEGIN:DAYLIGHT
TZNAME:CEST
TZOFFSETFROM:+0100
TZOFFSETTO:+0200
DTSTART:19810329T020000
RRULE:FREQ=YEARLY;BYMONTH=3;BYDAY=-1SU
END:DAYLIGHT
BEGIN:STANDARD
TZNAME:CET
TZOFFSETFROM:+0200
TZOFFSETTO:+0100
DTSTART:19961027T030000
RRULE:FREQ=YEARLY;BYMONTH=10;BYDAY=-1SU
END:STANDARD
END:VTIMEZONE
BEGIN:VEVENT
DTSTAMP:20260424T151018Z
DTSTART;TZID=Europe/Berlin:20260122T194500
DTEND;TZID=Europe/Berlin:20260122T224500
SUMMARY:S L3 Gr 1 Chexbres II vs Crissier III (0)
UID:07f90107-8c28-4505-8aef-f8c29517da4a
STATUS:CONFIRMED
LAST-MODIFIED:20260124T154702Z
DESCRIPTION:3ème ligue Seniors Groupe 1\nBegegnungs-Nr: 0\nHeim: Chexbres II\nGast: Crissier III\n\nAdresse: Collège de Praz Routoz\, 1071 Chexbres\n
LOCATION:Collège de Praz Routoz\, 1071 Chexbres
CATEGORIES:Saison 2025/26
END:VEVENT
BEGIN:VEVENT
DTSTAMP:20260424T151018Z
DTSTART;TZID=Europe/Berlin:20260305T194500
DTEND;TZID=Europe/Berlin:20260305T224500
SUMMARY:S L3 Gr 1 Chexbres II vs Montriond-Ouchy  III (0)
UID:d6b0ab72-5ed2-4426-aee3-8bc53951a3a5
STATUS:CONFIRMED
LAST-MODIFIED:20260306T212134Z
DESCRIPTION:3ème ligue Seniors Groupe 1\nBegegnungs-Nr: 0\nHeim: Chexbres II\nGast: Montriond-Ouchy  III\n\nAdresse: Collège de Praz Routoz\, 1071 Chexbres\n
LOCATION:Collège de Praz Routoz\, 1071 Chexbres
CATEGORIES:Saison 2025/26
END:VEVENT
BEGIN:VEVENT
DTSTAMP:20260424T151018Z
DTSTART;TZID=Europe/Berlin:20260326T194500
DTEND;TZID=Europe/Berlin:20260326T224500
SUMMARY:S L3 Gr 1 Chexbres II vs Lausanne III (0)
UID:f3b58de4-cb24-4e37-bc13-b785c2d8ec95
STATUS:CONFIRMED
LAST-MODIFIED:20260327T193753Z
DESCRIPTION:3ème ligue Seniors Groupe 1\nBegegnungs-Nr: 0\nHeim: Chexbres II\nGast: Lausanne III\n\nAdresse: Collège de Praz Routoz\, 1071 Chexbres\n
LOCATION:Collège de Praz Routoz\, 1071 Chexbres
CATEGORIES:Saison 2025/26
END:VEVENT
BEGIN:VEVENT
DTSTAMP:20260424T151018Z
DTSTART;TZID=Europe/Berlin:20251113T194500
DTEND;TZID=Europe/Berlin:20251113T224500
SUMMARY:S L3 Gr 1 Chexbres II vs Lausanne IV (0)
UID:e1161934-5afc-42ed-8ee4-a11cfdcca0de
STATUS:CONFIRMED
LAST-MODIFIED:20251115T152719Z
DESCRIPTION:3ème ligue Seniors Groupe 1\nBegegnungs-Nr: 0\nHeim: Chexbres II\nGast: Lausanne IV\n\nAdresse: Collège de Praz Routoz\, 1071 Chexbres\n
LOCATION:Collège de Praz Routoz\, 1071 Chexbres
CATEGORIES:Saison 2025/26
END:VEVENT
BEGIN:VEVENT
DTSTAMP:20260424T151018Z
DTSTART;TZID=Europe/Berlin:20251016T194500
DTEND;TZID=Europe/Berlin:20251016T224500
SUMMARY:S L3 Gr 1 Chexbres II vs Romanel II (0)
UID:74eb3312-6382-452c-965a-110a40d8b53a
STATUS:CONFIRMED
LAST-MODIFIED:20251016T153933Z
DESCRIPTION:3ème ligue Seniors Groupe 1\nBegegnungs-Nr: 0\nHeim: Chexbres II\nGast: Romanel II\n\nAdresse: Collège de Praz Routoz\, 1071 Chexbres\n
LOCATION:Collège de Praz Routoz\, 1071 Chexbres
CATEGORIES:Saison 2025/26
END:VEVENT
BEGIN:VEVENT
DTSTAMP:20260424T151018Z
DTSTART;TZID=Europe/Berlin:20260128T193000
DTEND;TZID=Europe/Berlin:20260128T223000
SUMMARY:S L3 Gr 1 Romanel II vs Chexbres II (0)
UID:dfda099d-f5c6-42a5-8de3-95fb20c2a03e
STATUS:CONFIRMED
LAST-MODIFIED:20251109T153739Z
DESCRIPTION:3ème ligue Seniors Groupe 1\nBegegnungs-Nr: 0\nHeim: Romanel II\nGast: Chexbres II\n\nAdresse: Ch des Epinettes 1\, 1032 Romanel-sur-Lausanne\n
LOCATION:Ch des Epinettes 1\, 1032 Romanel-sur-Lausanne
CATEGORIES:Saison 2025/26
END:VEVENT
BEGIN:VEVENT
DTSTAMP:20260424T151018Z
DTSTART;TZID=Europe/Berlin:20260219T200000
DTEND;TZID=Europe/Berlin:20260219T230000
SUMMARY:S L3 Gr 1 Lausanne IV vs Chexbres II (0)
UID:ff5d866e-9e43-461a-9030-fcf68aca67cf
STATUS:CONFIRMED
LAST-MODIFIED:20260222T211020Z
DESCRIPTION:3ème ligue Seniors Groupe 1\nBegegnungs-Nr: 0\nHeim: Lausanne IV\nGast: Chexbres II\n\nAdresse: Vaudoise Aréna\, Ch. du Viaduc 14\, 1008 Prilly\n
LOCATION:Vaudoise Aréna\, Ch. du Viaduc 14\, 1008 Prilly
CATEGORIES:Saison 2025/26
END:VEVENT
BEGIN:VEVENT
DTSTAMP:20260424T151018Z
DTSTART;TZID=Europe/Berlin:20250923T193000
DTEND;TZID=Europe/Berlin:20250923T223000
SUMMARY:S L3 Gr 1 Crissier III vs Chexbres II (0)
UID:092066ee-915c-4dca-bd11-86e65f5c34bf
STATUS:CONFIRMED
LAST-MODIFIED:20250924T072029Z
DESCRIPTION:3ème ligue Seniors Groupe 1\nBegegnungs-Nr: 0\nHeim: Crissier III\nGast: Chexbres II\n\nAdresse: Ch. de Roséaz\, 1030 Bussigny\n
LOCATION:Ch. de Roséaz\, 1030 Bussigny
CATEGORIES:Saison 2025/26
END:VEVENT
BEGIN:VEVENT
DTSTAMP:20260424T151018Z
DTSTART;TZID=Europe/Berlin:20251204T193000
DTEND;TZID=Europe/Berlin:20251204T223000
SUMMARY:S L3 Gr 1 Montriond-Ouchy  III vs Chexbres II (0)
UID:130fd314-9769-4ffa-9003-887281148c32
STATUS:CONFIRMED
LAST-MODIFIED:20251205T150853Z
DESCRIPTION:3ème ligue Seniors Groupe 1\nBegegnungs-Nr: 0\nHeim: Montriond-Ouchy  III\nGast: Chexbres II\n\nAdresse: Avenue d'Ouchy 45\, 1006 Lausanne\n
LOCATION:Avenue d'Ouchy 45\, 1006 Lausanne
CATEGORIES:Saison 2025/26
END:VEVENT
BEGIN:VEVENT
DTSTAMP:20260424T151018Z
DTSTART;TZID=Europe/Berlin:20251217T200000
DTEND;TZID=Europe/Berlin:20251217T230000
SUMMARY:S L3 Gr 1 Lausanne III vs Chexbres II (0)
UID:47f13ea7-e6cb-4d7e-8302-9f16e153cbbf
STATUS:CONFIRMED
LAST-MODIFIED:20251218T230316Z
DESCRIPTION:3ème ligue Seniors Groupe 1\nBegegnungs-Nr: 0\nHeim: Lausanne III\nGast: Chexbres II\n\nAdresse: Vaudoise Aréna\, Ch. du Viaduc 14\, 1008 Prilly\n
LOCATION:Vaudoise Aréna\, Ch. du Viaduc 14\, 1008 Prilly
CATEGORIES:Saison 2025/26
END:VEVENT
END:VCALENDAR
