BEGIN:VCALENDAR
PRODID:-//nuDatenautomaten//framework iCal4j //DE
VERSION:2.0
CALSCALE:GREGORIAN
BEGIN:VTIMEZONE
TZID:Europe/Berlin
LAST-MODIFIED:20260306T231828Z
TZURL:https://www.tzurl.org/zoneinfo/Europe/Berlin
X-LIC-LOCATION:Europe/Berlin
X-PROLEPTIC-TZNAME:LMT
BEGIN:STANDARD
TZNAME:CET
TZOFFSETFROM:+005328
TZOFFSETTO:+0100
DTSTART:18930401T000000
END:STANDARD
BEGIN:DAYLIGHT
TZNAME:CEST
TZOFFSETFROM:+0100
TZOFFSETTO:+0200
DTSTART:19160430T230000
RDATE:19400401T020000
RDATE:19430329T020000
RDATE:19460414T020000
RDATE:19470406T030000
RDATE:19480418T020000
RDATE:19490410T020000
RDATE:19800406T020000
END:DAYLIGHT
BEGIN:STANDARD
TZNAME:CET
TZOFFSETFROM:+0200
TZOFFSETTO:+0100
DTSTART:19161001T010000
RDATE:19421102T030000
RDATE:19431004T030000
RDATE:19441002T030000
RDATE:19451118T030000
RDATE:19461007T030000
END:STANDARD
BEGIN:DAYLIGHT
TZNAME:CEST
TZOFFSETFROM:+0100
TZOFFSETTO:+0200
DTSTART:19170416T020000
RRULE:FREQ=YEARLY;UNTIL=19180415T010000Z;BYMONTH=4;BYDAY=3MO
END:DAYLIGHT
BEGIN:STANDARD
TZNAME:CET
TZOFFSETFROM:+0200
TZOFFSETTO:+0100
DTSTART:19170917T030000
RRULE:FREQ=YEARLY;UNTIL=19180916T010000Z;BYMONTH=9;BYDAY=3MO
END:STANDARD
BEGIN:DAYLIGHT
TZNAME:CEST
TZOFFSETFROM:+0100
TZOFFSETTO:+0200
DTSTART:19440403T020000
RRULE:FREQ=YEARLY;UNTIL=19450402T010000Z;BYMONTH=4;BYDAY=1MO
END:DAYLIGHT
BEGIN:DAYLIGHT
TZNAME:CEMT
TZOFFSETFROM:+0200
TZOFFSETTO:+0300
DTSTART:19450524T020000
RDATE:19470511T030000
END:DAYLIGHT
BEGIN:DAYLIGHT
TZNAME:CEST
TZOFFSETFROM:+0300
TZOFFSETTO:+0200
DTSTART:19450924T030000
RDATE:19470629T030000
END:DAYLIGHT
BEGIN:STANDARD
TZNAME:CET
TZOFFSETFROM:+0100
TZOFFSETTO:+0100
DTSTART:19460101T000000
RDATE:19800101T000000
END:STANDARD
BEGIN:STANDARD
TZNAME:CET
TZOFFSETFROM:+0200
TZOFFSETTO:+0100
DTSTART:19471005T030000
RRULE:FREQ=YEARLY;UNTIL=19491002T010000Z;BYMONTH=10;BYDAY=1SU
END:STANDARD
BEGIN:STANDARD
TZNAME:CET
TZOFFSETFROM:+0200
TZOFFSETTO:+0100
DTSTART:19800928T030000
RRULE:FREQ=YEARLY;UNTIL=19950924T010000Z;BYMONTH=9;BYDAY=-1SU
END:STANDARD
BEGIN:DAYLIGHT
TZNAME:CEST
TZOFFSETFROM:+0100
TZOFFSETTO:+0200
DTSTART:19810329T020000
RRULE:FREQ=YEARLY;BYMONTH=3;BYDAY=-1SU
END:DAYLIGHT
BEGIN:STANDARD
TZNAME:CET
TZOFFSETFROM:+0200
TZOFFSETTO:+0100
DTSTART:19961027T030000
RRULE:FREQ=YEARLY;BYMONTH=10;BYDAY=-1SU
END:STANDARD
END:VTIMEZONE
BEGIN:VEVENT
DTSTAMP:20260424T152429Z
DTSTART;TZID=Europe/Berlin:20251203T194500
DTEND;TZID=Europe/Berlin:20251203T224500
SUMMARY:Ligue 4 Gr.3 Ph.A UGS-Chênois X vs Versoix III (30)
UID:f7f57826-c53b-407c-bc83-7fd09217c291
STATUS:CONFIRMED
LAST-MODIFIED:20251204T083908Z
DESCRIPTION:4ème ligue Hommes Gr.3 Phase A\nBegegnungs-Nr: 30\nHeim: UGS-Chênois X\nGast: Versoix III\n
LOCATION:
CATEGORIES:Saison 2025/26
END:VEVENT
BEGIN:VEVENT
DTSTAMP:20260424T152429Z
DTSTART;TZID=Europe/Berlin:20251113T194500
DTEND;TZID=Europe/Berlin:20251113T224500
SUMMARY:Ligue 4 Gr.3 Ph.A UGS-Chênois X vs ZZ-Lancy IX (19)
UID:f5156e4b-b48d-4b2f-9859-b01070799b01
STATUS:CONFIRMED
LAST-MODIFIED:20251117T082307Z
DESCRIPTION:4ème ligue Hommes Gr.3 Phase A\nBegegnungs-Nr: 19\nHeim: UGS-Chênois X\nGast: ZZ-Lancy IX\n
LOCATION:
CATEGORIES:Saison 2025/26
END:VEVENT
BEGIN:VEVENT
DTSTAMP:20260424T152429Z
DTSTART;TZID=Europe/Berlin:20250904T194500
DTEND;TZID=Europe/Berlin:20250904T224500
SUMMARY:Ligue 4 Gr.3 Ph.A UGS-Chênois X vs Silver Star VII (2)
UID:57891c76-dfda-4adc-9875-61294fa5bcfb
STATUS:CONFIRMED
LAST-MODIFIED:20250905T221651Z
DESCRIPTION:4ème ligue Hommes Gr.3 Phase A\nBegegnungs-Nr: 2\nHeim: UGS-Chênois X\nGast: Silver Star VII\n
LOCATION:
CATEGORIES:Saison 2025/26
END:VEVENT
BEGIN:VEVENT
DTSTAMP:20260424T152429Z
DTSTART;TZID=Europe/Berlin:20251009T194500
DTEND;TZID=Europe/Berlin:20251009T224500
SUMMARY:Ligue 4 Gr.3 Ph.A UGS-Chênois X vs Veyrier III (11)
UID:40455642-9b51-40c8-ab0b-cac70f69b304
STATUS:CONFIRMED
LAST-MODIFIED:20251010T160752Z
DESCRIPTION:4ème ligue Hommes Gr.3 Phase A\nBegegnungs-Nr: 11\nHeim: UGS-Chênois X\nGast: Veyrier III\n
LOCATION:
CATEGORIES:Saison 2025/26
END:VEVENT
BEGIN:VEVENT
DTSTAMP:20260424T152429Z
DTSTART;TZID=Europe/Berlin:20250925T194500
DTEND;TZID=Europe/Berlin:20250925T224500
SUMMARY:Ligue 4 Gr.3 Ph.A UGS-Chênois X vs Rapid-Genève IV (7)
UID:93bcabeb-be4d-4803-8cad-2d6d0b1ded5a
STATUS:CONFIRMED
LAST-MODIFIED:20250926T160744Z
DESCRIPTION:4ème ligue Hommes Gr.3 Phase A\nBegegnungs-Nr: 7\nHeim: UGS-Chênois X\nGast: Rapid-Genève IV\n
LOCATION:
CATEGORIES:Saison 2025/26
END:VEVENT
BEGIN:VEVENT
DTSTAMP:20260424T152429Z
DTSTART;TZID=Europe/Berlin:20260402T194500
DTEND;TZID=Europe/Berlin:20260402T224500
SUMMARY:Ligue 4 Gr.1 Ph.B UGS-Chênois X vs Puplinge II (26)
UID:6f01b627-2dc3-443f-8df6-94b53622cc2e
STATUS:CONFIRMED
LAST-MODIFIED:20260403T074550Z
DESCRIPTION:4ème ligue Hommes Gr.1 Phase B\nBegegnungs-Nr: 26\nHeim: UGS-Chênois X\nGast: Puplinge II\n
LOCATION:
CATEGORIES:Saison 2025/26
END:VEVENT
BEGIN:VEVENT
DTSTAMP:20260424T152429Z
DTSTART;TZID=Europe/Berlin:20260326T194500
DTEND;TZID=Europe/Berlin:20260326T224500
SUMMARY:Ligue 4 Gr.1 Ph.B UGS-Chênois X vs Rapid-Genève II (22)
UID:a8c754b6-b6f2-4131-89d5-aba570b2cc54
STATUS:CONFIRMED
LAST-MODIFIED:20260328T133326Z
DESCRIPTION:4ème ligue Hommes Gr.1 Phase B\nBegegnungs-Nr: 22\nHeim: UGS-Chênois X\nGast: Rapid-Genève II\n
LOCATION:
CATEGORIES:Saison 2025/26
END:VEVENT
BEGIN:VEVENT
DTSTAMP:20260424T152429Z
DTSTART;TZID=Europe/Berlin:20260312T194500
DTEND;TZID=Europe/Berlin:20260312T224500
SUMMARY:Ligue 4 Gr.1 Ph.B UGS-Chênois X vs Silver Star VIII (17)
UID:2d12d677-1e4b-4704-a525-c88e118e1181
STATUS:CONFIRMED
LAST-MODIFIED:20260313T072754Z
DESCRIPTION:4ème ligue Hommes Gr.1 Phase B\nBegegnungs-Nr: 17\nHeim: UGS-Chênois X\nGast: Silver Star VIII\n
LOCATION:
CATEGORIES:Saison 2025/26
END:VEVENT
BEGIN:VEVENT
DTSTAMP:20260424T152429Z
DTSTART;TZID=Europe/Berlin:20260219T194500
DTEND;TZID=Europe/Berlin:20260219T224500
SUMMARY:Ligue 4 Gr.1 Ph.B UGS-Chênois X vs Onex V (15)
UID:450c6c35-d755-4466-b0e5-471133bde431
STATUS:CONFIRMED
LAST-MODIFIED:20260222T132044Z
DESCRIPTION:4ème ligue Hommes Gr.1 Phase B\nBegegnungs-Nr: 15\nHeim: UGS-Chênois X\nGast: Onex V\n
LOCATION:
CATEGORIES:Saison 2025/26
END:VEVENT
BEGIN:VEVENT
DTSTAMP:20260424T152429Z
DTSTART;TZID=Europe/Berlin:20260122T194500
DTEND;TZID=Europe/Berlin:20260122T224500
SUMMARY:Ligue 4 Gr.1 Ph.B UGS-Chênois X vs Carouge VI (4)
UID:eb8374a4-7559-41dc-ab30-839b91c22ad0
STATUS:CONFIRMED
LAST-MODIFIED:20260124T090854Z
DESCRIPTION:4ème ligue Hommes Gr.1 Phase B\nBegegnungs-Nr: 4\nHeim: UGS-Chênois X\nGast: Carouge VI\n
LOCATION:
CATEGORIES:Saison 2025/26
END:VEVENT
BEGIN:VEVENT
DTSTAMP:20260424T152429Z
DTSTART;TZID=Europe/Berlin:20251127T194500
DTEND;TZID=Europe/Berlin:20251127T224500
SUMMARY:Ligue 4 Gr.3 Ph.A Veyrier III vs UGS-Chênois X (26)
UID:b6b4f10a-e5be-44c8-a0b2-0745f04d5c0f
STATUS:CONFIRMED
LAST-MODIFIED:20251128T083104Z
DESCRIPTION:4ème ligue Hommes Gr.3 Phase A\nBegegnungs-Nr: 26\nHeim: Veyrier III\nGast: UGS-Chênois X\n\nAdresse: -\, 1255 Veyrier\n
LOCATION:-\, 1255 Veyrier
CATEGORIES:Saison 2025/26
END:VEVENT
BEGIN:VEVENT
DTSTAMP:20260424T152429Z
DTSTART;TZID=Europe/Berlin:20251120T194500
DTEND;TZID=Europe/Berlin:20251120T224500
SUMMARY:Ligue 4 Gr.3 Ph.A Rapid-Genève IV vs UGS-Chênois X (22)
UID:4764fbdb-9d9f-46a9-b350-aa9e7dba82b5
STATUS:CONFIRMED
LAST-MODIFIED:20251121T102438Z
DESCRIPTION:4ème ligue Hommes Gr.3 Phase A\nBegegnungs-Nr: 22\nHeim: Rapid-Genève IV\nGast: UGS-Chênois X\n
LOCATION:
CATEGORIES:Saison 2025/26
END:VEVENT
BEGIN:VEVENT
DTSTAMP:20260424T152429Z
DTSTART;TZID=Europe/Berlin:20251030T194500
DTEND;TZID=Europe/Berlin:20251030T224500
SUMMARY:Ligue 4 Gr.3 Ph.A Silver Star VII vs UGS-Chênois X (17)
UID:6e126e0a-4ab7-4f85-8bb9-0e138a72578d
STATUS:CONFIRMED
LAST-MODIFIED:20251031T075916Z
DESCRIPTION:4ème ligue Hommes Gr.3 Phase A\nBegegnungs-Nr: 17\nHeim: Silver Star VII\nGast: UGS-Chênois X\n
LOCATION:
CATEGORIES:Saison 2025/26
END:VEVENT
BEGIN:VEVENT
DTSTAMP:20260424T152429Z
DTSTART;TZID=Europe/Berlin:20251016T194500
DTEND;TZID=Europe/Berlin:20251016T224500
SUMMARY:Ligue 4 Gr.3 Ph.A Versoix III vs UGS-Chênois X (15)
UID:d62a9e17-c7cb-4c42-bedf-1f591a551c12
STATUS:CONFIRMED
LAST-MODIFIED:20251017T064714Z
DESCRIPTION:4ème ligue Hommes Gr.3 Phase A\nBegegnungs-Nr: 15\nHeim: Versoix III\nGast: UGS-Chênois X\n
LOCATION:
CATEGORIES:Saison 2025/26
END:VEVENT
BEGIN:VEVENT
DTSTAMP:20260424T152429Z
DTSTART;TZID=Europe/Berlin:20250918T200000
DTEND;TZID=Europe/Berlin:20250918T230000
SUMMARY:Ligue 4 Gr.3 Ph.A ZZ-Lancy IX vs UGS-Chênois X (4)
UID:af7faedf-efdd-4459-bae5-33e18c4ddd73
STATUS:CONFIRMED
LAST-MODIFIED:20250919T081252Z
DESCRIPTION:4ème ligue Hommes Gr.3 Phase A\nBegegnungs-Nr: 4\nHeim: ZZ-Lancy IX\nGast: UGS-Chênois X\n
LOCATION:
CATEGORIES:Saison 2025/26
END:VEVENT
BEGIN:VEVENT
DTSTAMP:20260424T152429Z
DTSTART;TZID=Europe/Berlin:20260430T194500
DTEND;TZID=Europe/Berlin:20260430T224500
SUMMARY:Ligue 4 Gr.1 Ph.B Onex V vs UGS-Chênois X (30)
UID:7769a0e8-b429-4c2b-8779-20fc89be2914
STATUS:CONFIRMED
DESCRIPTION:4ème ligue Hommes Gr.1 Phase B\nBegegnungs-Nr: 30\nHeim: Onex V\nGast: UGS-Chênois X\n
LOCATION:
CATEGORIES:Saison 2025/26
END:VEVENT
BEGIN:VEVENT
DTSTAMP:20260424T152429Z
DTSTART;TZID=Europe/Berlin:20260319T194500
DTEND;TZID=Europe/Berlin:20260319T224500
SUMMARY:Ligue 4 Gr.1 Ph.B Carouge VI vs UGS-Chênois X (19)
UID:d7df214f-92a5-4ff0-9560-4a33880a679b
STATUS:CONFIRMED
LAST-MODIFIED:20260320T103756Z
DESCRIPTION:4ème ligue Hommes Gr.1 Phase B\nBegegnungs-Nr: 19\nHeim: Carouge VI\nGast: UGS-Chênois X\n
LOCATION:
CATEGORIES:Saison 2025/26
END:VEVENT
BEGIN:VEVENT
DTSTAMP:20260424T152429Z
DTSTART;TZID=Europe/Berlin:20260115T194500
DTEND;TZID=Europe/Berlin:20260115T224500
SUMMARY:Ligue 4 Gr.1 Ph.B Silver Star VIII vs UGS-Chênois X (2)
UID:062b2120-a9b7-48e8-be9a-6b43e108715f
STATUS:CONFIRMED
LAST-MODIFIED:20260116T093835Z
DESCRIPTION:4ème ligue Hommes Gr.1 Phase B\nBegegnungs-Nr: 2\nHeim: Silver Star VIII\nGast: UGS-Chênois X\n
LOCATION:
CATEGORIES:Saison 2025/26
END:VEVENT
BEGIN:VEVENT
DTSTAMP:20260424T152429Z
DTSTART;TZID=Europe/Berlin:20260212T194500
DTEND;TZID=Europe/Berlin:20260212T224500
SUMMARY:Ligue 4 Gr.1 Ph.B Puplinge II vs UGS-Chênois X (11)
UID:8b938a70-ce13-4d75-92dc-b38ff0d22d01
STATUS:CONFIRMED
LAST-MODIFIED:20260213T081908Z
DESCRIPTION:4ème ligue Hommes Gr.1 Phase B\nBegegnungs-Nr: 11\nHeim: Puplinge II\nGast: UGS-Chênois X\n\nAdresse: Chemin de la Brenaz\,  15\, 1241 Puplinge\n
LOCATION:Chemin de la Brenaz\,  15\, 1241 Puplinge
CATEGORIES:Saison 2025/26
END:VEVENT
BEGIN:VEVENT
DTSTAMP:20260424T152429Z
DTSTART;TZID=Europe/Berlin:20260129T194500
DTEND;TZID=Europe/Berlin:20260129T224500
SUMMARY:Ligue 4 Gr.1 Ph.B Rapid-Genève II vs UGS-Chênois X (7)
UID:92ac96e2-c935-4823-93d5-dd8848644d6b
STATUS:CONFIRMED
LAST-MODIFIED:20260130T084122Z
DESCRIPTION:4ème ligue Hommes Gr.1 Phase B\nBegegnungs-Nr: 7\nHeim: Rapid-Genève II\nGast: UGS-Chênois X\n
LOCATION:
CATEGORIES:Saison 2025/26
END:VEVENT
END:VCALENDAR
