BEGIN:VCALENDAR
PRODID:-//nuDatenautomaten//framework iCal4j //DE
VERSION:2.0
CALSCALE:GREGORIAN
BEGIN:VTIMEZONE
TZID:Europe/Berlin
LAST-MODIFIED:20260306T231828Z
TZURL:https://www.tzurl.org/zoneinfo/Europe/Berlin
X-LIC-LOCATION:Europe/Berlin
X-PROLEPTIC-TZNAME:LMT
BEGIN:STANDARD
TZNAME:CET
TZOFFSETFROM:+005328
TZOFFSETTO:+0100
DTSTART:18930401T000000
END:STANDARD
BEGIN:DAYLIGHT
TZNAME:CEST
TZOFFSETFROM:+0100
TZOFFSETTO:+0200
DTSTART:19160430T230000
RDATE:19400401T020000
RDATE:19430329T020000
RDATE:19460414T020000
RDATE:19470406T030000
RDATE:19480418T020000
RDATE:19490410T020000
RDATE:19800406T020000
END:DAYLIGHT
BEGIN:STANDARD
TZNAME:CET
TZOFFSETFROM:+0200
TZOFFSETTO:+0100
DTSTART:19161001T010000
RDATE:19421102T030000
RDATE:19431004T030000
RDATE:19441002T030000
RDATE:19451118T030000
RDATE:19461007T030000
END:STANDARD
BEGIN:DAYLIGHT
TZNAME:CEST
TZOFFSETFROM:+0100
TZOFFSETTO:+0200
DTSTART:19170416T020000
RRULE:FREQ=YEARLY;UNTIL=19180415T010000Z;BYMONTH=4;BYDAY=3MO
END:DAYLIGHT
BEGIN:STANDARD
TZNAME:CET
TZOFFSETFROM:+0200
TZOFFSETTO:+0100
DTSTART:19170917T030000
RRULE:FREQ=YEARLY;UNTIL=19180916T010000Z;BYMONTH=9;BYDAY=3MO
END:STANDARD
BEGIN:DAYLIGHT
TZNAME:CEST
TZOFFSETFROM:+0100
TZOFFSETTO:+0200
DTSTART:19440403T020000
RRULE:FREQ=YEARLY;UNTIL=19450402T010000Z;BYMONTH=4;BYDAY=1MO
END:DAYLIGHT
BEGIN:DAYLIGHT
TZNAME:CEMT
TZOFFSETFROM:+0200
TZOFFSETTO:+0300
DTSTART:19450524T020000
RDATE:19470511T030000
END:DAYLIGHT
BEGIN:DAYLIGHT
TZNAME:CEST
TZOFFSETFROM:+0300
TZOFFSETTO:+0200
DTSTART:19450924T030000
RDATE:19470629T030000
END:DAYLIGHT
BEGIN:STANDARD
TZNAME:CET
TZOFFSETFROM:+0100
TZOFFSETTO:+0100
DTSTART:19460101T000000
RDATE:19800101T000000
END:STANDARD
BEGIN:STANDARD
TZNAME:CET
TZOFFSETFROM:+0200
TZOFFSETTO:+0100
DTSTART:19471005T030000
RRULE:FREQ=YEARLY;UNTIL=19491002T010000Z;BYMONTH=10;BYDAY=1SU
END:STANDARD
BEGIN:STANDARD
TZNAME:CET
TZOFFSETFROM:+0200
TZOFFSETTO:+0100
DTSTART:19800928T030000
RRULE:FREQ=YEARLY;UNTIL=19950924T010000Z;BYMONTH=9;BYDAY=-1SU
END:STANDARD
BEGIN:DAYLIGHT
TZNAME:CEST
TZOFFSETFROM:+0100
TZOFFSETTO:+0200
DTSTART:19810329T020000
RRULE:FREQ=YEARLY;BYMONTH=3;BYDAY=-1SU
END:DAYLIGHT
BEGIN:STANDARD
TZNAME:CET
TZOFFSETFROM:+0200
TZOFFSETTO:+0100
DTSTART:19961027T030000
RRULE:FREQ=YEARLY;BYMONTH=10;BYDAY=-1SU
END:STANDARD
END:VTIMEZONE
BEGIN:VEVENT
DTSTAMP:20260424T043559Z
DTSTART;TZID=Europe/Berlin:20250904T193000
DTEND;TZID=Europe/Berlin:20250904T223000
SUMMARY:ME L4 Gr 1\, Tours 1&2 Sion II vs Sion III (0)
UID:b9ee4980-e4b1-44da-9e10-ae474dd0f91c
STATUS:CONFIRMED
LAST-MODIFIED:20250905T182648Z
DESCRIPTION:4ème ligue Hommes Groupe 1\, Tours 1&2\nBegegnungs-Nr: 0\nHeim: Sion II\nGast: Sion III\n\nAdresse: Rue du Chanoine-Berchtold 17\, 1950 Sion\n
LOCATION:Rue du Chanoine-Berchtold 17\, 1950 Sion
CATEGORIES:Saison 2025/26
END:VEVENT
BEGIN:VEVENT
DTSTAMP:20260424T043559Z
DTSTART;TZID=Europe/Berlin:20250918T193000
DTEND;TZID=Europe/Berlin:20250918T223000
SUMMARY:ME L4 Gr 1\, Tours 1&2 Sion II vs Zermatt (0)
UID:38362323-6258-4958-8540-b2937d03c74c
STATUS:CONFIRMED
LAST-MODIFIED:20250919T205057Z
DESCRIPTION:4ème ligue Hommes Groupe 1\, Tours 1&2\nBegegnungs-Nr: 0\nHeim: Sion II\nGast: Zermatt\n\nAdresse: Rue du Chanoine-Berchtold 17\, 1950 Sion\n
LOCATION:Rue du Chanoine-Berchtold 17\, 1950 Sion
CATEGORIES:Saison 2025/26
END:VEVENT
BEGIN:VEVENT
DTSTAMP:20260424T043559Z
DTSTART;TZID=Europe/Berlin:20251009T193000
DTEND;TZID=Europe/Berlin:20251009T223000
SUMMARY:ME L4 Gr 1\, Tours 1&2 Sion II vs Stalden II (0)
UID:e12fde63-a0c6-4401-8949-da3d5f686b66
STATUS:CONFIRMED
LAST-MODIFIED:20251011T112023Z
DESCRIPTION:4ème ligue Hommes Groupe 1\, Tours 1&2\nBegegnungs-Nr: 0\nHeim: Sion II\nGast: Stalden II\n\nAdresse: Rue du Chanoine-Berchtold 17\, 1950 Sion\n
LOCATION:Rue du Chanoine-Berchtold 17\, 1950 Sion
CATEGORIES:Saison 2025/26
END:VEVENT
BEGIN:VEVENT
DTSTAMP:20260424T043559Z
DTSTART;TZID=Europe/Berlin:20251106T193000
DTEND;TZID=Europe/Berlin:20251106T223000
SUMMARY:ME L4 Gr 1\, Tours 1&2 Sion II vs Brig-Glis (0)
UID:29aa1443-d275-4be3-aa1f-cfe7365e073e
STATUS:CONFIRMED
LAST-MODIFIED:20251109T132410Z
DESCRIPTION:4ème ligue Hommes Groupe 1\, Tours 1&2\nBegegnungs-Nr: 0\nHeim: Sion II\nGast: Brig-Glis\n\nAdresse: Rue du Chanoine-Berchtold 17\, 1950 Sion\n
LOCATION:Rue du Chanoine-Berchtold 17\, 1950 Sion
CATEGORIES:Saison 2025/26
END:VEVENT
BEGIN:VEVENT
DTSTAMP:20260424T043559Z
DTSTART;TZID=Europe/Berlin:20251127T193000
DTEND;TZID=Europe/Berlin:20251127T223000
SUMMARY:ME L4 Gr 1\, Tours 1&2 Sion II vs Sierre IV (0)
UID:2d9322a0-2f24-490b-9541-76422bd17695
STATUS:CONFIRMED
LAST-MODIFIED:20251128T203912Z
DESCRIPTION:4ème ligue Hommes Groupe 1\, Tours 1&2\nBegegnungs-Nr: 0\nHeim: Sion II\nGast: Sierre IV\n\nAdresse: Rue du Chanoine-Berchtold 17\, 1950 Sion\n
LOCATION:Rue du Chanoine-Berchtold 17\, 1950 Sion
CATEGORIES:Saison 2025/26
END:VEVENT
BEGIN:VEVENT
DTSTAMP:20260424T043559Z
DTSTART;TZID=Europe/Berlin:20260122T193000
DTEND;TZID=Europe/Berlin:20260122T223000
SUMMARY:ME L3 Gr 1\, Tours 3&4 Sion II vs Martigny III (0)
UID:c7cdedbe-e176-4285-a9b8-1e596f087cdd
STATUS:CONFIRMED
LAST-MODIFIED:20260201T145550Z
DESCRIPTION:3ème ligue Hommes Groupe 1\, Tours 3&4\nBegegnungs-Nr: 0\nHeim: Sion II\nGast: Martigny III\n\nAdresse: Rue du Chanoine-Berchtold 17\, 1950 Sion\n
LOCATION:Rue du Chanoine-Berchtold 17\, 1950 Sion
CATEGORIES:Saison 2025/26
END:VEVENT
BEGIN:VEVENT
DTSTAMP:20260424T043559Z
DTSTART;TZID=Europe/Berlin:20260212T193000
DTEND;TZID=Europe/Berlin:20260212T223000
SUMMARY:ME L3 Gr 1\, Tours 3&4 Sion II vs Gampel-Steg (0)
UID:64a59b9b-4817-4b5d-900a-c28b300b8b51
STATUS:CONFIRMED
LAST-MODIFIED:20260214T170256Z
DESCRIPTION:3ème ligue Hommes Groupe 1\, Tours 3&4\nBegegnungs-Nr: 0\nHeim: Sion II\nGast: Gampel-Steg\n\nAdresse: Rue du Chanoine-Berchtold 17\, 1950 Sion\n
LOCATION:Rue du Chanoine-Berchtold 17\, 1950 Sion
CATEGORIES:Saison 2025/26
END:VEVENT
BEGIN:VEVENT
DTSTAMP:20260424T043559Z
DTSTART;TZID=Europe/Berlin:20260226T193000
DTEND;TZID=Europe/Berlin:20260226T223000
SUMMARY:ME L3 Gr 1\, Tours 3&4 Sion II vs Yvorne (0)
UID:ab1fc06c-d4dd-4cd1-9182-faeafb137859
STATUS:CONFIRMED
LAST-MODIFIED:20260227T102054Z
DESCRIPTION:3ème ligue Hommes Groupe 1\, Tours 3&4\nBegegnungs-Nr: 0\nHeim: Sion II\nGast: Yvorne\n\nAdresse: Rue du Chanoine-Berchtold 17\, 1950 Sion\n
LOCATION:Rue du Chanoine-Berchtold 17\, 1950 Sion
CATEGORIES:Saison 2025/26
END:VEVENT
BEGIN:VEVENT
DTSTAMP:20260424T043559Z
DTSTART;TZID=Europe/Berlin:20260402T193000
DTEND;TZID=Europe/Berlin:20260402T223000
SUMMARY:ME L3 Gr 1\, Tours 3&4 Sion II vs Stalden (0)
UID:668c0db0-7c76-47a1-a1f8-00e72eb86c82
STATUS:CONFIRMED
LAST-MODIFIED:20260407T193026Z
DESCRIPTION:3ème ligue Hommes Groupe 1\, Tours 3&4\nBegegnungs-Nr: 0\nHeim: Sion II\nGast: Stalden\n\nAdresse: Rue du Chanoine-Berchtold 17\, 1950 Sion\n
LOCATION:Rue du Chanoine-Berchtold 17\, 1950 Sion
CATEGORIES:Saison 2025/26
END:VEVENT
BEGIN:VEVENT
DTSTAMP:20260424T043559Z
DTSTART;TZID=Europe/Berlin:20260326T193000
DTEND;TZID=Europe/Berlin:20260326T223000
SUMMARY:ME L3 Gr 1\, Tours 3&4 Sion II vs Collombey/Muraz III (0)
UID:63dc07e9-32e7-4bb0-acc1-0b721dcb0c75
STATUS:CONFIRMED
LAST-MODIFIED:20260327T193552Z
DESCRIPTION:3ème ligue Hommes Groupe 1\, Tours 3&4\nBegegnungs-Nr: 0\nHeim: Sion II\nGast: Collombey/Muraz III\n\nAdresse: Rue du Chanoine-Berchtold 17\, 1950 Sion\n
LOCATION:Rue du Chanoine-Berchtold 17\, 1950 Sion
CATEGORIES:Saison 2025/26
END:VEVENT
BEGIN:VEVENT
DTSTAMP:20260424T043559Z
DTSTART;TZID=Europe/Berlin:20250903T193000
DTEND;TZID=Europe/Berlin:20250903T223000
SUMMARY:ME L4 Gr 1\, Tours 1&2 Brig-Glis vs Sion II (0)
UID:0773d2dd-27d3-4ad6-924d-2702f4979102
STATUS:CONFIRMED
LAST-MODIFIED:20250904T215527Z
DESCRIPTION:4ème ligue Hommes Groupe 1\, Tours 1&2\nBegegnungs-Nr: 0\nHeim: Brig-Glis\nGast: Sion II\n\nAdresse: Alte Simplonstrasse 53\, 3900 Brig\n
LOCATION:Alte Simplonstrasse 53\, 3900 Brig
CATEGORIES:Saison 2025/26
END:VEVENT
BEGIN:VEVENT
DTSTAMP:20260424T043559Z
DTSTART;TZID=Europe/Berlin:20251003T194500
DTEND;TZID=Europe/Berlin:20251003T224500
SUMMARY:ME L4 Gr 1\, Tours 1&2 Sierre IV vs Sion II (0)
UID:a76091f8-177d-4a7f-a7a4-4c8907d3c480
STATUS:CONFIRMED
LAST-MODIFIED:20251004T123827Z
DESCRIPTION:4ème ligue Hommes Groupe 1\, Tours 1&2\nBegegnungs-Nr: 0\nHeim: Sierre IV\nGast: Sion II\n\nAdresse: Rte des Liddes 6\, 3960 Sierre\n
LOCATION:Rte des Liddes 6\, 3960 Sierre
CATEGORIES:Saison 2025/26
END:VEVENT
BEGIN:VEVENT
DTSTAMP:20260424T043559Z
DTSTART;TZID=Europe/Berlin:20251030T193000
DTEND;TZID=Europe/Berlin:20251030T223000
SUMMARY:ME L4 Gr 1\, Tours 1&2 Sion III vs Sion II (0)
UID:27311db7-bd2f-43d8-8c51-9c687b73733c
STATUS:CONFIRMED
LAST-MODIFIED:20251101T153947Z
DESCRIPTION:4ème ligue Hommes Groupe 1\, Tours 1&2\nBegegnungs-Nr: 0\nHeim: Sion III\nGast: Sion II\n\nAdresse: Rue du Chanoine-Berchtold 17\, 1950 Sion\n
LOCATION:Rue du Chanoine-Berchtold 17\, 1950 Sion
CATEGORIES:Saison 2025/26
END:VEVENT
BEGIN:VEVENT
DTSTAMP:20260424T043559Z
DTSTART;TZID=Europe/Berlin:20251120T200000
DTEND;TZID=Europe/Berlin:20251120T230000
SUMMARY:ME L4 Gr 1\, Tours 1&2 Zermatt vs Sion II (0)
UID:f037b207-eae8-4143-98c9-30857019af53
STATUS:CONFIRMED
LAST-MODIFIED:20251121T100518Z
DESCRIPTION:4ème ligue Hommes Groupe 1\, Tours 1&2\nBegegnungs-Nr: 0\nHeim: Zermatt\nGast: Sion II\n\nAdresse: Metzggasse\, 3920 Zermatt\n
LOCATION:Metzggasse\, 3920 Zermatt
CATEGORIES:Saison 2025/26
END:VEVENT
BEGIN:VEVENT
DTSTAMP:20260424T043559Z
DTSTART;TZID=Europe/Berlin:20251208T200000
DTEND;TZID=Europe/Berlin:20251208T230000
SUMMARY:ME L4 Gr 1\, Tours 1&2 Stalden II vs Sion II (0)
UID:4fee0185-c65e-449d-b999-e7d1f462367e
STATUS:CONFIRMED
LAST-MODIFIED:20251209T172845Z
DESCRIPTION:4ème ligue Hommes Groupe 1\, Tours 1&2\nBegegnungs-Nr: 0\nHeim: Stalden II\nGast: Sion II\n\nAdresse: -\, 3922 Stalden\n
LOCATION:-\, 3922 Stalden
CATEGORIES:Saison 2025/26
END:VEVENT
BEGIN:VEVENT
DTSTAMP:20260424T043559Z
DTSTART;TZID=Europe/Berlin:20260112T200000
DTEND;TZID=Europe/Berlin:20260112T230000
SUMMARY:ME L3 Gr 1\, Tours 3&4 Stalden vs Sion II (0)
UID:476b57dc-eb12-4504-bbe8-468563a6c7a6
STATUS:CONFIRMED
LAST-MODIFIED:20260113T104338Z
DESCRIPTION:3ème ligue Hommes Groupe 1\, Tours 3&4\nBegegnungs-Nr: 0\nHeim: Stalden\nGast: Sion II\n\nAdresse: -\, 3922 Stalden\n
LOCATION:-\, 3922 Stalden
CATEGORIES:Saison 2025/26
END:VEVENT
BEGIN:VEVENT
DTSTAMP:20260424T043559Z
DTSTART;TZID=Europe/Berlin:20260204T193000
DTEND;TZID=Europe/Berlin:20260204T223000
SUMMARY:ME L3 Gr 1\, Tours 3&4 Collombey/Muraz III vs Sion II (0)
UID:da01b319-6420-423d-85ae-5b25fdae76da
STATUS:CONFIRMED
LAST-MODIFIED:20260205T224217Z
DESCRIPTION:3ème ligue Hommes Groupe 1\, Tours 3&4\nBegegnungs-Nr: 0\nHeim: Collombey/Muraz III\nGast: Sion II\n\nAdresse: Route du Montagnier 81\, 1868 Collombey\n
LOCATION:Route du Montagnier 81\, 1868 Collombey
CATEGORIES:Saison 2025/26
END:VEVENT
BEGIN:VEVENT
DTSTAMP:20260424T043559Z
DTSTART;TZID=Europe/Berlin:20260317T200000
DTEND;TZID=Europe/Berlin:20260317T230000
SUMMARY:ME L3 Gr 1\, Tours 3&4 Martigny III vs Sion II (0)
UID:b86ea455-d49b-4858-8848-f3f08d2d1547
STATUS:CONFIRMED
LAST-MODIFIED:20260321T102355Z
DESCRIPTION:3ème ligue Hommes Groupe 1\, Tours 3&4\nBegegnungs-Nr: 0\nHeim: Martigny III\nGast: Sion II\n\nAdresse: Rue des Ecoles 9\, 1920 Martigny\n
LOCATION:Rue des Ecoles 9\, 1920 Martigny
CATEGORIES:Saison 2025/26
END:VEVENT
BEGIN:VEVENT
DTSTAMP:20260424T043559Z
DTSTART;TZID=Europe/Berlin:20260424T193000
DTEND;TZID=Europe/Berlin:20260424T223000
SUMMARY:ME L3 Gr 1\, Tours 3&4 Gampel-Steg vs Sion II (0)
UID:589d767e-e4b8-409f-911e-8bc07d90f463
STATUS:CONFIRMED
DESCRIPTION:3ème ligue Hommes Groupe 1\, Tours 3&4\nBegegnungs-Nr: 0\nHeim: Gampel-Steg\nGast: Sion II\n\nAdresse: Bienenstrasse 2\, 3945 Niedergampel\n
LOCATION:Bienenstrasse 2\, 3945 Niedergampel
CATEGORIES:Saison 2025/26
END:VEVENT
BEGIN:VEVENT
DTSTAMP:20260424T043559Z
DTSTART;TZID=Europe/Berlin:20260429T194500
DTEND;TZID=Europe/Berlin:20260429T224500
SUMMARY:ME L3 Gr 1\, Tours 3&4 Yvorne vs Sion II (0)
UID:bd68f63f-20b7-4921-87d4-8329f869f2e7
STATUS:CONFIRMED
DESCRIPTION:3ème ligue Hommes Groupe 1\, Tours 3&4\nBegegnungs-Nr: 0\nHeim: Yvorne\nGast: Sion II\n\nAdresse: Les Maisons Neuves 38\, 1853 Yvorne\n
LOCATION:Les Maisons Neuves 38\, 1853 Yvorne
CATEGORIES:Saison 2025/26
END:VEVENT
END:VCALENDAR
