BEGIN:VCALENDAR
PRODID:-//nuDatenautomaten//framework iCal4j //DE
VERSION:2.0
CALSCALE:GREGORIAN
BEGIN:VTIMEZONE
TZID:Europe/Berlin
LAST-MODIFIED:20260306T231828Z
TZURL:https://www.tzurl.org/zoneinfo/Europe/Berlin
X-LIC-LOCATION:Europe/Berlin
X-PROLEPTIC-TZNAME:LMT
BEGIN:STANDARD
TZNAME:CET
TZOFFSETFROM:+005328
TZOFFSETTO:+0100
DTSTART:18930401T000000
END:STANDARD
BEGIN:DAYLIGHT
TZNAME:CEST
TZOFFSETFROM:+0100
TZOFFSETTO:+0200
DTSTART:19160430T230000
RDATE:19400401T020000
RDATE:19430329T020000
RDATE:19460414T020000
RDATE:19470406T030000
RDATE:19480418T020000
RDATE:19490410T020000
RDATE:19800406T020000
END:DAYLIGHT
BEGIN:STANDARD
TZNAME:CET
TZOFFSETFROM:+0200
TZOFFSETTO:+0100
DTSTART:19161001T010000
RDATE:19421102T030000
RDATE:19431004T030000
RDATE:19441002T030000
RDATE:19451118T030000
RDATE:19461007T030000
END:STANDARD
BEGIN:DAYLIGHT
TZNAME:CEST
TZOFFSETFROM:+0100
TZOFFSETTO:+0200
DTSTART:19170416T020000
RRULE:FREQ=YEARLY;UNTIL=19180415T010000Z;BYMONTH=4;BYDAY=3MO
END:DAYLIGHT
BEGIN:STANDARD
TZNAME:CET
TZOFFSETFROM:+0200
TZOFFSETTO:+0100
DTSTART:19170917T030000
RRULE:FREQ=YEARLY;UNTIL=19180916T010000Z;BYMONTH=9;BYDAY=3MO
END:STANDARD
BEGIN:DAYLIGHT
TZNAME:CEST
TZOFFSETFROM:+0100
TZOFFSETTO:+0200
DTSTART:19440403T020000
RRULE:FREQ=YEARLY;UNTIL=19450402T010000Z;BYMONTH=4;BYDAY=1MO
END:DAYLIGHT
BEGIN:DAYLIGHT
TZNAME:CEMT
TZOFFSETFROM:+0200
TZOFFSETTO:+0300
DTSTART:19450524T020000
RDATE:19470511T030000
END:DAYLIGHT
BEGIN:DAYLIGHT
TZNAME:CEST
TZOFFSETFROM:+0300
TZOFFSETTO:+0200
DTSTART:19450924T030000
RDATE:19470629T030000
END:DAYLIGHT
BEGIN:STANDARD
TZNAME:CET
TZOFFSETFROM:+0100
TZOFFSETTO:+0100
DTSTART:19460101T000000
RDATE:19800101T000000
END:STANDARD
BEGIN:STANDARD
TZNAME:CET
TZOFFSETFROM:+0200
TZOFFSETTO:+0100
DTSTART:19471005T030000
RRULE:FREQ=YEARLY;UNTIL=19491002T010000Z;BYMONTH=10;BYDAY=1SU
END:STANDARD
BEGIN:STANDARD
TZNAME:CET
TZOFFSETFROM:+0200
TZOFFSETTO:+0100
DTSTART:19800928T030000
RRULE:FREQ=YEARLY;UNTIL=19950924T010000Z;BYMONTH=9;BYDAY=-1SU
END:STANDARD
BEGIN:DAYLIGHT
TZNAME:CEST
TZOFFSETFROM:+0100
TZOFFSETTO:+0200
DTSTART:19810329T020000
RRULE:FREQ=YEARLY;BYMONTH=3;BYDAY=-1SU
END:DAYLIGHT
BEGIN:STANDARD
TZNAME:CET
TZOFFSETFROM:+0200
TZOFFSETTO:+0100
DTSTART:19961027T030000
RRULE:FREQ=YEARLY;BYMONTH=10;BYDAY=-1SU
END:STANDARD
END:VTIMEZONE
BEGIN:VEVENT
DTSTAMP:20260424T062140Z
DTSTART;TZID=Europe/Berlin:20251030T200000
DTEND;TZID=Europe/Berlin:20251030T230000
SUMMARY:ME L5 Gr 2\, Tours 1&2 Dorénaz vs Montreux-Riviera (0)
UID:43e1c6a7-b9b1-4535-b5fa-9f6934e7436a
STATUS:CONFIRMED
LAST-MODIFIED:20251103T192505Z
DESCRIPTION:5ème ligue Hommes Groupe 2\, Tours 1&2\nBegegnungs-Nr: 0\nHeim: Dorénaz\nGast: Montreux-Riviera\n\nAdresse: Place du téléphérique\, 1905 Dorénaz\n
LOCATION:Place du téléphérique\, 1905 Dorénaz
CATEGORIES:Saison 2025/26
END:VEVENT
BEGIN:VEVENT
DTSTAMP:20260424T062140Z
DTSTART;TZID=Europe/Berlin:20251120T200000
DTEND;TZID=Europe/Berlin:20251120T230000
SUMMARY:ME L5 Gr 2\, Tours 1&2 Dorénaz vs Collombey/Muraz IV (0)
UID:08e3ab86-97f7-4aa0-9f60-2b2da78fb06b
STATUS:CONFIRMED
LAST-MODIFIED:20251121T100615Z
DESCRIPTION:5ème ligue Hommes Groupe 2\, Tours 1&2\nBegegnungs-Nr: 0\nHeim: Dorénaz\nGast: Collombey/Muraz IV\n\nAdresse: Place du téléphérique\, 1905 Dorénaz\n
LOCATION:Place du téléphérique\, 1905 Dorénaz
CATEGORIES:Saison 2025/26
END:VEVENT
BEGIN:VEVENT
DTSTAMP:20260424T062140Z
DTSTART;TZID=Europe/Berlin:20251211T200000
DTEND;TZID=Europe/Berlin:20251211T230000
SUMMARY:ME L5 Gr 2\, Tours 1&2 Dorénaz vs Bulle V (0)
UID:400425ae-a5c2-463e-94ce-f0cce8cfd0c0
STATUS:CONFIRMED
LAST-MODIFIED:20251213T094957Z
DESCRIPTION:5ème ligue Hommes Groupe 2\, Tours 1&2\nBegegnungs-Nr: 0\nHeim: Dorénaz\nGast: Bulle V\n\nAdresse: Place du téléphérique\, 1905 Dorénaz\n
LOCATION:Place du téléphérique\, 1905 Dorénaz
CATEGORIES:Saison 2025/26
END:VEVENT
BEGIN:VEVENT
DTSTAMP:20260424T062140Z
DTSTART;TZID=Europe/Berlin:20250911T200000
DTEND;TZID=Europe/Berlin:20250911T230000
SUMMARY:ME L5 Gr 2\, Tours 1&2 Dorénaz vs Chexbres III (0)
UID:c2df6452-250a-47c6-bf17-1c269845c186
STATUS:CONFIRMED
LAST-MODIFIED:20250917T234727Z
DESCRIPTION:5ème ligue Hommes Groupe 2\, Tours 1&2\nBegegnungs-Nr: 0\nHeim: Dorénaz\nGast: Chexbres III\n\nAdresse: Place du téléphérique\, 1905 Dorénaz\n
LOCATION:Place du téléphérique\, 1905 Dorénaz
CATEGORIES:Saison 2025/26
END:VEVENT
BEGIN:VEVENT
DTSTAMP:20260424T062140Z
DTSTART;TZID=Europe/Berlin:20250930T200000
DTEND;TZID=Europe/Berlin:20250930T230000
SUMMARY:ME L5 Gr 2\, Tours 1&2 Dorénaz vs Blonay III (0)
UID:f93cba03-6d31-4d32-b80d-0d33021c80fd
STATUS:CONFIRMED
LAST-MODIFIED:20251007T221128Z
DESCRIPTION:5ème ligue Hommes Groupe 2\, Tours 1&2\nBegegnungs-Nr: 0\nHeim: Dorénaz\nGast: Blonay III\n\nAdresse: Place du téléphérique\, 1905 Dorénaz\n
LOCATION:Place du téléphérique\, 1905 Dorénaz
CATEGORIES:Saison 2025/26
END:VEVENT
BEGIN:VEVENT
DTSTAMP:20260424T062140Z
DTSTART;TZID=Europe/Berlin:20260212T200000
DTEND;TZID=Europe/Berlin:20260212T230000
SUMMARY:ME L6 Gr 2\, Tours 3&4 Dorénaz vs Aigle III (0)
UID:82f50740-e599-4996-aa0a-cb90b6f897b7
STATUS:CONFIRMED
LAST-MODIFIED:20260214T170706Z
DESCRIPTION:6ème ligue Hommes Groupe 2\, Tours 3&4\nBegegnungs-Nr: 0\nHeim: Dorénaz\nGast: Aigle III\n\nAdresse: Place du téléphérique\, 1905 Dorénaz\n
LOCATION:Place du téléphérique\, 1905 Dorénaz
CATEGORIES:Saison 2025/26
END:VEVENT
BEGIN:VEVENT
DTSTAMP:20260424T062140Z
DTSTART;TZID=Europe/Berlin:20260312T200000
DTEND;TZID=Europe/Berlin:20260312T230000
SUMMARY:ME L6 Gr 2\, Tours 3&4 Dorénaz vs Yvorne II (0)
UID:ef8b30bc-bd64-43cf-8983-56998aa656c1
STATUS:CONFIRMED
LAST-MODIFIED:20260313T231901Z
DESCRIPTION:6ème ligue Hommes Groupe 2\, Tours 3&4\nBegegnungs-Nr: 0\nHeim: Dorénaz\nGast: Yvorne II\n\nAdresse: Place du téléphérique\, 1905 Dorénaz\n
LOCATION:Place du téléphérique\, 1905 Dorénaz
CATEGORIES:Saison 2025/26
END:VEVENT
BEGIN:VEVENT
DTSTAMP:20260424T062140Z
DTSTART;TZID=Europe/Berlin:20260402T200000
DTEND;TZID=Europe/Berlin:20260402T230000
SUMMARY:ME L6 Gr 2\, Tours 3&4 Dorénaz vs Aigle II (0)
UID:df059a04-4efe-4200-ae2a-ea741492dd75
STATUS:CONFIRMED
LAST-MODIFIED:20260410T105155Z
DESCRIPTION:6ème ligue Hommes Groupe 2\, Tours 3&4\nBegegnungs-Nr: 0\nHeim: Dorénaz\nGast: Aigle II\n\nAdresse: Place du téléphérique\, 1905 Dorénaz\n
LOCATION:Place du téléphérique\, 1905 Dorénaz
CATEGORIES:Saison 2025/26
END:VEVENT
BEGIN:VEVENT
DTSTAMP:20260424T062140Z
DTSTART;TZID=Europe/Berlin:20260430T200000
DTEND;TZID=Europe/Berlin:20260430T230000
SUMMARY:ME L6 Gr 2\, Tours 3&4 Dorénaz vs Montreux-Riviera II (0)
UID:d68f789d-f5d6-4edc-9fdc-1d247a663153
STATUS:CONFIRMED
DESCRIPTION:6ème ligue Hommes Groupe 2\, Tours 3&4\nBegegnungs-Nr: 0\nHeim: Dorénaz\nGast: Montreux-Riviera II\n\nAdresse: Place du téléphérique\, 1905 Dorénaz\n
LOCATION:Place du téléphérique\, 1905 Dorénaz
CATEGORIES:Saison 2025/26
END:VEVENT
BEGIN:VEVENT
DTSTAMP:20260424T062140Z
DTSTART;TZID=Europe/Berlin:20260122T200000
DTEND;TZID=Europe/Berlin:20260122T230000
SUMMARY:ME L6 Gr 2\, Tours 3&4 Dorénaz vs Salvan (0)
UID:8d569c10-7e7b-4dff-bc12-16992bd554ec
STATUS:CONFIRMED
LAST-MODIFIED:20260127T203844Z
DESCRIPTION:6ème ligue Hommes Groupe 2\, Tours 3&4\nBegegnungs-Nr: 0\nHeim: Dorénaz\nGast: Salvan\n\nAdresse: Place du téléphérique\, 1905 Dorénaz\n
LOCATION:Place du téléphérique\, 1905 Dorénaz
CATEGORIES:Saison 2025/26
END:VEVENT
BEGIN:VEVENT
DTSTAMP:20260424T062140Z
DTSTART;TZID=Europe/Berlin:20251008T200000
DTEND;TZID=Europe/Berlin:20251008T230000
SUMMARY:ME L5 Gr 2\, Tours 1&2 Bulle V vs Dorénaz (0)
UID:dca97d33-0a9c-42bb-86ba-348db2ee59b3
STATUS:CONFIRMED
LAST-MODIFIED:20251009T103012Z
DESCRIPTION:5ème ligue Hommes Groupe 2\, Tours 1&2\nBegegnungs-Nr: 0\nHeim: Bulle V\nGast: Dorénaz\n\nAdresse: Rue du Stade 50\, 1630 Bulle\n
LOCATION:Rue du Stade 50\, 1630 Bulle
CATEGORIES:Saison 2025/26
END:VEVENT
BEGIN:VEVENT
DTSTAMP:20260424T062140Z
DTSTART;TZID=Europe/Berlin:20251106T194500
DTEND;TZID=Europe/Berlin:20251106T224500
SUMMARY:ME L5 Gr 2\, Tours 1&2 Chexbres III vs Dorénaz (0)
UID:c6850060-d6b3-4c60-b3a4-354c38dbded8
STATUS:CONFIRMED
LAST-MODIFIED:20251109T122631Z
DESCRIPTION:5ème ligue Hommes Groupe 2\, Tours 1&2\nBegegnungs-Nr: 0\nHeim: Chexbres III\nGast: Dorénaz\n\nAdresse: Collège de Praz Routoz\, 1071 Chexbres\n
LOCATION:Collège de Praz Routoz\, 1071 Chexbres
CATEGORIES:Saison 2025/26
END:VEVENT
BEGIN:VEVENT
DTSTAMP:20260424T062140Z
DTSTART;TZID=Europe/Berlin:20251114T200000
DTEND;TZID=Europe/Berlin:20251114T230000
SUMMARY:ME L5 Gr 2\, Tours 1&2 Blonay III vs Dorénaz (0)
UID:0d5f11a3-252a-41d7-96c6-73e4764a5b2d
STATUS:CONFIRMED
LAST-MODIFIED:20251115T152621Z
DESCRIPTION:5ème ligue Hommes Groupe 2\, Tours 1&2\nBegegnungs-Nr: 0\nHeim: Blonay III\nGast: Dorénaz\n\nAdresse: Route de Prélaz 2\, 1807 Blonay\n
LOCATION:Route de Prélaz 2\, 1807 Blonay
CATEGORIES:Saison 2025/26
END:VEVENT
BEGIN:VEVENT
DTSTAMP:20260424T062140Z
DTSTART;TZID=Europe/Berlin:20250908T200000
DTEND;TZID=Europe/Berlin:20250908T230000
SUMMARY:ME L5 Gr 2\, Tours 1&2 Montreux-Riviera vs Dorénaz (0)
UID:201f379e-7e48-4011-8c46-888f4efd044e
STATUS:CONFIRMED
LAST-MODIFIED:20250910T230722Z
DESCRIPTION:5ème ligue Hommes Groupe 2\, Tours 1&2\nBegegnungs-Nr: 0\nHeim: Montreux-Riviera\nGast: Dorénaz\n\nAdresse: Rue de la Gare 33\, 1820 Montreux\n
LOCATION:Rue de la Gare 33\, 1820 Montreux
CATEGORIES:Saison 2025/26
END:VEVENT
BEGIN:VEVENT
DTSTAMP:20260424T062140Z
DTSTART;TZID=Europe/Berlin:20251014T193000
DTEND;TZID=Europe/Berlin:20251014T223000
SUMMARY:ME L5 Gr 2\, Tours 1&2 Collombey/Muraz IV vs Dorénaz (0)
UID:5ac7a331-d965-489a-b059-313801bf63af
STATUS:CONFIRMED
LAST-MODIFIED:20251015T213024Z
DESCRIPTION:5ème ligue Hommes Groupe 2\, Tours 1&2\nBegegnungs-Nr: 0\nHeim: Collombey/Muraz IV\nGast: Dorénaz\n\nAdresse: Route du Montagnier 81\, 1868 Collombey\n
LOCATION:Route du Montagnier 81\, 1868 Collombey
CATEGORIES:Saison 2025/26
END:VEVENT
BEGIN:VEVENT
DTSTAMP:20260424T062140Z
DTSTART;TZID=Europe/Berlin:20260226T200000
DTEND;TZID=Europe/Berlin:20260226T230000
SUMMARY:ME L6 Gr 2\, Tours 3&4 Montreux-Riviera II vs Dorénaz (0)
UID:e49dc06b-941e-4a17-a395-591529cf4b09
STATUS:CONFIRMED
LAST-MODIFIED:20260301T135015Z
DESCRIPTION:6ème ligue Hommes Groupe 2\, Tours 3&4\nBegegnungs-Nr: 0\nHeim: Montreux-Riviera II\nGast: Dorénaz\n\nAdresse: Rue de la Gare 33\, 1820 Montreux\n
LOCATION:Rue de la Gare 33\, 1820 Montreux
CATEGORIES:Saison 2025/26
END:VEVENT
BEGIN:VEVENT
DTSTAMP:20260424T062140Z
DTSTART;TZID=Europe/Berlin:20260114T194500
DTEND;TZID=Europe/Berlin:20260114T224500
SUMMARY:ME L6 Gr 2\, Tours 3&4 Yvorne II vs Dorénaz (0)
UID:7848a492-21eb-45d5-a7bf-d91bfd260dc2
STATUS:CONFIRMED
LAST-MODIFIED:20260117T130930Z
DESCRIPTION:6ème ligue Hommes Groupe 2\, Tours 3&4\nBegegnungs-Nr: 0\nHeim: Yvorne II\nGast: Dorénaz\n\nAdresse: Les Maisons Neuves 38\, 1853 Yvorne\n
LOCATION:Les Maisons Neuves 38\, 1853 Yvorne
CATEGORIES:Saison 2025/26
END:VEVENT
BEGIN:VEVENT
DTSTAMP:20260424T062140Z
DTSTART;TZID=Europe/Berlin:20260325T193000
DTEND;TZID=Europe/Berlin:20260325T223000
SUMMARY:ME L6 Gr 2\, Tours 3&4 Salvan vs Dorénaz (0)
UID:11c3a657-eed2-4d35-b453-b16c4ebbfabf
STATUS:CONFIRMED
LAST-MODIFIED:20260327T193707Z
DESCRIPTION:6ème ligue Hommes Groupe 2\, Tours 3&4\nBegegnungs-Nr: 0\nHeim: Salvan\nGast: Dorénaz\n\nAdresse: Le Carre 8\, 1922 Salvan\n
LOCATION:Le Carre 8\, 1922 Salvan
CATEGORIES:Saison 2025/26
END:VEVENT
BEGIN:VEVENT
DTSTAMP:20260424T062140Z
DTSTART;TZID=Europe/Berlin:20260424T200000
DTEND;TZID=Europe/Berlin:20260424T230000
SUMMARY:ME L6 Gr 2\, Tours 3&4 Aigle III vs Dorénaz (0)
UID:98cecbc1-09e8-42db-b9cd-5e3df46a75e4
STATUS:CONFIRMED
DESCRIPTION:6ème ligue Hommes Groupe 2\, Tours 3&4\nBegegnungs-Nr: 0\nHeim: Aigle III\nGast: Dorénaz\n\nAdresse: Rue du Collège 12\, 1860 Aigle\n
LOCATION:Rue du Collège 12\, 1860 Aigle
CATEGORIES:Saison 2025/26
END:VEVENT
BEGIN:VEVENT
DTSTAMP:20260424T062140Z
DTSTART;TZID=Europe/Berlin:20260204T200000
DTEND;TZID=Europe/Berlin:20260204T230000
SUMMARY:ME L6 Gr 2\, Tours 3&4 Aigle II vs Dorénaz (0)
UID:6419ea04-27ec-4cd2-8f57-78328def7b74
STATUS:CONFIRMED
LAST-MODIFIED:20260205T224511Z
DESCRIPTION:6ème ligue Hommes Groupe 2\, Tours 3&4\nBegegnungs-Nr: 0\nHeim: Aigle II\nGast: Dorénaz\n\nAdresse: Rue du Collège 12\, 1860 Aigle\n
LOCATION:Rue du Collège 12\, 1860 Aigle
CATEGORIES:Saison 2025/26
END:VEVENT
END:VCALENDAR
