BEGIN:VCALENDAR
PRODID:-//nuDatenautomaten//framework iCal4j //DE
VERSION:2.0
CALSCALE:GREGORIAN
BEGIN:VTIMEZONE
TZID:Europe/Berlin
LAST-MODIFIED:20260306T231828Z
TZURL:https://www.tzurl.org/zoneinfo/Europe/Berlin
X-LIC-LOCATION:Europe/Berlin
X-PROLEPTIC-TZNAME:LMT
BEGIN:STANDARD
TZNAME:CET
TZOFFSETFROM:+005328
TZOFFSETTO:+0100
DTSTART:18930401T000000
END:STANDARD
BEGIN:DAYLIGHT
TZNAME:CEST
TZOFFSETFROM:+0100
TZOFFSETTO:+0200
DTSTART:19160430T230000
RDATE:19400401T020000
RDATE:19430329T020000
RDATE:19460414T020000
RDATE:19470406T030000
RDATE:19480418T020000
RDATE:19490410T020000
RDATE:19800406T020000
END:DAYLIGHT
BEGIN:STANDARD
TZNAME:CET
TZOFFSETFROM:+0200
TZOFFSETTO:+0100
DTSTART:19161001T010000
RDATE:19421102T030000
RDATE:19431004T030000
RDATE:19441002T030000
RDATE:19451118T030000
RDATE:19461007T030000
END:STANDARD
BEGIN:DAYLIGHT
TZNAME:CEST
TZOFFSETFROM:+0100
TZOFFSETTO:+0200
DTSTART:19170416T020000
RRULE:FREQ=YEARLY;UNTIL=19180415T010000Z;BYMONTH=4;BYDAY=3MO
END:DAYLIGHT
BEGIN:STANDARD
TZNAME:CET
TZOFFSETFROM:+0200
TZOFFSETTO:+0100
DTSTART:19170917T030000
RRULE:FREQ=YEARLY;UNTIL=19180916T010000Z;BYMONTH=9;BYDAY=3MO
END:STANDARD
BEGIN:DAYLIGHT
TZNAME:CEST
TZOFFSETFROM:+0100
TZOFFSETTO:+0200
DTSTART:19440403T020000
RRULE:FREQ=YEARLY;UNTIL=19450402T010000Z;BYMONTH=4;BYDAY=1MO
END:DAYLIGHT
BEGIN:DAYLIGHT
TZNAME:CEMT
TZOFFSETFROM:+0200
TZOFFSETTO:+0300
DTSTART:19450524T020000
RDATE:19470511T030000
END:DAYLIGHT
BEGIN:DAYLIGHT
TZNAME:CEST
TZOFFSETFROM:+0300
TZOFFSETTO:+0200
DTSTART:19450924T030000
RDATE:19470629T030000
END:DAYLIGHT
BEGIN:STANDARD
TZNAME:CET
TZOFFSETFROM:+0100
TZOFFSETTO:+0100
DTSTART:19460101T000000
RDATE:19800101T000000
END:STANDARD
BEGIN:STANDARD
TZNAME:CET
TZOFFSETFROM:+0200
TZOFFSETTO:+0100
DTSTART:19471005T030000
RRULE:FREQ=YEARLY;UNTIL=19491002T010000Z;BYMONTH=10;BYDAY=1SU
END:STANDARD
BEGIN:STANDARD
TZNAME:CET
TZOFFSETFROM:+0200
TZOFFSETTO:+0100
DTSTART:19800928T030000
RRULE:FREQ=YEARLY;UNTIL=19950924T010000Z;BYMONTH=9;BYDAY=-1SU
END:STANDARD
BEGIN:DAYLIGHT
TZNAME:CEST
TZOFFSETFROM:+0100
TZOFFSETTO:+0200
DTSTART:19810329T020000
RRULE:FREQ=YEARLY;BYMONTH=3;BYDAY=-1SU
END:DAYLIGHT
BEGIN:STANDARD
TZNAME:CET
TZOFFSETFROM:+0200
TZOFFSETTO:+0100
DTSTART:19961027T030000
RRULE:FREQ=YEARLY;BYMONTH=10;BYDAY=-1SU
END:STANDARD
END:VTIMEZONE
BEGIN:VEVENT
DTSTAMP:20260424T135817Z
DTSTART;TZID=Europe/Berlin:20251104T200000
DTEND;TZID=Europe/Berlin:20251104T230000
SUMMARY:HE 5. Liga Gr. 4 Embrachertal IV vs Höngg III (0)
UID:72484a2e-5d25-4f27-bd3a-551f07741272
STATUS:CONFIRMED
LAST-MODIFIED:20251107T145104Z
DESCRIPTION:5. Liga Herren Gruppe 4\nBegegnungs-Nr: 0\nHeim: Embrachertal IV\nGast: Höngg III\n\nAdresse: Hintermarchlenstrasse 31 + 33\, 8426 Lufingen\n
LOCATION:Hintermarchlenstrasse 31 + 33\, 8426 Lufingen
CATEGORIES:Saison 2025/26
END:VEVENT
BEGIN:VEVENT
DTSTAMP:20260424T135817Z
DTSTART;TZID=Europe/Berlin:20260120T200000
DTEND;TZID=Europe/Berlin:20260120T230000
SUMMARY:HE 5. Liga Gr. 4 Embrachertal IV vs Buchs Zürich III (0)
UID:a0ee3058-f82a-4707-bae6-b4a7abb7491e
STATUS:CONFIRMED
LAST-MODIFIED:20260121T092633Z
DESCRIPTION:5. Liga Herren Gruppe 4\nBegegnungs-Nr: 0\nHeim: Embrachertal IV\nGast: Buchs Zürich III\n\nAdresse: Hintermarchlenstrasse 31 + 33\, 8426 Lufingen\n
LOCATION:Hintermarchlenstrasse 31 + 33\, 8426 Lufingen
CATEGORIES:Saison 2025/26
END:VEVENT
BEGIN:VEVENT
DTSTAMP:20260424T135817Z
DTSTART;TZID=Europe/Berlin:20260317T200000
DTEND;TZID=Europe/Berlin:20260317T230000
SUMMARY:HE 5. Liga Gr. 4 Embrachertal IV vs Seebach-Kügeliloo (0)
UID:0d9bd3d5-02ca-4b8a-a090-e5320ed0195d
STATUS:CONFIRMED
LAST-MODIFIED:20260318T111220Z
DESCRIPTION:5. Liga Herren Gruppe 4\nBegegnungs-Nr: 0\nHeim: Embrachertal IV\nGast: Seebach-Kügeliloo\n\nAdresse: Hintermarchlenstrasse 31 + 33\, 8426 Lufingen\n
LOCATION:Hintermarchlenstrasse 31 + 33\, 8426 Lufingen
CATEGORIES:Saison 2025/26
END:VEVENT
BEGIN:VEVENT
DTSTAMP:20260424T135817Z
DTSTART;TZID=Europe/Berlin:20260310T200000
DTEND;TZID=Europe/Berlin:20260310T230000
SUMMARY:HE 5. Liga Gr. 4 Embrachertal IV vs Seebach-Kügeliloo III (0)
UID:27148096-a9f6-4b38-8f1c-3cae3110821d
STATUS:CONFIRMED
LAST-MODIFIED:20260317T140914Z
DESCRIPTION:5. Liga Herren Gruppe 4\nBegegnungs-Nr: 0\nHeim: Embrachertal IV\nGast: Seebach-Kügeliloo III\n\nAdresse: Hintermarchlenstrasse 31 + 33\, 8426 Lufingen\n
LOCATION:Hintermarchlenstrasse 31 + 33\, 8426 Lufingen
CATEGORIES:Saison 2025/26
END:VEVENT
BEGIN:VEVENT
DTSTAMP:20260424T135817Z
DTSTART;TZID=Europe/Berlin:20260414T200000
DTEND;TZID=Europe/Berlin:20260414T230000
SUMMARY:HE 5. Liga Gr. 4 Embrachertal IV vs Urdorf III (0)
UID:35627691-9b63-42b3-b645-9c8e01104592
STATUS:CONFIRMED
LAST-MODIFIED:20260416T103755Z
DESCRIPTION:5. Liga Herren Gruppe 4\nBegegnungs-Nr: 0\nHeim: Embrachertal IV\nGast: Urdorf III\n\nAdresse: Hintermarchlenstrasse 31 + 33\, 8426 Lufingen\n
LOCATION:Hintermarchlenstrasse 31 + 33\, 8426 Lufingen
CATEGORIES:Saison 2025/26
END:VEVENT
BEGIN:VEVENT
DTSTAMP:20260424T135817Z
DTSTART;TZID=Europe/Berlin:20250826T200000
DTEND;TZID=Europe/Berlin:20250826T230000
SUMMARY:HE 5. Liga Gr. 4 Embrachertal IV vs Kloten III (0)
UID:f60154be-4fa1-46d4-919a-11a634ac9b83
STATUS:CONFIRMED
LAST-MODIFIED:20250829T143902Z
DESCRIPTION:5. Liga Herren Gruppe 4\nBegegnungs-Nr: 0\nHeim: Embrachertal IV\nGast: Kloten III\n\nAdresse: Hintermarchlenstrasse 31 + 33\, 8426 Lufingen\n
LOCATION:Hintermarchlenstrasse 31 + 33\, 8426 Lufingen
CATEGORIES:Saison 2025/26
END:VEVENT
BEGIN:VEVENT
DTSTAMP:20260424T135817Z
DTSTART;TZID=Europe/Berlin:20250916T200000
DTEND;TZID=Europe/Berlin:20250916T230000
SUMMARY:HE 5. Liga Gr. 4 Embrachertal IV vs Zürich-Affoltern VIII (0)
UID:3a06f444-6c0e-4ed8-ad87-da26be0e86f9
STATUS:CONFIRMED
LAST-MODIFIED:20250926T132212Z
DESCRIPTION:5. Liga Herren Gruppe 4\nBegegnungs-Nr: 0\nHeim: Embrachertal IV\nGast: Zürich-Affoltern VIII\n\nAdresse: Hintermarchlenstrasse 31 + 33\, 8426 Lufingen\n
LOCATION:Hintermarchlenstrasse 31 + 33\, 8426 Lufingen
CATEGORIES:Saison 2025/26
END:VEVENT
BEGIN:VEVENT
DTSTAMP:20260424T135817Z
DTSTART;TZID=Europe/Berlin:20250924T193000
DTEND;TZID=Europe/Berlin:20250924T223000
SUMMARY:HE 5. Liga Gr. 4 Seebach-Kügeliloo vs Embrachertal IV (0)
UID:37b8963b-598f-4dc3-944a-fd8374c50311
STATUS:CONFIRMED
LAST-MODIFIED:20251003T065601Z
DESCRIPTION:5. Liga Herren Gruppe 4\nBegegnungs-Nr: 0\nHeim: Seebach-Kügeliloo\nGast: Embrachertal IV\n\nAdresse: Maienstrasse 9\, 8050 Zürich\n
LOCATION:Maienstrasse 9\, 8050 Zürich
CATEGORIES:Saison 2025/26
END:VEVENT
BEGIN:VEVENT
DTSTAMP:20260424T135817Z
DTSTART;TZID=Europe/Berlin:20251029T193000
DTEND;TZID=Europe/Berlin:20251029T223000
SUMMARY:HE 5. Liga Gr. 4 Seebach-Kügeliloo III vs Embrachertal IV (0)
UID:c4dc0b5e-f431-4150-af8d-409b7dbca4f8
STATUS:CONFIRMED
LAST-MODIFIED:20251031T143957Z
DESCRIPTION:5. Liga Herren Gruppe 4\nBegegnungs-Nr: 0\nHeim: Seebach-Kügeliloo III\nGast: Embrachertal IV\n\nAdresse: Maienstrasse 9\, 8050 Zürich\n
LOCATION:Maienstrasse 9\, 8050 Zürich
CATEGORIES:Saison 2025/26
END:VEVENT
BEGIN:VEVENT
DTSTAMP:20260424T135817Z
DTSTART;TZID=Europe/Berlin:20251205T201500
DTEND;TZID=Europe/Berlin:20251205T231500
SUMMARY:HE 5. Liga Gr. 4 Urdorf III vs Embrachertal IV (0)
UID:fbe5e6bd-e432-4f23-bc43-591617f9392c
STATUS:CONFIRMED
LAST-MODIFIED:20251210T085321Z
DESCRIPTION:5. Liga Herren Gruppe 4\nBegegnungs-Nr: 0\nHeim: Urdorf III\nGast: Embrachertal IV\n\nAdresse: Weihermattstrasse 50\, 8902 Urdorf\n
LOCATION:Weihermattstrasse 50\, 8902 Urdorf
CATEGORIES:Saison 2025/26
END:VEVENT
BEGIN:VEVENT
DTSTAMP:20260424T135817Z
DTSTART;TZID=Europe/Berlin:20260212T194500
DTEND;TZID=Europe/Berlin:20260212T224500
SUMMARY:HE 5. Liga Gr. 4 Kloten III vs Embrachertal IV (0)
UID:07084003-4fb2-4654-aff4-08ba453b20ac
STATUS:CONFIRMED
LAST-MODIFIED:20260216T102858Z
DESCRIPTION:5. Liga Herren Gruppe 4\nBegegnungs-Nr: 0\nHeim: Kloten III\nGast: Embrachertal IV\n\nAdresse: Schluefweg 10\, 8302 Kloten\n
LOCATION:Schluefweg 10\, 8302 Kloten
CATEGORIES:Saison 2025/26
END:VEVENT
BEGIN:VEVENT
DTSTAMP:20260424T135817Z
DTSTART;TZID=Europe/Berlin:20260127T201500
DTEND;TZID=Europe/Berlin:20260127T231500
SUMMARY:HE 5. Liga Gr. 4 Zürich-Affoltern VIII vs Embrachertal IV (0)
UID:ba6c90ef-9dfc-413f-a756-2ec8902bec4b
STATUS:CONFIRMED
LAST-MODIFIED:20260130T101523Z
DESCRIPTION:5. Liga Herren Gruppe 4\nBegegnungs-Nr: 0\nHeim: Zürich-Affoltern VIII\nGast: Embrachertal IV\n\nAdresse: Rümlangstr. 89\, 8052 Zürich\n
LOCATION:Rümlangstr. 89\, 8052 Zürich
CATEGORIES:Saison 2025/26
END:VEVENT
BEGIN:VEVENT
DTSTAMP:20260424T135817Z
DTSTART;TZID=Europe/Berlin:20260330T200000
DTEND;TZID=Europe/Berlin:20260330T230000
SUMMARY:HE 5. Liga Gr. 4 Höngg III vs Embrachertal IV (0)
UID:61a2f718-d944-41ab-88af-3d42663e1ce0
STATUS:CONFIRMED
LAST-MODIFIED:20260401T125332Z
DESCRIPTION:5. Liga Herren Gruppe 4\nBegegnungs-Nr: 0\nHeim: Höngg III\nGast: Embrachertal IV\n\nAdresse: Bläsistrasse 2\, 8049 Zürich\n
LOCATION:Bläsistrasse 2\, 8049 Zürich
CATEGORIES:Saison 2025/26
END:VEVENT
BEGIN:VEVENT
DTSTAMP:20260424T135817Z
DTSTART;TZID=Europe/Berlin:20250901T193000
DTEND;TZID=Europe/Berlin:20250901T223000
SUMMARY:HE 5. Liga Gr. 4 Buchs Zürich III vs Embrachertal IV (0)
UID:b80dc978-3dff-40a0-b021-f5b9421b7cbb
STATUS:CONFIRMED
LAST-MODIFIED:20250905T124345Z
DESCRIPTION:5. Liga Herren Gruppe 4\nBegegnungs-Nr: 0\nHeim: Buchs Zürich III\nGast: Embrachertal IV\n\nAdresse: Drisglerstrasse 3\, 8107 Buchs ZH\n
LOCATION:Drisglerstrasse 3\, 8107 Buchs ZH
CATEGORIES:Saison 2025/26
END:VEVENT
END:VCALENDAR
