BEGIN:VCALENDAR
PRODID:-//nuDatenautomaten//framework iCal4j //DE
VERSION:2.0
CALSCALE:GREGORIAN
BEGIN:VTIMEZONE
TZID:Europe/Berlin
LAST-MODIFIED:20260306T231828Z
TZURL:https://www.tzurl.org/zoneinfo/Europe/Berlin
X-LIC-LOCATION:Europe/Berlin
X-PROLEPTIC-TZNAME:LMT
BEGIN:STANDARD
TZNAME:CET
TZOFFSETFROM:+005328
TZOFFSETTO:+0100
DTSTART:18930401T000000
END:STANDARD
BEGIN:DAYLIGHT
TZNAME:CEST
TZOFFSETFROM:+0100
TZOFFSETTO:+0200
DTSTART:19160430T230000
RDATE:19400401T020000
RDATE:19430329T020000
RDATE:19460414T020000
RDATE:19470406T030000
RDATE:19480418T020000
RDATE:19490410T020000
RDATE:19800406T020000
END:DAYLIGHT
BEGIN:STANDARD
TZNAME:CET
TZOFFSETFROM:+0200
TZOFFSETTO:+0100
DTSTART:19161001T010000
RDATE:19421102T030000
RDATE:19431004T030000
RDATE:19441002T030000
RDATE:19451118T030000
RDATE:19461007T030000
END:STANDARD
BEGIN:DAYLIGHT
TZNAME:CEST
TZOFFSETFROM:+0100
TZOFFSETTO:+0200
DTSTART:19170416T020000
RRULE:FREQ=YEARLY;UNTIL=19180415T010000Z;BYMONTH=4;BYDAY=3MO
END:DAYLIGHT
BEGIN:STANDARD
TZNAME:CET
TZOFFSETFROM:+0200
TZOFFSETTO:+0100
DTSTART:19170917T030000
RRULE:FREQ=YEARLY;UNTIL=19180916T010000Z;BYMONTH=9;BYDAY=3MO
END:STANDARD
BEGIN:DAYLIGHT
TZNAME:CEST
TZOFFSETFROM:+0100
TZOFFSETTO:+0200
DTSTART:19440403T020000
RRULE:FREQ=YEARLY;UNTIL=19450402T010000Z;BYMONTH=4;BYDAY=1MO
END:DAYLIGHT
BEGIN:DAYLIGHT
TZNAME:CEMT
TZOFFSETFROM:+0200
TZOFFSETTO:+0300
DTSTART:19450524T020000
RDATE:19470511T030000
END:DAYLIGHT
BEGIN:DAYLIGHT
TZNAME:CEST
TZOFFSETFROM:+0300
TZOFFSETTO:+0200
DTSTART:19450924T030000
RDATE:19470629T030000
END:DAYLIGHT
BEGIN:STANDARD
TZNAME:CET
TZOFFSETFROM:+0100
TZOFFSETTO:+0100
DTSTART:19460101T000000
RDATE:19800101T000000
END:STANDARD
BEGIN:STANDARD
TZNAME:CET
TZOFFSETFROM:+0200
TZOFFSETTO:+0100
DTSTART:19471005T030000
RRULE:FREQ=YEARLY;UNTIL=19491002T010000Z;BYMONTH=10;BYDAY=1SU
END:STANDARD
BEGIN:STANDARD
TZNAME:CET
TZOFFSETFROM:+0200
TZOFFSETTO:+0100
DTSTART:19800928T030000
RRULE:FREQ=YEARLY;UNTIL=19950924T010000Z;BYMONTH=9;BYDAY=-1SU
END:STANDARD
BEGIN:DAYLIGHT
TZNAME:CEST
TZOFFSETFROM:+0100
TZOFFSETTO:+0200
DTSTART:19810329T020000
RRULE:FREQ=YEARLY;BYMONTH=3;BYDAY=-1SU
END:DAYLIGHT
BEGIN:STANDARD
TZNAME:CET
TZOFFSETFROM:+0200
TZOFFSETTO:+0100
DTSTART:19961027T030000
RRULE:FREQ=YEARLY;BYMONTH=10;BYDAY=-1SU
END:STANDARD
END:VTIMEZONE
BEGIN:VEVENT
DTSTAMP:20260424T115250Z
DTSTART;TZID=Europe/Berlin:20250918T194500
DTEND;TZID=Europe/Berlin:20250918T224500
SUMMARY:Ligue 4 Gr.1 Ph.A Bernex V vs Carouge VI (6)
UID:3d4b9013-2713-49b3-8b1d-89427091ebc9
STATUS:CONFIRMED
LAST-MODIFIED:20250925T155732Z
DESCRIPTION:4ème ligue Hommes Gr.1 Phase A\nBegegnungs-Nr: 6\nHeim: Bernex V\nGast: Carouge VI\n
LOCATION:
CATEGORIES:Saison 2025/26
END:VEVENT
BEGIN:VEVENT
DTSTAMP:20260424T115250Z
DTSTART;TZID=Europe/Berlin:20250925T194500
DTEND;TZID=Europe/Berlin:20250925T224500
SUMMARY:Ligue 4 Gr.1 Ph.A Bernex V vs Veyrier (9)
UID:1da433f0-800d-4a03-8307-5f478c2cb991
STATUS:CONFIRMED
LAST-MODIFIED:20250926T092421Z
DESCRIPTION:4ème ligue Hommes Gr.1 Phase A\nBegegnungs-Nr: 9\nHeim: Bernex V\nGast: Veyrier\n
LOCATION:
CATEGORIES:Saison 2025/26
END:VEVENT
BEGIN:VEVENT
DTSTAMP:20260424T115250Z
DTSTART;TZID=Europe/Berlin:20251204T194500
DTEND;TZID=Europe/Berlin:20251204T224500
SUMMARY:Ligue 4 Gr.1 Ph.A Bernex V vs Silver Star VI (30)
UID:844ee5da-d590-4903-896d-e70b434f3624
STATUS:CONFIRMED
LAST-MODIFIED:20251205T082213Z
DESCRIPTION:4ème ligue Hommes Gr.1 Phase A\nBegegnungs-Nr: 30\nHeim: Bernex V\nGast: Silver Star VI\n
LOCATION:
CATEGORIES:Saison 2025/26
END:VEVENT
BEGIN:VEVENT
DTSTAMP:20260424T115250Z
DTSTART;TZID=Europe/Berlin:20251030T194500
DTEND;TZID=Europe/Berlin:20251030T224500
SUMMARY:Ligue 4 Gr.1 Ph.A Bernex V vs Meyrin VI (18)
UID:a43e5e15-8a94-49ff-90fc-2102d6ee4031
STATUS:CONFIRMED
LAST-MODIFIED:20251031T075440Z
DESCRIPTION:4ème ligue Hommes Gr.1 Phase A\nBegegnungs-Nr: 18\nHeim: Bernex V\nGast: Meyrin VI\n
LOCATION:
CATEGORIES:Saison 2025/26
END:VEVENT
BEGIN:VEVENT
DTSTAMP:20260424T115250Z
DTSTART;TZID=Europe/Berlin:20251127T194500
DTEND;TZID=Europe/Berlin:20251127T224500
SUMMARY:Ligue 4 Gr.1 Ph.A Bernex V vs UGS-Chênois IX (27)
UID:6f7e943e-f03d-4ba0-b42a-dc3dbf044915
STATUS:CONFIRMED
LAST-MODIFIED:20251128T180445Z
DESCRIPTION:4ème ligue Hommes Gr.1 Phase A\nBegegnungs-Nr: 27\nHeim: Bernex V\nGast: UGS-Chênois IX\n
LOCATION:
CATEGORIES:Saison 2025/26
END:VEVENT
BEGIN:VEVENT
DTSTAMP:20260424T115250Z
DTSTART;TZID=Europe/Berlin:20260430T194500
DTEND;TZID=Europe/Berlin:20260430T224500
SUMMARY:Ligue 4 Gr.4 Ph.B Bernex V vs Silver Star VI (28)
UID:2c8d3f0f-0e6a-428e-8491-1e740b522cb5
STATUS:CONFIRMED
DESCRIPTION:4ème ligue Hommes Gr.4 Phase B\nBegegnungs-Nr: 28\nHeim: Bernex V\nGast: Silver Star VI\n
LOCATION:
CATEGORIES:Saison 2025/26
END:VEVENT
BEGIN:VEVENT
DTSTAMP:20260424T115250Z
DTSTART;TZID=Europe/Berlin:20260319T194500
DTEND;TZID=Europe/Berlin:20260319T224500
SUMMARY:Ligue 4 Gr.4 Ph.B Bernex V vs Grand-Saconnex II (20)
UID:72a97acd-a7af-4b1d-a138-0ba61c57b569
STATUS:CONFIRMED
LAST-MODIFIED:20260320T081827Z
DESCRIPTION:4ème ligue Hommes Gr.4 Phase B\nBegegnungs-Nr: 20\nHeim: Bernex V\nGast: Grand-Saconnex II\n
LOCATION:
CATEGORIES:Saison 2025/26
END:VEVENT
BEGIN:VEVENT
DTSTAMP:20260424T115250Z
DTSTART;TZID=Europe/Berlin:20260115T194500
DTEND;TZID=Europe/Berlin:20260115T224500
SUMMARY:Ligue 4 Gr.4 Ph.B Bernex V vs Mandement VI (2)
UID:1499a77b-70a0-4cd2-82fd-19e137693d37
STATUS:CONFIRMED
LAST-MODIFIED:20260116T181930Z
DESCRIPTION:4ème ligue Hommes Gr.4 Phase B\nBegegnungs-Nr: 2\nHeim: Bernex V\nGast: Mandement VI\n
LOCATION:
CATEGORIES:Saison 2025/26
END:VEVENT
BEGIN:VEVENT
DTSTAMP:20260424T115250Z
DTSTART;TZID=Europe/Berlin:20260212T194500
DTEND;TZID=Europe/Berlin:20260212T224500
SUMMARY:Ligue 4 Gr.4 Ph.B Bernex V vs Versoix IV (12)
UID:24d0f4e8-174a-46c6-8310-80219a8c1ea3
STATUS:CONFIRMED
LAST-MODIFIED:20260213T083336Z
DESCRIPTION:4ème ligue Hommes Gr.4 Phase B\nBegegnungs-Nr: 12\nHeim: Bernex V\nGast: Versoix IV\n
LOCATION:
CATEGORIES:Saison 2025/26
END:VEVENT
BEGIN:VEVENT
DTSTAMP:20260424T115250Z
DTSTART;TZID=Europe/Berlin:20260129T194500
DTEND;TZID=Europe/Berlin:20260129T224500
SUMMARY:Ligue 4 Gr.4 Ph.B Bernex V vs ZZ-Lancy IX (8)
UID:07f809c5-5a54-41e3-95ee-f9dc8befe40f
STATUS:CONFIRMED
LAST-MODIFIED:20260130T084750Z
DESCRIPTION:4ème ligue Hommes Gr.4 Phase B\nBegegnungs-Nr: 8\nHeim: Bernex V\nGast: ZZ-Lancy IX\n
LOCATION:
CATEGORIES:Saison 2025/26
END:VEVENT
BEGIN:VEVENT
DTSTAMP:20260424T115250Z
DTSTART;TZID=Europe/Berlin:20251218T194500
DTEND;TZID=Europe/Berlin:20251218T224500
SUMMARY:Ligue 4 Bar. relég. Bernex V vs Grand-Saconnex III (3)
UID:baa4ee40-3636-47c0-bdf4-66c3466fb24b
STATUS:CONFIRMED
LAST-MODIFIED:20251219T100231Z
DESCRIPTION:4ème ligue Barrage relegation Phase A\nBegegnungs-Nr: 3\nHeim: Bernex V\nGast: Grand-Saconnex III\n
LOCATION:
CATEGORIES:Saison 2025/26
END:VEVENT
BEGIN:VEVENT
DTSTAMP:20260424T115250Z
DTSTART;TZID=Europe/Berlin:20251211T194500
DTEND;TZID=Europe/Berlin:20251211T224500
SUMMARY:Ligue 4 Bar. relég. Bernex V vs Meyrin V (1)
UID:accb7cb1-5e9e-4d9f-a915-c3467983c939
STATUS:CONFIRMED
LAST-MODIFIED:20251212T153953Z
DESCRIPTION:4ème ligue Barrage relegation Phase A\nBegegnungs-Nr: 1\nHeim: Bernex V\nGast: Meyrin V\n
LOCATION:
CATEGORIES:Saison 2025/26
END:VEVENT
BEGIN:VEVENT
DTSTAMP:20260424T115250Z
DTSTART;TZID=Europe/Berlin:20250904T194500
DTEND;TZID=Europe/Berlin:20250904T224500
SUMMARY:Ligue 4 Gr.1 Ph.A Meyrin VI vs Bernex V (3)
UID:acf9c916-568d-4cbb-84dc-dd34b58d3d7e
STATUS:CONFIRMED
LAST-MODIFIED:20250905T172619Z
DESCRIPTION:4ème ligue Hommes Gr.1 Phase A\nBegegnungs-Nr: 3\nHeim: Meyrin VI\nGast: Bernex V\n
LOCATION:
CATEGORIES:Saison 2025/26
END:VEVENT
BEGIN:VEVENT
DTSTAMP:20260424T115250Z
DTSTART;TZID=Europe/Berlin:20251008T194500
DTEND;TZID=Europe/Berlin:20251008T224500
SUMMARY:Ligue 4 Gr.1 Ph.A UGS-Chênois IX vs Bernex V (12)
UID:00a3920f-b6dc-42be-b3b4-b4785356762c
STATUS:CONFIRMED
LAST-MODIFIED:20251009T085816Z
DESCRIPTION:4ème ligue Hommes Gr.1 Phase A\nBegegnungs-Nr: 12\nHeim: UGS-Chênois IX\nGast: Bernex V\n
LOCATION:
CATEGORIES:Saison 2025/26
END:VEVENT
BEGIN:VEVENT
DTSTAMP:20260424T115250Z
DTSTART;TZID=Europe/Berlin:20251016T194500
DTEND;TZID=Europe/Berlin:20251016T224500
SUMMARY:Ligue 4 Gr.1 Ph.A Silver Star VI vs Bernex V (15)
UID:ffade4a8-28b9-4bff-8d13-fc449a51734b
STATUS:CONFIRMED
LAST-MODIFIED:20251017T064331Z
DESCRIPTION:4ème ligue Hommes Gr.1 Phase A\nBegegnungs-Nr: 15\nHeim: Silver Star VI\nGast: Bernex V\n
LOCATION:
CATEGORIES:Saison 2025/26
END:VEVENT
BEGIN:VEVENT
DTSTAMP:20260424T115250Z
DTSTART;TZID=Europe/Berlin:20251113T194500
DTEND;TZID=Europe/Berlin:20251113T224500
SUMMARY:Ligue 4 Gr.1 Ph.A Carouge VI vs Bernex V (21)
UID:e01bca48-83ee-4d02-9477-3211a98832dd
STATUS:CONFIRMED
LAST-MODIFIED:20251115T090501Z
DESCRIPTION:4ème ligue Hommes Gr.1 Phase A\nBegegnungs-Nr: 21\nHeim: Carouge VI\nGast: Bernex V\n
LOCATION:
CATEGORIES:Saison 2025/26
END:VEVENT
BEGIN:VEVENT
DTSTAMP:20260424T115250Z
DTSTART;TZID=Europe/Berlin:20251120T194500
DTEND;TZID=Europe/Berlin:20251120T224500
SUMMARY:Ligue 4 Gr.1 Ph.A Veyrier vs Bernex V (24)
UID:89bb6b03-954f-44ec-9906-80b490435d4d
STATUS:CONFIRMED
LAST-MODIFIED:20251121T102042Z
DESCRIPTION:4ème ligue Hommes Gr.1 Phase A\nBegegnungs-Nr: 24\nHeim: Veyrier\nGast: Bernex V\n\nAdresse: -\, 1255 Veyrier\n
LOCATION:-\, 1255 Veyrier
CATEGORIES:Saison 2025/26
END:VEVENT
BEGIN:VEVENT
DTSTAMP:20260424T115250Z
DTSTART;TZID=Europe/Berlin:20260122T194500
DTEND;TZID=Europe/Berlin:20260122T224500
SUMMARY:Ligue 4 Gr.4 Ph.B Grand-Saconnex II vs Bernex V (5)
UID:a4d74644-e338-48ae-9941-dc952e69be33
STATUS:CONFIRMED
LAST-MODIFIED:20260123T183706Z
DESCRIPTION:4ème ligue Hommes Gr.4 Phase B\nBegegnungs-Nr: 5\nHeim: Grand-Saconnex II\nGast: Bernex V\n
LOCATION:
CATEGORIES:Saison 2025/26
END:VEVENT
BEGIN:VEVENT
DTSTAMP:20260424T115250Z
DTSTART;TZID=Europe/Berlin:20260402T194500
DTEND;TZID=Europe/Berlin:20260402T224500
SUMMARY:Ligue 4 Gr.4 Ph.B Versoix IV vs Bernex V (27)
UID:74cb8d05-31c3-43f6-b098-66f5d503d250
STATUS:CONFIRMED
LAST-MODIFIED:20260403T075219Z
DESCRIPTION:4ème ligue Hommes Gr.4 Phase B\nBegegnungs-Nr: 27\nHeim: Versoix IV\nGast: Bernex V\n
LOCATION:
CATEGORIES:Saison 2025/26
END:VEVENT
BEGIN:VEVENT
DTSTAMP:20260424T115250Z
DTSTART;TZID=Europe/Berlin:20260326T200000
DTEND;TZID=Europe/Berlin:20260326T230000
SUMMARY:Ligue 4 Gr.4 Ph.B ZZ-Lancy IX vs Bernex V (23)
UID:fc86f922-76a3-42bf-adb6-fbd48a707ebe
STATUS:CONFIRMED
LAST-MODIFIED:20260327T081555Z
DESCRIPTION:4ème ligue Hommes Gr.4 Phase B\nBegegnungs-Nr: 23\nHeim: ZZ-Lancy IX\nGast: Bernex V\n
LOCATION:
CATEGORIES:Saison 2025/26
END:VEVENT
BEGIN:VEVENT
DTSTAMP:20260424T115250Z
DTSTART;TZID=Europe/Berlin:20260310T194500
DTEND;TZID=Europe/Berlin:20260310T224500
SUMMARY:Ligue 4 Gr.4 Ph.B Mandement VI vs Bernex V (17)
UID:24cdf132-0859-4735-9936-4613e8c7d8d4
STATUS:CONFIRMED
LAST-MODIFIED:20260310T221628Z
DESCRIPTION:4ème ligue Hommes Gr.4 Phase B\nBegegnungs-Nr: 17\nHeim: Mandement VI\nGast: Bernex V\n
LOCATION:
CATEGORIES:Saison 2025/26
END:VEVENT
BEGIN:VEVENT
DTSTAMP:20260424T115250Z
DTSTART;TZID=Europe/Berlin:20260219T194500
DTEND;TZID=Europe/Berlin:20260219T224500
SUMMARY:Ligue 4 Gr.4 Ph.B Silver Star VI vs Bernex V (13)
UID:f1987078-b641-48ae-92a4-47dd9fee4b8b
STATUS:CONFIRMED
LAST-MODIFIED:20260220T081528Z
DESCRIPTION:4ème ligue Hommes Gr.4 Phase B\nBegegnungs-Nr: 13\nHeim: Silver Star VI\nGast: Bernex V\n
LOCATION:
CATEGORIES:Saison 2025/26
END:VEVENT
END:VCALENDAR
