BEGIN:VCALENDAR
PRODID:-//nuDatenautomaten//framework iCal4j //DE
VERSION:2.0
CALSCALE:GREGORIAN
BEGIN:VTIMEZONE
TZID:Europe/Berlin
LAST-MODIFIED:20260306T231828Z
TZURL:https://www.tzurl.org/zoneinfo/Europe/Berlin
X-LIC-LOCATION:Europe/Berlin
X-PROLEPTIC-TZNAME:LMT
BEGIN:STANDARD
TZNAME:CET
TZOFFSETFROM:+005328
TZOFFSETTO:+0100
DTSTART:18930401T000000
END:STANDARD
BEGIN:DAYLIGHT
TZNAME:CEST
TZOFFSETFROM:+0100
TZOFFSETTO:+0200
DTSTART:19160430T230000
RDATE:19400401T020000
RDATE:19430329T020000
RDATE:19460414T020000
RDATE:19470406T030000
RDATE:19480418T020000
RDATE:19490410T020000
RDATE:19800406T020000
END:DAYLIGHT
BEGIN:STANDARD
TZNAME:CET
TZOFFSETFROM:+0200
TZOFFSETTO:+0100
DTSTART:19161001T010000
RDATE:19421102T030000
RDATE:19431004T030000
RDATE:19441002T030000
RDATE:19451118T030000
RDATE:19461007T030000
END:STANDARD
BEGIN:DAYLIGHT
TZNAME:CEST
TZOFFSETFROM:+0100
TZOFFSETTO:+0200
DTSTART:19170416T020000
RRULE:FREQ=YEARLY;UNTIL=19180415T010000Z;BYMONTH=4;BYDAY=3MO
END:DAYLIGHT
BEGIN:STANDARD
TZNAME:CET
TZOFFSETFROM:+0200
TZOFFSETTO:+0100
DTSTART:19170917T030000
RRULE:FREQ=YEARLY;UNTIL=19180916T010000Z;BYMONTH=9;BYDAY=3MO
END:STANDARD
BEGIN:DAYLIGHT
TZNAME:CEST
TZOFFSETFROM:+0100
TZOFFSETTO:+0200
DTSTART:19440403T020000
RRULE:FREQ=YEARLY;UNTIL=19450402T010000Z;BYMONTH=4;BYDAY=1MO
END:DAYLIGHT
BEGIN:DAYLIGHT
TZNAME:CEMT
TZOFFSETFROM:+0200
TZOFFSETTO:+0300
DTSTART:19450524T020000
RDATE:19470511T030000
END:DAYLIGHT
BEGIN:DAYLIGHT
TZNAME:CEST
TZOFFSETFROM:+0300
TZOFFSETTO:+0200
DTSTART:19450924T030000
RDATE:19470629T030000
END:DAYLIGHT
BEGIN:STANDARD
TZNAME:CET
TZOFFSETFROM:+0100
TZOFFSETTO:+0100
DTSTART:19460101T000000
RDATE:19800101T000000
END:STANDARD
BEGIN:STANDARD
TZNAME:CET
TZOFFSETFROM:+0200
TZOFFSETTO:+0100
DTSTART:19471005T030000
RRULE:FREQ=YEARLY;UNTIL=19491002T010000Z;BYMONTH=10;BYDAY=1SU
END:STANDARD
BEGIN:STANDARD
TZNAME:CET
TZOFFSETFROM:+0200
TZOFFSETTO:+0100
DTSTART:19800928T030000
RRULE:FREQ=YEARLY;UNTIL=19950924T010000Z;BYMONTH=9;BYDAY=-1SU
END:STANDARD
BEGIN:DAYLIGHT
TZNAME:CEST
TZOFFSETFROM:+0100
TZOFFSETTO:+0200
DTSTART:19810329T020000
RRULE:FREQ=YEARLY;BYMONTH=3;BYDAY=-1SU
END:DAYLIGHT
BEGIN:STANDARD
TZNAME:CET
TZOFFSETFROM:+0200
TZOFFSETTO:+0100
DTSTART:19961027T030000
RRULE:FREQ=YEARLY;BYMONTH=10;BYDAY=-1SU
END:STANDARD
END:VTIMEZONE
BEGIN:VEVENT
DTSTAMP:20260424T150339Z
DTSTART;TZID=Europe/Berlin:20251203T200000
DTEND;TZID=Europe/Berlin:20251203T230000
SUMMARY:Ligue 3 Gr.1 Ph.A Carouge V vs Rapid-Genève II (30)
UID:aabfb90b-486e-4670-8b6c-3a7f5013cf0b
STATUS:CONFIRMED
LAST-MODIFIED:20251204T083216Z
DESCRIPTION:3ème ligue Homme Gr.1 Phase A\nBegegnungs-Nr: 30\nHeim: Carouge V\nGast: Rapid-Genève II\n
LOCATION:
CATEGORIES:Saison 2025/26
END:VEVENT
BEGIN:VEVENT
DTSTAMP:20260424T150339Z
DTSTART;TZID=Europe/Berlin:20251112T200000
DTEND;TZID=Europe/Berlin:20251112T230000
SUMMARY:Ligue 3 Gr.1 Ph.A Carouge V vs Onex II (19)
UID:926ae997-d1d3-44db-b936-9f4f764f7f21
STATUS:CONFIRMED
LAST-MODIFIED:20251113T133953Z
DESCRIPTION:3ème ligue Homme Gr.1 Phase A\nBegegnungs-Nr: 19\nHeim: Carouge V\nGast: Onex II\n
LOCATION:
CATEGORIES:Saison 2025/26
END:VEVENT
BEGIN:VEVENT
DTSTAMP:20260424T150339Z
DTSTART;TZID=Europe/Berlin:20250903T200000
DTEND;TZID=Europe/Berlin:20250903T230000
SUMMARY:Ligue 3 Gr.1 Ph.A Carouge V vs ZZ-Lancy VII (2)
UID:cf591703-e23e-4445-bab9-f0368cedc99d
STATUS:CONFIRMED
LAST-MODIFIED:20250905T082902Z
DESCRIPTION:3ème ligue Homme Gr.1 Phase A\nBegegnungs-Nr: 2\nHeim: Carouge V\nGast: ZZ-Lancy VII\n
LOCATION:
CATEGORIES:Saison 2025/26
END:VEVENT
BEGIN:VEVENT
DTSTAMP:20260424T150339Z
DTSTART;TZID=Europe/Berlin:20251008T200000
DTEND;TZID=Europe/Berlin:20251008T230000
SUMMARY:Ligue 3 Gr.1 Ph.A Carouge V vs Silver Star V (11)
UID:7a392711-edcd-45d0-805c-9ecf4002eb79
STATUS:CONFIRMED
LAST-MODIFIED:20251009T151716Z
DESCRIPTION:3ème ligue Homme Gr.1 Phase A\nBegegnungs-Nr: 11\nHeim: Carouge V\nGast: Silver Star V\n
LOCATION:
CATEGORIES:Saison 2025/26
END:VEVENT
BEGIN:VEVENT
DTSTAMP:20260424T150339Z
DTSTART;TZID=Europe/Berlin:20250924T200000
DTEND;TZID=Europe/Berlin:20250924T230000
SUMMARY:Ligue 3 Gr.1 Ph.A Carouge V vs Vernier II (7)
UID:b71c0755-01a6-48f5-936f-8a0334624857
STATUS:CONFIRMED
LAST-MODIFIED:20250925T160129Z
DESCRIPTION:3ème ligue Homme Gr.1 Phase A\nBegegnungs-Nr: 7\nHeim: Carouge V\nGast: Vernier II\n
LOCATION:
CATEGORIES:Saison 2025/26
END:VEVENT
BEGIN:VEVENT
DTSTAMP:20260424T150339Z
DTSTART;TZID=Europe/Berlin:20260318T200000
DTEND;TZID=Europe/Berlin:20260318T230000
SUMMARY:Ligue 3 Gr.2 Ph.B Carouge V vs Veyrier II (19)
UID:1de17316-1c52-4a8a-920a-ae8556a24eef
STATUS:CONFIRMED
LAST-MODIFIED:20260319T132156Z
DESCRIPTION:3ème ligue Homme Gr.2 Phase B\nBegegnungs-Nr: 19\nHeim: Carouge V\nGast: Veyrier II\n
LOCATION:
CATEGORIES:Saison 2025/26
END:VEVENT
BEGIN:VEVENT
DTSTAMP:20260424T150339Z
DTSTART;TZID=Europe/Berlin:20260218T200000
DTEND;TZID=Europe/Berlin:20260218T230000
SUMMARY:Ligue 3 Gr.2 Ph.B Carouge V vs Châtelaine V (14)
UID:2d4b2e52-6b0d-45a0-b6c6-2d6566d42241
STATUS:CONFIRMED
LAST-MODIFIED:20260219T120324Z
DESCRIPTION:3ème ligue Homme Gr.2 Phase B\nBegegnungs-Nr: 14\nHeim: Carouge V\nGast: Châtelaine V\n
LOCATION:
CATEGORIES:Saison 2025/26
END:VEVENT
BEGIN:VEVENT
DTSTAMP:20260424T150339Z
DTSTART;TZID=Europe/Berlin:20260211T200000
DTEND;TZID=Europe/Berlin:20260211T230000
SUMMARY:Ligue 3 Gr.2 Ph.B Carouge V vs ZZ-Lancy VIII (10)
UID:59e8c950-6b78-4b96-9b79-e42cf0060e0e
STATUS:CONFIRMED
LAST-MODIFIED:20260212T101342Z
DESCRIPTION:3ème ligue Homme Gr.2 Phase B\nBegegnungs-Nr: 10\nHeim: Carouge V\nGast: ZZ-Lancy VIII\n
LOCATION:
CATEGORIES:Saison 2025/26
END:VEVENT
BEGIN:VEVENT
DTSTAMP:20260424T150339Z
DTSTART;TZID=Europe/Berlin:20260114T200000
DTEND;TZID=Europe/Berlin:20260114T230000
SUMMARY:Ligue 3 Gr.2 Ph.B Carouge V vs Onex III (3)
UID:61216f75-e699-4384-bae5-38975994c137
STATUS:CONFIRMED
LAST-MODIFIED:20260115T134804Z
DESCRIPTION:3ème ligue Homme Gr.2 Phase B\nBegegnungs-Nr: 3\nHeim: Carouge V\nGast: Onex III\n
LOCATION:
CATEGORIES:Saison 2025/26
END:VEVENT
BEGIN:VEVENT
DTSTAMP:20260424T150339Z
DTSTART;TZID=Europe/Berlin:20260325T200000
DTEND;TZID=Europe/Berlin:20260325T230000
SUMMARY:Ligue 3 Gr.2 Ph.B Carouge V vs UGS-Chênois VII (23)
UID:47d354b8-53e8-46ee-ab7f-577aaa825a92
STATUS:CONFIRMED
LAST-MODIFIED:20260326T095440Z
DESCRIPTION:3ème ligue Homme Gr.2 Phase B\nBegegnungs-Nr: 23\nHeim: Carouge V\nGast: UGS-Chênois VII\n
LOCATION:
CATEGORIES:Saison 2025/26
END:VEVENT
BEGIN:VEVENT
DTSTAMP:20260424T150339Z
DTSTART;TZID=Europe/Berlin:20250917T194500
DTEND;TZID=Europe/Berlin:20250917T224500
SUMMARY:Ligue 3 Gr.1 Ph.A Onex II vs Carouge V (4)
UID:74fe122c-c858-47f9-9791-bf356037ffda
STATUS:CONFIRMED
LAST-MODIFIED:20250918T142942Z
DESCRIPTION:3ème ligue Homme Gr.1 Phase A\nBegegnungs-Nr: 4\nHeim: Onex II\nGast: Carouge V\n
LOCATION:
CATEGORIES:Saison 2025/26
END:VEVENT
BEGIN:VEVENT
DTSTAMP:20260424T150339Z
DTSTART;TZID=Europe/Berlin:20251126T194500
DTEND;TZID=Europe/Berlin:20251126T224500
SUMMARY:Ligue 3 Gr.1 Ph.A Silver Star V vs Carouge V (26)
UID:0945a207-adba-4f1d-94b9-322332bfd73e
STATUS:CONFIRMED
LAST-MODIFIED:20251127T112948Z
DESCRIPTION:3ème ligue Homme Gr.1 Phase A\nBegegnungs-Nr: 26\nHeim: Silver Star V\nGast: Carouge V\n
LOCATION:
CATEGORIES:Saison 2025/26
END:VEVENT
BEGIN:VEVENT
DTSTAMP:20260424T150339Z
DTSTART;TZID=Europe/Berlin:20251119T194500
DTEND;TZID=Europe/Berlin:20251119T224500
SUMMARY:Ligue 3 Gr.1 Ph.A Vernier II vs Carouge V (22)
UID:ccc1c296-1936-490c-a8a6-c6b6bdc69b0f
STATUS:CONFIRMED
LAST-MODIFIED:20251120T123113Z
DESCRIPTION:3ème ligue Homme Gr.1 Phase A\nBegegnungs-Nr: 22\nHeim: Vernier II\nGast: Carouge V\n
LOCATION:
CATEGORIES:Saison 2025/26
END:VEVENT
BEGIN:VEVENT
DTSTAMP:20260424T150339Z
DTSTART;TZID=Europe/Berlin:20251029T200000
DTEND;TZID=Europe/Berlin:20251029T230000
SUMMARY:Ligue 3 Gr.1 Ph.A ZZ-Lancy VII vs Carouge V (17)
UID:086ca187-f2c5-4f5f-b0f7-710182cc9ee2
STATUS:CONFIRMED
LAST-MODIFIED:20251030T122024Z
DESCRIPTION:3ème ligue Homme Gr.1 Phase A\nBegegnungs-Nr: 17\nHeim: ZZ-Lancy VII\nGast: Carouge V\n
LOCATION:
CATEGORIES:Saison 2025/26
END:VEVENT
BEGIN:VEVENT
DTSTAMP:20260424T150339Z
DTSTART;TZID=Europe/Berlin:20251015T194500
DTEND;TZID=Europe/Berlin:20251015T224500
SUMMARY:Ligue 3 Gr.1 Ph.A Rapid-Genève II vs Carouge V (15)
UID:ea32d320-d24e-44e9-96db-e58efa9e0ee3
STATUS:CONFIRMED
LAST-MODIFIED:20251017T190702Z
DESCRIPTION:3ème ligue Homme Gr.1 Phase A\nBegegnungs-Nr: 15\nHeim: Rapid-Genève II\nGast: Carouge V\n
LOCATION:
CATEGORIES:Saison 2025/26
END:VEVENT
BEGIN:VEVENT
DTSTAMP:20260424T150339Z
DTSTART;TZID=Europe/Berlin:20260311T194500
DTEND;TZID=Europe/Berlin:20260311T224500
SUMMARY:Ligue 3 Gr.2 Ph.B Onex III vs Carouge V (18)
UID:7064f8c7-05c4-4076-a17d-1316bf1d9bfd
STATUS:CONFIRMED
LAST-MODIFIED:20260312T140311Z
DESCRIPTION:3ème ligue Homme Gr.2 Phase B\nBegegnungs-Nr: 18\nHeim: Onex III\nGast: Carouge V\n
LOCATION:
CATEGORIES:Saison 2025/26
END:VEVENT
BEGIN:VEVENT
DTSTAMP:20260424T150339Z
DTSTART;TZID=Europe/Berlin:20260128T194500
DTEND;TZID=Europe/Berlin:20260128T224500
SUMMARY:Ligue 3 Gr.2 Ph.B UGS-Chênois VII vs Carouge V (8)
UID:2ce4ab4b-cd0f-46bc-8a42-86aa324c8827
STATUS:CONFIRMED
LAST-MODIFIED:20260130T083717Z
DESCRIPTION:3ème ligue Homme Gr.2 Phase B\nBegegnungs-Nr: 8\nHeim: UGS-Chênois VII\nGast: Carouge V\n
LOCATION:
CATEGORIES:Saison 2025/26
END:VEVENT
BEGIN:VEVENT
DTSTAMP:20260424T150339Z
DTSTART;TZID=Europe/Berlin:20260121T194500
DTEND;TZID=Europe/Berlin:20260121T224500
SUMMARY:Ligue 3 Gr.2 Ph.B Veyrier II vs Carouge V (4)
UID:1293200d-9a96-44fa-b039-3ca39da816a7
STATUS:CONFIRMED
LAST-MODIFIED:20260122T093906Z
DESCRIPTION:3ème ligue Homme Gr.2 Phase B\nBegegnungs-Nr: 4\nHeim: Veyrier II\nGast: Carouge V\n\nAdresse: -\, 1255 Veyrier\n
LOCATION:-\, 1255 Veyrier
CATEGORIES:Saison 2025/26
END:VEVENT
BEGIN:VEVENT
DTSTAMP:20260424T150339Z
DTSTART;TZID=Europe/Berlin:20260429T194500
DTEND;TZID=Europe/Berlin:20260429T224500
SUMMARY:Ligue 3 Gr.2 Ph.B Châtelaine V vs Carouge V (29)
UID:c248d31a-0f78-43e2-babd-33fe7dd04015
STATUS:CONFIRMED
DESCRIPTION:3ème ligue Homme Gr.2 Phase B\nBegegnungs-Nr: 29\nHeim: Châtelaine V\nGast: Carouge V\n
LOCATION:
CATEGORIES:Saison 2025/26
END:VEVENT
BEGIN:VEVENT
DTSTAMP:20260424T150339Z
DTSTART;TZID=Europe/Berlin:20260401T200000
DTEND;TZID=Europe/Berlin:20260401T230000
SUMMARY:Ligue 3 Gr.2 Ph.B ZZ-Lancy VIII vs Carouge V (25)
UID:dcd32245-6740-40dc-b03c-e825ab345882
STATUS:CONFIRMED
LAST-MODIFIED:20260402T064459Z
DESCRIPTION:3ème ligue Homme Gr.2 Phase B\nBegegnungs-Nr: 25\nHeim: ZZ-Lancy VIII\nGast: Carouge V\n
LOCATION:
CATEGORIES:Saison 2025/26
END:VEVENT
END:VCALENDAR
