BEGIN:VCALENDAR
PRODID:-//nuDatenautomaten//framework iCal4j //DE
VERSION:2.0
CALSCALE:GREGORIAN
BEGIN:VTIMEZONE
TZID:Europe/Berlin
LAST-MODIFIED:20260306T231828Z
TZURL:https://www.tzurl.org/zoneinfo/Europe/Berlin
X-LIC-LOCATION:Europe/Berlin
X-PROLEPTIC-TZNAME:LMT
BEGIN:STANDARD
TZNAME:CET
TZOFFSETFROM:+005328
TZOFFSETTO:+0100
DTSTART:18930401T000000
END:STANDARD
BEGIN:DAYLIGHT
TZNAME:CEST
TZOFFSETFROM:+0100
TZOFFSETTO:+0200
DTSTART:19160430T230000
RDATE:19400401T020000
RDATE:19430329T020000
RDATE:19460414T020000
RDATE:19470406T030000
RDATE:19480418T020000
RDATE:19490410T020000
RDATE:19800406T020000
END:DAYLIGHT
BEGIN:STANDARD
TZNAME:CET
TZOFFSETFROM:+0200
TZOFFSETTO:+0100
DTSTART:19161001T010000
RDATE:19421102T030000
RDATE:19431004T030000
RDATE:19441002T030000
RDATE:19451118T030000
RDATE:19461007T030000
END:STANDARD
BEGIN:DAYLIGHT
TZNAME:CEST
TZOFFSETFROM:+0100
TZOFFSETTO:+0200
DTSTART:19170416T020000
RRULE:FREQ=YEARLY;UNTIL=19180415T010000Z;BYMONTH=4;BYDAY=3MO
END:DAYLIGHT
BEGIN:STANDARD
TZNAME:CET
TZOFFSETFROM:+0200
TZOFFSETTO:+0100
DTSTART:19170917T030000
RRULE:FREQ=YEARLY;UNTIL=19180916T010000Z;BYMONTH=9;BYDAY=3MO
END:STANDARD
BEGIN:DAYLIGHT
TZNAME:CEST
TZOFFSETFROM:+0100
TZOFFSETTO:+0200
DTSTART:19440403T020000
RRULE:FREQ=YEARLY;UNTIL=19450402T010000Z;BYMONTH=4;BYDAY=1MO
END:DAYLIGHT
BEGIN:DAYLIGHT
TZNAME:CEMT
TZOFFSETFROM:+0200
TZOFFSETTO:+0300
DTSTART:19450524T020000
RDATE:19470511T030000
END:DAYLIGHT
BEGIN:DAYLIGHT
TZNAME:CEST
TZOFFSETFROM:+0300
TZOFFSETTO:+0200
DTSTART:19450924T030000
RDATE:19470629T030000
END:DAYLIGHT
BEGIN:STANDARD
TZNAME:CET
TZOFFSETFROM:+0100
TZOFFSETTO:+0100
DTSTART:19460101T000000
RDATE:19800101T000000
END:STANDARD
BEGIN:STANDARD
TZNAME:CET
TZOFFSETFROM:+0200
TZOFFSETTO:+0100
DTSTART:19471005T030000
RRULE:FREQ=YEARLY;UNTIL=19491002T010000Z;BYMONTH=10;BYDAY=1SU
END:STANDARD
BEGIN:STANDARD
TZNAME:CET
TZOFFSETFROM:+0200
TZOFFSETTO:+0100
DTSTART:19800928T030000
RRULE:FREQ=YEARLY;UNTIL=19950924T010000Z;BYMONTH=9;BYDAY=-1SU
END:STANDARD
BEGIN:DAYLIGHT
TZNAME:CEST
TZOFFSETFROM:+0100
TZOFFSETTO:+0200
DTSTART:19810329T020000
RRULE:FREQ=YEARLY;BYMONTH=3;BYDAY=-1SU
END:DAYLIGHT
BEGIN:STANDARD
TZNAME:CET
TZOFFSETFROM:+0200
TZOFFSETTO:+0100
DTSTART:19961027T030000
RRULE:FREQ=YEARLY;BYMONTH=10;BYDAY=-1SU
END:STANDARD
END:VTIMEZONE
BEGIN:VEVENT
DTSTAMP:20260424T151108Z
DTSTART;TZID=Europe/Berlin:20260120T200000
DTEND;TZID=Europe/Berlin:20260120T230000
SUMMARY:HE 4. Liga Gr. 6 Horgen IV vs Wettswil (0)
UID:0f3f8fec-0fb0-4b78-a1fa-b4b434692d1b
STATUS:CONFIRMED
LAST-MODIFIED:20260123T082536Z
DESCRIPTION:4. Liga Herren Gruppe 6\nBegegnungs-Nr: 0\nHeim: Horgen IV\nGast: Wettswil\n\nAdresse: Seestrasse 110\, 8810 Horgen\n
LOCATION:Seestrasse 110\, 8810 Horgen
CATEGORIES:Saison 2025/26
END:VEVENT
BEGIN:VEVENT
DTSTAMP:20260424T151108Z
DTSTART;TZID=Europe/Berlin:20260303T200000
DTEND;TZID=Europe/Berlin:20260303T230000
SUMMARY:HE 4. Liga Gr. 6 Horgen IV vs Young Stars ZH VI (0)
UID:9f3e2d06-28bf-43ff-bfb2-ae1221026e53
STATUS:CONFIRMED
LAST-MODIFIED:20260304T104039Z
DESCRIPTION:4. Liga Herren Gruppe 6\nBegegnungs-Nr: 0\nHeim: Horgen IV\nGast: Young Stars ZH VI\n\nAdresse: Seestrasse 110\, 8810 Horgen\n
LOCATION:Seestrasse 110\, 8810 Horgen
CATEGORIES:Saison 2025/26
END:VEVENT
BEGIN:VEVENT
DTSTAMP:20260424T151108Z
DTSTART;TZID=Europe/Berlin:20260324T200000
DTEND;TZID=Europe/Berlin:20260324T230000
SUMMARY:HE 4. Liga Gr. 6 Horgen IV vs Pinguin Zürich IV (0)
UID:4113f394-f12c-457d-a603-6f462241f63c
STATUS:CONFIRMED
LAST-MODIFIED:20260326T152401Z
DESCRIPTION:4. Liga Herren Gruppe 6\nBegegnungs-Nr: 0\nHeim: Horgen IV\nGast: Pinguin Zürich IV\n\nAdresse: Seestrasse 110\, 8810 Horgen\n
LOCATION:Seestrasse 110\, 8810 Horgen
CATEGORIES:Saison 2025/26
END:VEVENT
BEGIN:VEVENT
DTSTAMP:20260424T151108Z
DTSTART;TZID=Europe/Berlin:20260414T200000
DTEND;TZID=Europe/Berlin:20260414T230000
SUMMARY:HE 4. Liga Gr. 6 Horgen IV vs BW-Wollishofen II (0)
UID:272bfbbe-6e3d-4076-8882-63293eed0cfe
STATUS:CONFIRMED
LAST-MODIFIED:20260416T103434Z
DESCRIPTION:4. Liga Herren Gruppe 6\nBegegnungs-Nr: 0\nHeim: Horgen IV\nGast: BW-Wollishofen II\n\nAdresse: Seestrasse 110\, 8810 Horgen\n
LOCATION:Seestrasse 110\, 8810 Horgen
CATEGORIES:Saison 2025/26
END:VEVENT
BEGIN:VEVENT
DTSTAMP:20260424T151108Z
DTSTART;TZID=Europe/Berlin:20250826T200000
DTEND;TZID=Europe/Berlin:20250826T230000
SUMMARY:HE 4. Liga Gr. 6 Horgen IV vs Sihltal (0)
UID:b819a734-8bd1-4f3d-945e-43b0e4588a7b
STATUS:CONFIRMED
LAST-MODIFIED:20250829T143535Z
DESCRIPTION:4. Liga Herren Gruppe 6\nBegegnungs-Nr: 0\nHeim: Horgen IV\nGast: Sihltal\n\nAdresse: Seestrasse 110\, 8810 Horgen\n
LOCATION:Seestrasse 110\, 8810 Horgen
CATEGORIES:Saison 2025/26
END:VEVENT
BEGIN:VEVENT
DTSTAMP:20260424T151108Z
DTSTART;TZID=Europe/Berlin:20250916T200000
DTEND;TZID=Europe/Berlin:20250916T230000
SUMMARY:HE 4. Liga Gr. 6 Horgen IV vs Affoltern A/A V (0)
UID:f41e3274-e865-4fc1-98d5-b03bcb6edaa3
STATUS:CONFIRMED
LAST-MODIFIED:20250926T131606Z
DESCRIPTION:4. Liga Herren Gruppe 6\nBegegnungs-Nr: 0\nHeim: Horgen IV\nGast: Affoltern A/A V\n\nAdresse: Seestrasse 110\, 8810 Horgen\n
LOCATION:Seestrasse 110\, 8810 Horgen
CATEGORIES:Saison 2025/26
END:VEVENT
BEGIN:VEVENT
DTSTAMP:20260424T151108Z
DTSTART;TZID=Europe/Berlin:20251028T200000
DTEND;TZID=Europe/Berlin:20251028T230000
SUMMARY:HE 4. Liga Gr. 6 Horgen IV vs Thalwil II (0)
UID:3adb5a5d-0afa-4812-879b-1ec2b53a2f44
STATUS:CONFIRMED
LAST-MODIFIED:20251031T143615Z
DESCRIPTION:4. Liga Herren Gruppe 6\nBegegnungs-Nr: 0\nHeim: Horgen IV\nGast: Thalwil II\n\nAdresse: Seestrasse 110\, 8810 Horgen\n
LOCATION:Seestrasse 110\, 8810 Horgen
CATEGORIES:Saison 2025/26
END:VEVENT
BEGIN:VEVENT
DTSTAMP:20260424T151108Z
DTSTART;TZID=Europe/Berlin:20260203T201500
DTEND;TZID=Europe/Berlin:20260203T231500
SUMMARY:HE 4. Liga Gr. 6 Sihltal vs Horgen IV (0)
UID:494ec0f4-bad4-4859-889d-eeddc524210f
STATUS:CONFIRMED
LAST-MODIFIED:20260204T085159Z
DESCRIPTION:4. Liga Herren Gruppe 6\nBegegnungs-Nr: 0\nHeim: Sihltal\nGast: Horgen IV\n\nAdresse: In der Schwerzi 4\, 8135 Langnau a/A\n
LOCATION:In der Schwerzi 4\, 8135 Langnau a/A
CATEGORIES:Saison 2025/26
END:VEVENT
BEGIN:VEVENT
DTSTAMP:20260424T151108Z
DTSTART;TZID=Europe/Berlin:20260130T200000
DTEND;TZID=Europe/Berlin:20260130T230000
SUMMARY:HE 4. Liga Gr. 6 Affoltern A/A V vs Horgen IV (0)
UID:9cda48bb-c02a-4c05-ba28-49c24c680f4b
STATUS:CONFIRMED
LAST-MODIFIED:20260203T142501Z
DESCRIPTION:4. Liga Herren Gruppe 6\nBegegnungs-Nr: 0\nHeim: Affoltern A/A V\nGast: Horgen IV\n\nAdresse: Butzenstr. 2\, 8910 Affoltern am Albis\n
LOCATION:Butzenstr. 2\, 8910 Affoltern am Albis
CATEGORIES:Saison 2025/26
END:VEVENT
BEGIN:VEVENT
DTSTAMP:20260424T151108Z
DTSTART;TZID=Europe/Berlin:20260312T194500
DTEND;TZID=Europe/Berlin:20260312T224500
SUMMARY:HE 4. Liga Gr. 6 Thalwil II vs Horgen IV (0)
UID:3677dcc8-3cd1-4285-81ed-d7296cc34eb1
STATUS:CONFIRMED
LAST-MODIFIED:20260313T134545Z
DESCRIPTION:4. Liga Herren Gruppe 6\nBegegnungs-Nr: 0\nHeim: Thalwil II\nGast: Horgen IV\n\nAdresse: Langweg 2\, 8942 Oberrieden\n
LOCATION:Langweg 2\, 8942 Oberrieden
CATEGORIES:Saison 2025/26
END:VEVENT
BEGIN:VEVENT
DTSTAMP:20260424T151108Z
DTSTART;TZID=Europe/Berlin:20251103T193000
DTEND;TZID=Europe/Berlin:20251103T223000
SUMMARY:HE 4. Liga Gr. 6 Pinguin Zürich IV vs Horgen IV (0)
UID:85b3e379-2f9f-45c3-9cc1-7acac9aa041a
STATUS:CONFIRMED
LAST-MODIFIED:20251118T105313Z
DESCRIPTION:4. Liga Herren Gruppe 6\nBegegnungs-Nr: 0\nHeim: Pinguin Zürich IV\nGast: Horgen IV\n\nAdresse: Basteiplatz\, 8001 Zürich\n
LOCATION:Basteiplatz\, 8001 Zürich
CATEGORIES:Saison 2025/26
END:VEVENT
BEGIN:VEVENT
DTSTAMP:20260424T151108Z
DTSTART;TZID=Europe/Berlin:20250902T194500
DTEND;TZID=Europe/Berlin:20250902T224500
SUMMARY:HE 4. Liga Gr. 6 Wettswil vs Horgen IV (0)
UID:a7ffb269-2705-43c5-8f73-3687b124e692
STATUS:CONFIRMED
LAST-MODIFIED:20250905T124131Z
DESCRIPTION:4. Liga Herren Gruppe 6\nBegegnungs-Nr: 0\nHeim: Wettswil\nGast: Horgen IV\n\nAdresse: Hirsächersteig\, 8907 Wettswil\n
LOCATION:Hirsächersteig\, 8907 Wettswil
CATEGORIES:Saison 2025/26
END:VEVENT
BEGIN:VEVENT
DTSTAMP:20260424T151108Z
DTSTART;TZID=Europe/Berlin:20250924T201500
DTEND;TZID=Europe/Berlin:20250924T231500
SUMMARY:HE 4. Liga Gr. 6 Young Stars ZH VI vs Horgen IV (0)
UID:9b271710-d8b1-4fc6-a823-2efa510fdb93
STATUS:CONFIRMED
LAST-MODIFIED:20251007T055757Z
DESCRIPTION:4. Liga Herren Gruppe 6\nBegegnungs-Nr: 0\nHeim: Young Stars ZH VI\nGast: Horgen IV\n\nAdresse: Seefeldstrasse 93\, 8008 Zürich\n
LOCATION:Seefeldstrasse 93\, 8008 Zürich
CATEGORIES:Saison 2025/26
END:VEVENT
BEGIN:VEVENT
DTSTAMP:20260424T151108Z
DTSTART;TZID=Europe/Berlin:20251210T200000
DTEND;TZID=Europe/Berlin:20251210T230000
SUMMARY:HE 4. Liga Gr. 6 BW-Wollishofen II vs Horgen IV (0)
UID:b6524421-8c76-4c97-9bab-cda26097a014
STATUS:CONFIRMED
LAST-MODIFIED:20251211T142310Z
DESCRIPTION:4. Liga Herren Gruppe 6\nBegegnungs-Nr: 0\nHeim: BW-Wollishofen II\nGast: Horgen IV\n\nAdresse: Kilchbergstr. 28\, 8038 Zürich\n
LOCATION:Kilchbergstr. 28\, 8038 Zürich
CATEGORIES:Saison 2025/26
END:VEVENT
END:VCALENDAR
