BEGIN:VCALENDAR
PRODID:-//nuDatenautomaten//framework iCal4j //DE
VERSION:2.0
CALSCALE:GREGORIAN
BEGIN:VTIMEZONE
TZID:Europe/Berlin
LAST-MODIFIED:20260306T231828Z
TZURL:https://www.tzurl.org/zoneinfo/Europe/Berlin
X-LIC-LOCATION:Europe/Berlin
X-PROLEPTIC-TZNAME:LMT
BEGIN:STANDARD
TZNAME:CET
TZOFFSETFROM:+005328
TZOFFSETTO:+0100
DTSTART:18930401T000000
END:STANDARD
BEGIN:DAYLIGHT
TZNAME:CEST
TZOFFSETFROM:+0100
TZOFFSETTO:+0200
DTSTART:19160430T230000
RDATE:19400401T020000
RDATE:19430329T020000
RDATE:19460414T020000
RDATE:19470406T030000
RDATE:19480418T020000
RDATE:19490410T020000
RDATE:19800406T020000
END:DAYLIGHT
BEGIN:STANDARD
TZNAME:CET
TZOFFSETFROM:+0200
TZOFFSETTO:+0100
DTSTART:19161001T010000
RDATE:19421102T030000
RDATE:19431004T030000
RDATE:19441002T030000
RDATE:19451118T030000
RDATE:19461007T030000
END:STANDARD
BEGIN:DAYLIGHT
TZNAME:CEST
TZOFFSETFROM:+0100
TZOFFSETTO:+0200
DTSTART:19170416T020000
RRULE:FREQ=YEARLY;UNTIL=19180415T010000Z;BYMONTH=4;BYDAY=3MO
END:DAYLIGHT
BEGIN:STANDARD
TZNAME:CET
TZOFFSETFROM:+0200
TZOFFSETTO:+0100
DTSTART:19170917T030000
RRULE:FREQ=YEARLY;UNTIL=19180916T010000Z;BYMONTH=9;BYDAY=3MO
END:STANDARD
BEGIN:DAYLIGHT
TZNAME:CEST
TZOFFSETFROM:+0100
TZOFFSETTO:+0200
DTSTART:19440403T020000
RRULE:FREQ=YEARLY;UNTIL=19450402T010000Z;BYMONTH=4;BYDAY=1MO
END:DAYLIGHT
BEGIN:DAYLIGHT
TZNAME:CEMT
TZOFFSETFROM:+0200
TZOFFSETTO:+0300
DTSTART:19450524T020000
RDATE:19470511T030000
END:DAYLIGHT
BEGIN:DAYLIGHT
TZNAME:CEST
TZOFFSETFROM:+0300
TZOFFSETTO:+0200
DTSTART:19450924T030000
RDATE:19470629T030000
END:DAYLIGHT
BEGIN:STANDARD
TZNAME:CET
TZOFFSETFROM:+0100
TZOFFSETTO:+0100
DTSTART:19460101T000000
RDATE:19800101T000000
END:STANDARD
BEGIN:STANDARD
TZNAME:CET
TZOFFSETFROM:+0200
TZOFFSETTO:+0100
DTSTART:19471005T030000
RRULE:FREQ=YEARLY;UNTIL=19491002T010000Z;BYMONTH=10;BYDAY=1SU
END:STANDARD
BEGIN:STANDARD
TZNAME:CET
TZOFFSETFROM:+0200
TZOFFSETTO:+0100
DTSTART:19800928T030000
RRULE:FREQ=YEARLY;UNTIL=19950924T010000Z;BYMONTH=9;BYDAY=-1SU
END:STANDARD
BEGIN:DAYLIGHT
TZNAME:CEST
TZOFFSETFROM:+0100
TZOFFSETTO:+0200
DTSTART:19810329T020000
RRULE:FREQ=YEARLY;BYMONTH=3;BYDAY=-1SU
END:DAYLIGHT
BEGIN:STANDARD
TZNAME:CET
TZOFFSETFROM:+0200
TZOFFSETTO:+0100
DTSTART:19961027T030000
RRULE:FREQ=YEARLY;BYMONTH=10;BYDAY=-1SU
END:STANDARD
END:VTIMEZONE
BEGIN:VEVENT
DTSTAMP:20260424T134221Z
DTSTART;TZID=Europe/Berlin:20260203T200000
DTEND;TZID=Europe/Berlin:20260203T230000
SUMMARY:O40 3. Liga Gr. 3 Horgen vs BW-Wollishofen (0)
UID:2e67e1fc-5284-439f-809b-295e9486bf3f
STATUS:CONFIRMED
LAST-MODIFIED:20260204T090033Z
DESCRIPTION:3. Liga O40 Gruppe 3\nBegegnungs-Nr: 0\nHeim: Horgen\nGast: BW-Wollishofen\n\nAdresse: Seestrasse 110\, 8810 Horgen\n
LOCATION:Seestrasse 110\, 8810 Horgen
CATEGORIES:Saison 2025/26
END:VEVENT
BEGIN:VEVENT
DTSTAMP:20260424T134221Z
DTSTART;TZID=Europe/Berlin:20260317T200000
DTEND;TZID=Europe/Berlin:20260317T230000
SUMMARY:O40 3. Liga Gr. 3 Horgen vs Dietikon-Weiningen (0)
UID:26fc922f-db09-403f-b6ef-6a12e2aafa49
STATUS:CONFIRMED
LAST-MODIFIED:20260318T111400Z
DESCRIPTION:3. Liga O40 Gruppe 3\nBegegnungs-Nr: 0\nHeim: Horgen\nGast: Dietikon-Weiningen\n\nAdresse: Seestrasse 110\, 8810 Horgen\n
LOCATION:Seestrasse 110\, 8810 Horgen
CATEGORIES:Saison 2025/26
END:VEVENT
BEGIN:VEVENT
DTSTAMP:20260424T134221Z
DTSTART;TZID=Europe/Berlin:20250819T200000
DTEND;TZID=Europe/Berlin:20250819T230000
SUMMARY:O40 3. Liga Gr. 3 Horgen vs Thalwil (0)
UID:61b46122-f515-4c97-a5b3-8fa33a96cb8a
STATUS:CONFIRMED
LAST-MODIFIED:20250826T114307Z
DESCRIPTION:3. Liga O40 Gruppe 3\nBegegnungs-Nr: 0\nHeim: Horgen\nGast: Thalwil\n\nAdresse: Seestrasse 110\, 8810 Horgen\n
LOCATION:Seestrasse 110\, 8810 Horgen
CATEGORIES:Saison 2025/26
END:VEVENT
BEGIN:VEVENT
DTSTAMP:20260424T134221Z
DTSTART;TZID=Europe/Berlin:20251021T200000
DTEND;TZID=Europe/Berlin:20251021T230000
SUMMARY:O40 3. Liga Gr. 3 Horgen vs Pinguin Zürich (0)
UID:cb752114-b1b7-42b6-a806-eac914343cc5
STATUS:CONFIRMED
LAST-MODIFIED:20251022T090931Z
DESCRIPTION:3. Liga O40 Gruppe 3\nBegegnungs-Nr: 0\nHeim: Horgen\nGast: Pinguin Zürich\n\nAdresse: Seestrasse 110\, 8810 Horgen\n
LOCATION:Seestrasse 110\, 8810 Horgen
CATEGORIES:Saison 2025/26
END:VEVENT
BEGIN:VEVENT
DTSTAMP:20260424T134221Z
DTSTART;TZID=Europe/Berlin:20251125T200000
DTEND;TZID=Europe/Berlin:20251125T230000
SUMMARY:O40 3. Liga Gr. 3 Horgen vs Affoltern A/A II (0)
UID:da4526b7-16a6-4612-8484-8369cbfbc70e
STATUS:CONFIRMED
LAST-MODIFIED:20251128T134540Z
DESCRIPTION:3. Liga O40 Gruppe 3\nBegegnungs-Nr: 0\nHeim: Horgen\nGast: Affoltern A/A II\n\nAdresse: Seestrasse 110\, 8810 Horgen\n
LOCATION:Seestrasse 110\, 8810 Horgen
CATEGORIES:Saison 2025/26
END:VEVENT
BEGIN:VEVENT
DTSTAMP:20260424T134221Z
DTSTART;TZID=Europe/Berlin:20260114T201500
DTEND;TZID=Europe/Berlin:20260114T231500
SUMMARY:O40 3. Liga Gr. 3 Thalwil vs Horgen (0)
UID:0bbdf586-3a53-4faf-98e2-175e77a1c9a2
STATUS:CONFIRMED
LAST-MODIFIED:20260115T093900Z
DESCRIPTION:3. Liga O40 Gruppe 3\nBegegnungs-Nr: 0\nHeim: Thalwil\nGast: Horgen\n\nAdresse: Bergstrasse 2\, 8800 Thalwil\n
LOCATION:Bergstrasse 2\, 8800 Thalwil
CATEGORIES:Saison 2025/26
END:VEVENT
BEGIN:VEVENT
DTSTAMP:20260424T134221Z
DTSTART;TZID=Europe/Berlin:20260227T193000
DTEND;TZID=Europe/Berlin:20260227T223000
SUMMARY:O40 3. Liga Gr. 3 Pinguin Zürich vs Horgen (0)
UID:0df0be33-5d58-449c-b89b-d62141a6d25b
STATUS:CONFIRMED
LAST-MODIFIED:20260303T133554Z
DESCRIPTION:3. Liga O40 Gruppe 3\nBegegnungs-Nr: 0\nHeim: Pinguin Zürich\nGast: Horgen\n\nAdresse: Basteiplatz\, 8001 Zürich\n
LOCATION:Basteiplatz\, 8001 Zürich
CATEGORIES:Saison 2025/26
END:VEVENT
BEGIN:VEVENT
DTSTAMP:20260424T134221Z
DTSTART;TZID=Europe/Berlin:20260331T193000
DTEND;TZID=Europe/Berlin:20260331T223000
SUMMARY:O40 3. Liga Gr. 3 Affoltern A/A II vs Horgen (0)
UID:0b618ce3-9ae3-4eaf-bb4d-fe17ff0b68c2
STATUS:CONFIRMED
LAST-MODIFIED:20260401T133224Z
DESCRIPTION:3. Liga O40 Gruppe 3\nBegegnungs-Nr: 0\nHeim: Affoltern A/A II\nGast: Horgen\n\nAdresse: Butzenstrasse 8\, 8910 Affoltern am Albis\n
LOCATION:Butzenstrasse 8\, 8910 Affoltern am Albis
CATEGORIES:Saison 2025/26
END:VEVENT
BEGIN:VEVENT
DTSTAMP:20260424T134221Z
DTSTART;TZID=Europe/Berlin:20250910T200000
DTEND;TZID=Europe/Berlin:20250910T230000
SUMMARY:O40 3. Liga Gr. 3 BW-Wollishofen vs Horgen (0)
UID:650756e8-9216-4587-8d93-a7f1bc4874f8
STATUS:CONFIRMED
LAST-MODIFIED:20250911T101012Z
DESCRIPTION:3. Liga O40 Gruppe 3\nBegegnungs-Nr: 0\nHeim: BW-Wollishofen\nGast: Horgen\n\nAdresse: Kilchbergstr. 28\, 8038 Zürich\n
LOCATION:Kilchbergstr. 28\, 8038 Zürich
CATEGORIES:Saison 2025/26
END:VEVENT
BEGIN:VEVENT
DTSTAMP:20260424T134221Z
DTSTART;TZID=Europe/Berlin:20251121T200000
DTEND;TZID=Europe/Berlin:20251121T230000
SUMMARY:O40 3. Liga Gr. 3 Dietikon-Weiningen vs Horgen (0)
UID:81373cdc-b558-4a09-a924-1dcd711429a3
STATUS:CONFIRMED
LAST-MODIFIED:20251124T150314Z
DESCRIPTION:3. Liga O40 Gruppe 3\nBegegnungs-Nr: 0\nHeim: Dietikon-Weiningen\nGast: Horgen\n\nAdresse: Bohnackerstrasse 5\, 8953 Dietikon\n
LOCATION:Bohnackerstrasse 5\, 8953 Dietikon
CATEGORIES:Saison 2025/26
END:VEVENT
END:VCALENDAR
