BEGIN:VCALENDAR
PRODID:-//nuDatenautomaten//framework iCal4j //DE
VERSION:2.0
CALSCALE:GREGORIAN
BEGIN:VTIMEZONE
TZID:Europe/Berlin
LAST-MODIFIED:20260306T231828Z
TZURL:https://www.tzurl.org/zoneinfo/Europe/Berlin
X-LIC-LOCATION:Europe/Berlin
X-PROLEPTIC-TZNAME:LMT
BEGIN:STANDARD
TZNAME:CET
TZOFFSETFROM:+005328
TZOFFSETTO:+0100
DTSTART:18930401T000000
END:STANDARD
BEGIN:DAYLIGHT
TZNAME:CEST
TZOFFSETFROM:+0100
TZOFFSETTO:+0200
DTSTART:19160430T230000
RDATE:19400401T020000
RDATE:19430329T020000
RDATE:19460414T020000
RDATE:19470406T030000
RDATE:19480418T020000
RDATE:19490410T020000
RDATE:19800406T020000
END:DAYLIGHT
BEGIN:STANDARD
TZNAME:CET
TZOFFSETFROM:+0200
TZOFFSETTO:+0100
DTSTART:19161001T010000
RDATE:19421102T030000
RDATE:19431004T030000
RDATE:19441002T030000
RDATE:19451118T030000
RDATE:19461007T030000
END:STANDARD
BEGIN:DAYLIGHT
TZNAME:CEST
TZOFFSETFROM:+0100
TZOFFSETTO:+0200
DTSTART:19170416T020000
RRULE:FREQ=YEARLY;UNTIL=19180415T010000Z;BYMONTH=4;BYDAY=3MO
END:DAYLIGHT
BEGIN:STANDARD
TZNAME:CET
TZOFFSETFROM:+0200
TZOFFSETTO:+0100
DTSTART:19170917T030000
RRULE:FREQ=YEARLY;UNTIL=19180916T010000Z;BYMONTH=9;BYDAY=3MO
END:STANDARD
BEGIN:DAYLIGHT
TZNAME:CEST
TZOFFSETFROM:+0100
TZOFFSETTO:+0200
DTSTART:19440403T020000
RRULE:FREQ=YEARLY;UNTIL=19450402T010000Z;BYMONTH=4;BYDAY=1MO
END:DAYLIGHT
BEGIN:DAYLIGHT
TZNAME:CEMT
TZOFFSETFROM:+0200
TZOFFSETTO:+0300
DTSTART:19450524T020000
RDATE:19470511T030000
END:DAYLIGHT
BEGIN:DAYLIGHT
TZNAME:CEST
TZOFFSETFROM:+0300
TZOFFSETTO:+0200
DTSTART:19450924T030000
RDATE:19470629T030000
END:DAYLIGHT
BEGIN:STANDARD
TZNAME:CET
TZOFFSETFROM:+0100
TZOFFSETTO:+0100
DTSTART:19460101T000000
RDATE:19800101T000000
END:STANDARD
BEGIN:STANDARD
TZNAME:CET
TZOFFSETFROM:+0200
TZOFFSETTO:+0100
DTSTART:19471005T030000
RRULE:FREQ=YEARLY;UNTIL=19491002T010000Z;BYMONTH=10;BYDAY=1SU
END:STANDARD
BEGIN:STANDARD
TZNAME:CET
TZOFFSETFROM:+0200
TZOFFSETTO:+0100
DTSTART:19800928T030000
RRULE:FREQ=YEARLY;UNTIL=19950924T010000Z;BYMONTH=9;BYDAY=-1SU
END:STANDARD
BEGIN:DAYLIGHT
TZNAME:CEST
TZOFFSETFROM:+0100
TZOFFSETTO:+0200
DTSTART:19810329T020000
RRULE:FREQ=YEARLY;BYMONTH=3;BYDAY=-1SU
END:DAYLIGHT
BEGIN:STANDARD
TZNAME:CET
TZOFFSETFROM:+0200
TZOFFSETTO:+0100
DTSTART:19961027T030000
RRULE:FREQ=YEARLY;BYMONTH=10;BYDAY=-1SU
END:STANDARD
END:VTIMEZONE
BEGIN:VEVENT
DTSTAMP:20260424T084048Z
DTSTART;TZID=Europe/Berlin:20250906T160000
DTEND;TZID=Europe/Berlin:20250906T190000
SUMMARY:O40 2. Liga Thun vs Port II (4)
UID:c0422eb5-fd9b-4525-95f6-03bdfdc6323a
STATUS:CONFIRMED
LAST-MODIFIED:20250907T195030Z
DESCRIPTION:2. Liga O40 \nBegegnungs-Nr: 4\nHeim: Thun\nGast: Port II\n\nAdresse: Hallerstrasse 28\, 3604 Thun\n
LOCATION:Hallerstrasse 28\, 3604 Thun
CATEGORIES:Saison 2025/26
END:VEVENT
BEGIN:VEVENT
DTSTAMP:20260424T084048Z
DTSTART;TZID=Europe/Berlin:20251129T160000
DTEND;TZID=Europe/Berlin:20251129T190000
SUMMARY:O40 2. Liga Thun vs Burgdorf III (22)
UID:37e29b23-41c7-4dbe-b304-db1d01375c59
STATUS:CONFIRMED
LAST-MODIFIED:20251207T182328Z
DESCRIPTION:2. Liga O40 \nBegegnungs-Nr: 22\nHeim: Thun\nGast: Burgdorf III\n\nAdresse: Hallerstrasse 28\, 3604 Thun\n
LOCATION:Hallerstrasse 28\, 3604 Thun
CATEGORIES:Saison 2025/26
END:VEVENT
BEGIN:VEVENT
DTSTAMP:20260424T084048Z
DTSTART;TZID=Europe/Berlin:20251004T160000
DTEND;TZID=Europe/Berlin:20251004T190000
SUMMARY:O40 2. Liga Thun vs Ostermundigen (12)
UID:731b4466-247c-48a1-a3dd-e82851388092
STATUS:CONFIRMED
LAST-MODIFIED:20251004T193207Z
DESCRIPTION:2. Liga O40 \nBegegnungs-Nr: 12\nHeim: Thun\nGast: Ostermundigen\n\nAdresse: Hallerstrasse 28\, 3604 Thun\n
LOCATION:Hallerstrasse 28\, 3604 Thun
CATEGORIES:Saison 2025/26
END:VEVENT
BEGIN:VEVENT
DTSTAMP:20260424T084048Z
DTSTART;TZID=Europe/Berlin:20260321T160000
DTEND;TZID=Europe/Berlin:20260321T190000
SUMMARY:O40 2. Liga Thun vs Langnau (26)
UID:06cf92b6-305b-494a-bd3e-0c2dba51dcb0
STATUS:CONFIRMED
LAST-MODIFIED:20260327T144526Z
DESCRIPTION:2. Liga O40 \nBegegnungs-Nr: 26\nHeim: Thun\nGast: Langnau\n\nAdresse: Hallerstrasse 28\, 3604 Thun\n
LOCATION:Hallerstrasse 28\, 3604 Thun
CATEGORIES:Saison 2025/26
END:VEVENT
BEGIN:VEVENT
DTSTAMP:20260424T084048Z
DTSTART;TZID=Europe/Berlin:20260228T160000
DTEND;TZID=Europe/Berlin:20260228T190000
SUMMARY:O40 2. Liga Thun vs Royal Bern (17)
UID:49ae8741-0161-49ee-b0f7-3e586d223cbe
STATUS:CONFIRMED
LAST-MODIFIED:20260302T145005Z
DESCRIPTION:2. Liga O40 \nBegegnungs-Nr: 17\nHeim: Thun\nGast: Royal Bern\n\nAdresse: Hallerstrasse 28\, 3604 Thun\n
LOCATION:Hallerstrasse 28\, 3604 Thun
CATEGORIES:Saison 2025/26
END:VEVENT
BEGIN:VEVENT
DTSTAMP:20260424T084048Z
DTSTART;TZID=Europe/Berlin:20260221T130000
DTEND;TZID=Europe/Berlin:20260221T160000
SUMMARY:O40 2. Liga Thun vs Bern II (16)
UID:bcbb8510-a54d-4468-bafa-49fad5941c33
STATUS:CONFIRMED
LAST-MODIFIED:20260224T075657Z
DESCRIPTION:2. Liga O40 \nBegegnungs-Nr: 16\nHeim: Thun\nGast: Bern II\n\nAdresse: Hallerstrasse 28\, 3604 Thun\n
LOCATION:Hallerstrasse 28\, 3604 Thun
CATEGORIES:Saison 2025/26
END:VEVENT
BEGIN:VEVENT
DTSTAMP:20260424T084048Z
DTSTART;TZID=Europe/Berlin:20260124T130000
DTEND;TZID=Europe/Berlin:20260124T160000
SUMMARY:O40 2. Liga Thun vs Worb (8)
UID:aefa48ab-48d7-430f-8ed4-546b14d571c9
STATUS:CONFIRMED
LAST-MODIFIED:20260125T002932Z
DESCRIPTION:2. Liga O40 \nBegegnungs-Nr: 8\nHeim: Thun\nGast: Worb\n\nAdresse: Hallerstrasse 28\, 3604 Thun\n
LOCATION:Hallerstrasse 28\, 3604 Thun
CATEGORIES:Saison 2025/26
END:VEVENT
BEGIN:VEVENT
DTSTAMP:20260424T084048Z
DTSTART;TZID=Europe/Berlin:20250910T194500
DTEND;TZID=Europe/Berlin:20250910T224500
SUMMARY:O40 2. Liga Worb vs Thun (8)
UID:5c08ba7c-29f8-45b6-8a75-e44dd29c9aab
STATUS:CONFIRMED
LAST-MODIFIED:20250918T140318Z
DESCRIPTION:2. Liga O40 \nBegegnungs-Nr: 8\nHeim: Worb\nGast: Thun\n\nAdresse: Rosenweg 9\, 3075 Rüfenacht BE\n
LOCATION:Rosenweg 9\, 3075 Rüfenacht BE
CATEGORIES:Saison 2025/26
END:VEVENT
BEGIN:VEVENT
DTSTAMP:20260424T084048Z
DTSTART;TZID=Europe/Berlin:20251210T200000
DTEND;TZID=Europe/Berlin:20251210T230000
SUMMARY:O40 2. Liga Langnau vs Thun (26)
UID:f2720171-287f-4968-a23b-bcf04bf11c81
STATUS:CONFIRMED
LAST-MODIFIED:20251216T121028Z
DESCRIPTION:2. Liga O40 \nBegegnungs-Nr: 26\nHeim: Langnau\nGast: Thun\n\nAdresse: Bleicheweg 11\, 3550 Langnau\n
LOCATION:Bleicheweg 11\, 3550 Langnau
CATEGORIES:Saison 2025/26
END:VEVENT
BEGIN:VEVENT
DTSTAMP:20260424T084048Z
DTSTART;TZID=Europe/Berlin:20251117T194500
DTEND;TZID=Europe/Berlin:20251117T224500
SUMMARY:O40 2. Liga Royal Bern vs Thun (17)
UID:a176d9e6-5658-471c-ad96-8d3cb6650533
STATUS:CONFIRMED
LAST-MODIFIED:20251122T091259Z
DESCRIPTION:2. Liga O40 \nBegegnungs-Nr: 17\nHeim: Royal Bern\nGast: Thun\n\nAdresse: Dändlikerweg 60\, 3014 Bern\n
LOCATION:Dändlikerweg 60\, 3014 Bern
CATEGORIES:Saison 2025/26
END:VEVENT
BEGIN:VEVENT
DTSTAMP:20260424T084048Z
DTSTART;TZID=Europe/Berlin:20251106T200000
DTEND;TZID=Europe/Berlin:20251106T230000
SUMMARY:O40 2. Liga Bern II vs Thun (16)
UID:71bd96bd-eb8e-41c4-805b-bab0e2470d03
STATUS:CONFIRMED
LAST-MODIFIED:20251115T172834Z
DESCRIPTION:2. Liga O40 \nBegegnungs-Nr: 16\nHeim: Bern II\nGast: Thun\n\nAdresse: Mädergutstrasse 58\, 3018 Bern\n
LOCATION:Mädergutstrasse 58\, 3018 Bern
CATEGORIES:Saison 2025/26
END:VEVENT
BEGIN:VEVENT
DTSTAMP:20260424T084048Z
DTSTART;TZID=Europe/Berlin:20260314T160000
DTEND;TZID=Europe/Berlin:20260314T190000
SUMMARY:O40 2. Liga Burgdorf III vs Thun (22)
UID:c9d8d230-eeb3-48e7-ab2b-6290b044395f
STATUS:CONFIRMED
LAST-MODIFIED:20260315T230609Z
DESCRIPTION:2. Liga O40 \nBegegnungs-Nr: 22\nHeim: Burgdorf III\nGast: Thun\n\nAdresse: Pestalozzistrasse 69\, 3400 Burgdorf\n
LOCATION:Pestalozzistrasse 69\, 3400 Burgdorf
CATEGORIES:Saison 2025/26
END:VEVENT
BEGIN:VEVENT
DTSTAMP:20260424T084048Z
DTSTART;TZID=Europe/Berlin:20260203T193000
DTEND;TZID=Europe/Berlin:20260203T223000
SUMMARY:O40 2. Liga Ostermundigen vs Thun (12)
UID:1a881118-9b04-4023-a5e1-a9e9e32a7cda
STATUS:CONFIRMED
LAST-MODIFIED:20260217T214428Z
DESCRIPTION:2. Liga O40 \nBegegnungs-Nr: 12\nHeim: Ostermundigen\nGast: Thun\n\nAdresse: Dennigkofenweg 169\, 3072 Ostermundigen\n
LOCATION:Dennigkofenweg 169\, 3072 Ostermundigen
CATEGORIES:Saison 2025/26
END:VEVENT
BEGIN:VEVENT
DTSTAMP:20260424T084048Z
DTSTART;TZID=Europe/Berlin:20260116T194500
DTEND;TZID=Europe/Berlin:20260116T224500
SUMMARY:O40 2. Liga Port II vs Thun (4)
UID:73f3f455-87bb-409e-9bbd-3b03f617a0a8
STATUS:CONFIRMED
LAST-MODIFIED:20260125T002920Z
DESCRIPTION:2. Liga O40 \nBegegnungs-Nr: 4\nHeim: Port II\nGast: Thun\n\nAdresse: Allmendstrasse 23\, 2562 Port\n
LOCATION:Allmendstrasse 23\, 2562 Port
CATEGORIES:Saison 2025/26
END:VEVENT
END:VCALENDAR
