BEGIN:VCALENDAR
PRODID:-//nuDatenautomaten//framework iCal4j //DE
VERSION:2.0
CALSCALE:GREGORIAN
BEGIN:VTIMEZONE
TZID:Europe/Berlin
LAST-MODIFIED:20260306T231828Z
TZURL:https://www.tzurl.org/zoneinfo/Europe/Berlin
X-LIC-LOCATION:Europe/Berlin
X-PROLEPTIC-TZNAME:LMT
BEGIN:STANDARD
TZNAME:CET
TZOFFSETFROM:+005328
TZOFFSETTO:+0100
DTSTART:18930401T000000
END:STANDARD
BEGIN:DAYLIGHT
TZNAME:CEST
TZOFFSETFROM:+0100
TZOFFSETTO:+0200
DTSTART:19160430T230000
RDATE:19400401T020000
RDATE:19430329T020000
RDATE:19460414T020000
RDATE:19470406T030000
RDATE:19480418T020000
RDATE:19490410T020000
RDATE:19800406T020000
END:DAYLIGHT
BEGIN:STANDARD
TZNAME:CET
TZOFFSETFROM:+0200
TZOFFSETTO:+0100
DTSTART:19161001T010000
RDATE:19421102T030000
RDATE:19431004T030000
RDATE:19441002T030000
RDATE:19451118T030000
RDATE:19461007T030000
END:STANDARD
BEGIN:DAYLIGHT
TZNAME:CEST
TZOFFSETFROM:+0100
TZOFFSETTO:+0200
DTSTART:19170416T020000
RRULE:FREQ=YEARLY;UNTIL=19180415T010000Z;BYMONTH=4;BYDAY=3MO
END:DAYLIGHT
BEGIN:STANDARD
TZNAME:CET
TZOFFSETFROM:+0200
TZOFFSETTO:+0100
DTSTART:19170917T030000
RRULE:FREQ=YEARLY;UNTIL=19180916T010000Z;BYMONTH=9;BYDAY=3MO
END:STANDARD
BEGIN:DAYLIGHT
TZNAME:CEST
TZOFFSETFROM:+0100
TZOFFSETTO:+0200
DTSTART:19440403T020000
RRULE:FREQ=YEARLY;UNTIL=19450402T010000Z;BYMONTH=4;BYDAY=1MO
END:DAYLIGHT
BEGIN:DAYLIGHT
TZNAME:CEMT
TZOFFSETFROM:+0200
TZOFFSETTO:+0300
DTSTART:19450524T020000
RDATE:19470511T030000
END:DAYLIGHT
BEGIN:DAYLIGHT
TZNAME:CEST
TZOFFSETFROM:+0300
TZOFFSETTO:+0200
DTSTART:19450924T030000
RDATE:19470629T030000
END:DAYLIGHT
BEGIN:STANDARD
TZNAME:CET
TZOFFSETFROM:+0100
TZOFFSETTO:+0100
DTSTART:19460101T000000
RDATE:19800101T000000
END:STANDARD
BEGIN:STANDARD
TZNAME:CET
TZOFFSETFROM:+0200
TZOFFSETTO:+0100
DTSTART:19471005T030000
RRULE:FREQ=YEARLY;UNTIL=19491002T010000Z;BYMONTH=10;BYDAY=1SU
END:STANDARD
BEGIN:STANDARD
TZNAME:CET
TZOFFSETFROM:+0200
TZOFFSETTO:+0100
DTSTART:19800928T030000
RRULE:FREQ=YEARLY;UNTIL=19950924T010000Z;BYMONTH=9;BYDAY=-1SU
END:STANDARD
BEGIN:DAYLIGHT
TZNAME:CEST
TZOFFSETFROM:+0100
TZOFFSETTO:+0200
DTSTART:19810329T020000
RRULE:FREQ=YEARLY;BYMONTH=3;BYDAY=-1SU
END:DAYLIGHT
BEGIN:STANDARD
TZNAME:CET
TZOFFSETFROM:+0200
TZOFFSETTO:+0100
DTSTART:19961027T030000
RRULE:FREQ=YEARLY;BYMONTH=10;BYDAY=-1SU
END:STANDARD
END:VTIMEZONE
BEGIN:VEVENT
DTSTAMP:20260424T134206Z
DTSTART;TZID=Europe/Berlin:20251127T194500
DTEND;TZID=Europe/Berlin:20251127T224500
SUMMARY:Ligue 4 Gr.2 Ph.A Rapid-Genève III vs Châtelaine VI (26)
UID:b436a24b-78b9-426f-9f3f-7ae2655e297f
STATUS:CONFIRMED
LAST-MODIFIED:20251128T083011Z
DESCRIPTION:4ème ligue Hommes Gr.2 Phase A\nBegegnungs-Nr: 26\nHeim: Rapid-Genève III\nGast: Châtelaine VI\n
LOCATION:
CATEGORIES:Saison 2025/26
END:VEVENT
BEGIN:VEVENT
DTSTAMP:20260424T134206Z
DTSTART;TZID=Europe/Berlin:20251113T194500
DTEND;TZID=Europe/Berlin:20251113T224500
SUMMARY:Ligue 4 Gr.2 Ph.A Rapid-Genève III vs Grand-Saconnex II (20)
UID:c429c08f-c429-4e77-a29f-fd557d671fb2
STATUS:CONFIRMED
LAST-MODIFIED:20251114T202441Z
DESCRIPTION:4ème ligue Hommes Gr.2 Phase A\nBegegnungs-Nr: 20\nHeim: Rapid-Genève III\nGast: Grand-Saconnex II\n
LOCATION:
CATEGORIES:Saison 2025/26
END:VEVENT
BEGIN:VEVENT
DTSTAMP:20260424T134206Z
DTSTART;TZID=Europe/Berlin:20251016T194500
DTEND;TZID=Europe/Berlin:20251016T224500
SUMMARY:Ligue 4 Gr.2 Ph.A Rapid-Genève III vs Meyrin V (14)
UID:87f7930b-0832-4363-ad5c-01d6372e491e
STATUS:CONFIRMED
LAST-MODIFIED:20251017T190849Z
DESCRIPTION:4ème ligue Hommes Gr.2 Phase A\nBegegnungs-Nr: 14\nHeim: Rapid-Genève III\nGast: Meyrin V\n
LOCATION:
CATEGORIES:Saison 2025/26
END:VEVENT
BEGIN:VEVENT
DTSTAMP:20260424T134206Z
DTSTART;TZID=Europe/Berlin:20250901T194500
DTEND;TZID=Europe/Berlin:20250901T224500
SUMMARY:Ligue 4 Gr.2 Ph.A Rapid-Genève III vs Veyrier II (1)
UID:a37b1fed-0e75-4252-b03b-6c6fae277f50
STATUS:CONFIRMED
LAST-MODIFIED:20250902T073625Z
DESCRIPTION:4ème ligue Hommes Gr.2 Phase A\nBegegnungs-Nr: 1\nHeim: Rapid-Genève III\nGast: Veyrier II\n
LOCATION:
CATEGORIES:Saison 2025/26
END:VEVENT
BEGIN:VEVENT
DTSTAMP:20260424T134206Z
DTSTART;TZID=Europe/Berlin:20250925T194500
DTEND;TZID=Europe/Berlin:20250925T224500
SUMMARY:Ligue 4 Gr.2 Ph.A Rapid-Genève III vs Puplinge II (9)
UID:379e456c-19c4-4641-9f84-fa148189b8c5
STATUS:CONFIRMED
LAST-MODIFIED:20250926T160634Z
DESCRIPTION:4ème ligue Hommes Gr.2 Phase A\nBegegnungs-Nr: 9\nHeim: Rapid-Genève III\nGast: Puplinge II\n
LOCATION:
CATEGORIES:Saison 2025/26
END:VEVENT
BEGIN:VEVENT
DTSTAMP:20260424T134206Z
DTSTART;TZID=Europe/Berlin:20260430T194500
DTEND;TZID=Europe/Berlin:20260430T224500
SUMMARY:Ligue 4 Gr.2 Ph.B Rapid-Genève III vs UGS-Chênois IX (29)
UID:c3791d19-24b8-469b-af26-f230679452b2
STATUS:CONFIRMED
DESCRIPTION:4ème ligue Hommes Gr.2 Phase B\nBegegnungs-Nr: 29\nHeim: Rapid-Genève III\nGast: UGS-Chênois IX\n
LOCATION:
CATEGORIES:Saison 2025/26
END:VEVENT
BEGIN:VEVENT
DTSTAMP:20260424T134206Z
DTSTART;TZID=Europe/Berlin:20260326T194500
DTEND;TZID=Europe/Berlin:20260326T224500
SUMMARY:Ligue 4 Gr.2 Ph.B Rapid-Genève III vs ZZ-Lancy XI (24)
UID:a72df201-337a-401a-8a8f-6ed66fa7bd12
STATUS:CONFIRMED
LAST-MODIFIED:20260327T101223Z
DESCRIPTION:4ème ligue Hommes Gr.2 Phase B\nBegegnungs-Nr: 24\nHeim: Rapid-Genève III\nGast: ZZ-Lancy XI\n
LOCATION:
CATEGORIES:Saison 2025/26
END:VEVENT
BEGIN:VEVENT
DTSTAMP:20260424T134206Z
DTSTART;TZID=Europe/Berlin:20260312T194500
DTEND;TZID=Europe/Berlin:20260312T224500
SUMMARY:Ligue 4 Gr.2 Ph.B Rapid-Genève III vs Grand-Saconnex (16)
UID:543fd866-e9bf-4862-815d-23eeaf0d7f0d
STATUS:CONFIRMED
LAST-MODIFIED:20260313T103825Z
DESCRIPTION:4ème ligue Hommes Gr.2 Phase B\nBegegnungs-Nr: 16\nHeim: Rapid-Genève III\nGast: Grand-Saconnex\n
LOCATION:
CATEGORIES:Saison 2025/26
END:VEVENT
BEGIN:VEVENT
DTSTAMP:20260424T134206Z
DTSTART;TZID=Europe/Berlin:20260212T194500
DTEND;TZID=Europe/Berlin:20260212T224500
SUMMARY:Ligue 4 Gr.2 Ph.B Rapid-Genève III vs Meyrin IV (11)
UID:91b225cc-1083-45fe-894d-1cbcef63a6ff
STATUS:CONFIRMED
LAST-MODIFIED:20260213T082917Z
DESCRIPTION:4ème ligue Hommes Gr.2 Phase B\nBegegnungs-Nr: 11\nHeim: Rapid-Genève III\nGast: Meyrin IV\n
LOCATION:
CATEGORIES:Saison 2025/26
END:VEVENT
BEGIN:VEVENT
DTSTAMP:20260424T134206Z
DTSTART;TZID=Europe/Berlin:20260122T194500
DTEND;TZID=Europe/Berlin:20260122T224500
SUMMARY:Ligue 4 Gr.2 Ph.B Rapid-Genève III vs Veyrier III (5)
UID:a40a438f-a86f-4223-b2bc-947660743536
STATUS:CONFIRMED
LAST-MODIFIED:20260123T171318Z
DESCRIPTION:4ème ligue Hommes Gr.2 Phase B\nBegegnungs-Nr: 5\nHeim: Rapid-Genève III\nGast: Veyrier III\n
LOCATION:
CATEGORIES:Saison 2025/26
END:VEVENT
BEGIN:VEVENT
DTSTAMP:20260424T134206Z
DTSTART;TZID=Europe/Berlin:20251204T194500
DTEND;TZID=Europe/Berlin:20251204T224500
SUMMARY:Ligue 4 Gr.2 Ph.A Meyrin V vs Rapid-Genève III (29)
UID:8ee6cdc8-69da-43a2-903f-e00ac5c32132
STATUS:CONFIRMED
LAST-MODIFIED:20251205T091924Z
DESCRIPTION:4ème ligue Hommes Gr.2 Phase A\nBegegnungs-Nr: 29\nHeim: Meyrin V\nGast: Rapid-Genève III\n
LOCATION:
CATEGORIES:Saison 2025/26
END:VEVENT
BEGIN:VEVENT
DTSTAMP:20260424T134206Z
DTSTART;TZID=Europe/Berlin:20251120T194500
DTEND;TZID=Europe/Berlin:20251120T224500
SUMMARY:Ligue 4 Gr.2 Ph.A Puplinge II vs Rapid-Genève III (24)
UID:73dc08ea-dc00-49d2-b2de-b785b3c2fc95
STATUS:CONFIRMED
LAST-MODIFIED:20251121T102341Z
DESCRIPTION:4ème ligue Hommes Gr.2 Phase A\nBegegnungs-Nr: 24\nHeim: Puplinge II\nGast: Rapid-Genève III\n\nAdresse: Chemin de la Brenaz\,  15\, 1241 Puplinge\n
LOCATION:Chemin de la Brenaz\,  15\, 1241 Puplinge
CATEGORIES:Saison 2025/26
END:VEVENT
BEGIN:VEVENT
DTSTAMP:20260424T134206Z
DTSTART;TZID=Europe/Berlin:20251030T194500
DTEND;TZID=Europe/Berlin:20251030T224500
SUMMARY:Ligue 4 Gr.2 Ph.A Veyrier II vs Rapid-Genève III (16)
UID:c4c3b63c-27aa-4e42-a188-0d37855b0e64
STATUS:CONFIRMED
LAST-MODIFIED:20251031T075707Z
DESCRIPTION:4ème ligue Hommes Gr.2 Phase A\nBegegnungs-Nr: 16\nHeim: Veyrier II\nGast: Rapid-Genève III\n\nAdresse: -\, 1255 Veyrier\n
LOCATION:-\, 1255 Veyrier
CATEGORIES:Saison 2025/26
END:VEVENT
BEGIN:VEVENT
DTSTAMP:20260424T134206Z
DTSTART;TZID=Europe/Berlin:20251009T200000
DTEND;TZID=Europe/Berlin:20251009T230000
SUMMARY:Ligue 4 Gr.2 Ph.A Châtelaine VI vs Rapid-Genève III (11)
UID:7ed6db26-0785-4d69-97e9-d32f673d7bc8
STATUS:CONFIRMED
LAST-MODIFIED:20251010T160923Z
DESCRIPTION:4ème ligue Hommes Gr.2 Phase A\nBegegnungs-Nr: 11\nHeim: Châtelaine VI\nGast: Rapid-Genève III\n
LOCATION:
CATEGORIES:Saison 2025/26
END:VEVENT
BEGIN:VEVENT
DTSTAMP:20260424T134206Z
DTSTART;TZID=Europe/Berlin:20250918T194500
DTEND;TZID=Europe/Berlin:20250918T224500
SUMMARY:Ligue 4 Gr.2 Ph.A Grand-Saconnex II vs Rapid-Genève III (5)
UID:55731a35-0386-4af0-bf4e-c57e70d06f13
STATUS:CONFIRMED
LAST-MODIFIED:20250919T080220Z
DESCRIPTION:4ème ligue Hommes Gr.2 Phase A\nBegegnungs-Nr: 5\nHeim: Grand-Saconnex II\nGast: Rapid-Genève III\n
LOCATION:
CATEGORIES:Saison 2025/26
END:VEVENT
BEGIN:VEVENT
DTSTAMP:20260424T134206Z
DTSTART;TZID=Europe/Berlin:20260402T194500
DTEND;TZID=Europe/Berlin:20260402T224500
SUMMARY:Ligue 4 Gr.2 Ph.B Meyrin IV vs Rapid-Genève III (26)
UID:53bda481-9728-4857-985b-b2993aade9ff
STATUS:CONFIRMED
LAST-MODIFIED:20260403T074835Z
DESCRIPTION:4ème ligue Hommes Gr.2 Phase B\nBegegnungs-Nr: 26\nHeim: Meyrin IV\nGast: Rapid-Genève III\n
LOCATION:
CATEGORIES:Saison 2025/26
END:VEVENT
BEGIN:VEVENT
DTSTAMP:20260424T134206Z
DTSTART;TZID=Europe/Berlin:20260319T194500
DTEND;TZID=Europe/Berlin:20260319T224500
SUMMARY:Ligue 4 Gr.2 Ph.B Veyrier III vs Rapid-Genève III (20)
UID:304d9ed7-01c1-4dae-b335-6024d31fe41d
STATUS:CONFIRMED
LAST-MODIFIED:20260320T081414Z
DESCRIPTION:4ème ligue Hommes Gr.2 Phase B\nBegegnungs-Nr: 20\nHeim: Veyrier III\nGast: Rapid-Genève III\n\nAdresse: -\, 1255 Veyrier\n
LOCATION:-\, 1255 Veyrier
CATEGORIES:Saison 2025/26
END:VEVENT
BEGIN:VEVENT
DTSTAMP:20260424T134206Z
DTSTART;TZID=Europe/Berlin:20260217T194500
DTEND;TZID=Europe/Berlin:20260217T224500
SUMMARY:Ligue 4 Gr.2 Ph.B UGS-Chênois IX vs Rapid-Genève III (14)
UID:e755cf5e-9bb1-4fa5-9476-3140d98ae9e4
STATUS:CONFIRMED
LAST-MODIFIED:20260218T134428Z
DESCRIPTION:4ème ligue Hommes Gr.2 Phase B\nBegegnungs-Nr: 14\nHeim: UGS-Chênois IX\nGast: Rapid-Genève III\n
LOCATION:
CATEGORIES:Saison 2025/26
END:VEVENT
BEGIN:VEVENT
DTSTAMP:20260424T134206Z
DTSTART;TZID=Europe/Berlin:20260115T194500
DTEND;TZID=Europe/Berlin:20260115T224500
SUMMARY:Ligue 4 Gr.2 Ph.B Grand-Saconnex vs Rapid-Genève III (1)
UID:33ca4aeb-2fb8-4a62-960a-4738d4d0bb07
STATUS:CONFIRMED
LAST-MODIFIED:20260116T181811Z
DESCRIPTION:4ème ligue Hommes Gr.2 Phase B\nBegegnungs-Nr: 1\nHeim: Grand-Saconnex\nGast: Rapid-Genève III\n
LOCATION:
CATEGORIES:Saison 2025/26
END:VEVENT
BEGIN:VEVENT
DTSTAMP:20260424T134206Z
DTSTART;TZID=Europe/Berlin:20260129T200000
DTEND;TZID=Europe/Berlin:20260129T230000
SUMMARY:Ligue 4 Gr.2 Ph.B ZZ-Lancy XI vs Rapid-Genève III (9)
UID:458f00ba-e908-4c00-b4f8-4c01453bf964
STATUS:CONFIRMED
LAST-MODIFIED:20260131T132549Z
DESCRIPTION:4ème ligue Hommes Gr.2 Phase B\nBegegnungs-Nr: 9\nHeim: ZZ-Lancy XI\nGast: Rapid-Genève III\n
LOCATION:
CATEGORIES:Saison 2025/26
END:VEVENT
END:VCALENDAR
