BEGIN:VCALENDAR
PRODID:-//nuDatenautomaten//framework iCal4j //DE
VERSION:2.0
CALSCALE:GREGORIAN
BEGIN:VTIMEZONE
TZID:Europe/Berlin
LAST-MODIFIED:20260306T231828Z
TZURL:https://www.tzurl.org/zoneinfo/Europe/Berlin
X-LIC-LOCATION:Europe/Berlin
X-PROLEPTIC-TZNAME:LMT
BEGIN:STANDARD
TZNAME:CET
TZOFFSETFROM:+005328
TZOFFSETTO:+0100
DTSTART:18930401T000000
END:STANDARD
BEGIN:DAYLIGHT
TZNAME:CEST
TZOFFSETFROM:+0100
TZOFFSETTO:+0200
DTSTART:19160430T230000
RDATE:19400401T020000
RDATE:19430329T020000
RDATE:19460414T020000
RDATE:19470406T030000
RDATE:19480418T020000
RDATE:19490410T020000
RDATE:19800406T020000
END:DAYLIGHT
BEGIN:STANDARD
TZNAME:CET
TZOFFSETFROM:+0200
TZOFFSETTO:+0100
DTSTART:19161001T010000
RDATE:19421102T030000
RDATE:19431004T030000
RDATE:19441002T030000
RDATE:19451118T030000
RDATE:19461007T030000
END:STANDARD
BEGIN:DAYLIGHT
TZNAME:CEST
TZOFFSETFROM:+0100
TZOFFSETTO:+0200
DTSTART:19170416T020000
RRULE:FREQ=YEARLY;UNTIL=19180415T010000Z;BYMONTH=4;BYDAY=3MO
END:DAYLIGHT
BEGIN:STANDARD
TZNAME:CET
TZOFFSETFROM:+0200
TZOFFSETTO:+0100
DTSTART:19170917T030000
RRULE:FREQ=YEARLY;UNTIL=19180916T010000Z;BYMONTH=9;BYDAY=3MO
END:STANDARD
BEGIN:DAYLIGHT
TZNAME:CEST
TZOFFSETFROM:+0100
TZOFFSETTO:+0200
DTSTART:19440403T020000
RRULE:FREQ=YEARLY;UNTIL=19450402T010000Z;BYMONTH=4;BYDAY=1MO
END:DAYLIGHT
BEGIN:DAYLIGHT
TZNAME:CEMT
TZOFFSETFROM:+0200
TZOFFSETTO:+0300
DTSTART:19450524T020000
RDATE:19470511T030000
END:DAYLIGHT
BEGIN:DAYLIGHT
TZNAME:CEST
TZOFFSETFROM:+0300
TZOFFSETTO:+0200
DTSTART:19450924T030000
RDATE:19470629T030000
END:DAYLIGHT
BEGIN:STANDARD
TZNAME:CET
TZOFFSETFROM:+0100
TZOFFSETTO:+0100
DTSTART:19460101T000000
RDATE:19800101T000000
END:STANDARD
BEGIN:STANDARD
TZNAME:CET
TZOFFSETFROM:+0200
TZOFFSETTO:+0100
DTSTART:19471005T030000
RRULE:FREQ=YEARLY;UNTIL=19491002T010000Z;BYMONTH=10;BYDAY=1SU
END:STANDARD
BEGIN:STANDARD
TZNAME:CET
TZOFFSETFROM:+0200
TZOFFSETTO:+0100
DTSTART:19800928T030000
RRULE:FREQ=YEARLY;UNTIL=19950924T010000Z;BYMONTH=9;BYDAY=-1SU
END:STANDARD
BEGIN:DAYLIGHT
TZNAME:CEST
TZOFFSETFROM:+0100
TZOFFSETTO:+0200
DTSTART:19810329T020000
RRULE:FREQ=YEARLY;BYMONTH=3;BYDAY=-1SU
END:DAYLIGHT
BEGIN:STANDARD
TZNAME:CET
TZOFFSETFROM:+0200
TZOFFSETTO:+0100
DTSTART:19961027T030000
RRULE:FREQ=YEARLY;BYMONTH=10;BYDAY=-1SU
END:STANDARD
END:VTIMEZONE
BEGIN:VEVENT
DTSTAMP:20260424T150300Z
DTSTART;TZID=Europe/Berlin:20250903T194500
DTEND;TZID=Europe/Berlin:20250903T224500
SUMMARY:Ligue 4 Gr.1 Ph.A UGS-Chênois IX vs Silver Star VI (2)
UID:190f19e7-bf29-4fc1-bdb7-5f9c9c2817d3
STATUS:CONFIRMED
LAST-MODIFIED:20250904T115529Z
DESCRIPTION:4ème ligue Hommes Gr.1 Phase A\nBegegnungs-Nr: 2\nHeim: UGS-Chênois IX\nGast: Silver Star VI\n
LOCATION:
CATEGORIES:Saison 2025/26
END:VEVENT
BEGIN:VEVENT
DTSTAMP:20260424T150300Z
DTSTART;TZID=Europe/Berlin:20250924T194500
DTEND;TZID=Europe/Berlin:20250924T224500
SUMMARY:Ligue 4 Gr.1 Ph.A UGS-Chênois IX vs Meyrin VI (8)
UID:77e0b2b2-5798-4b60-bb8a-cf4ddee86249
STATUS:CONFIRMED
LAST-MODIFIED:20250925T123539Z
DESCRIPTION:4ème ligue Hommes Gr.1 Phase A\nBegegnungs-Nr: 8\nHeim: UGS-Chênois IX\nGast: Meyrin VI\n
LOCATION:
CATEGORIES:Saison 2025/26
END:VEVENT
BEGIN:VEVENT
DTSTAMP:20260424T150300Z
DTSTART;TZID=Europe/Berlin:20251008T194500
DTEND;TZID=Europe/Berlin:20251008T224500
SUMMARY:Ligue 4 Gr.1 Ph.A UGS-Chênois IX vs Bernex V (12)
UID:00a3920f-b6dc-42be-b3b4-b4785356762c
STATUS:CONFIRMED
LAST-MODIFIED:20251009T085816Z
DESCRIPTION:4ème ligue Hommes Gr.1 Phase A\nBegegnungs-Nr: 12\nHeim: UGS-Chênois IX\nGast: Bernex V\n
LOCATION:
CATEGORIES:Saison 2025/26
END:VEVENT
BEGIN:VEVENT
DTSTAMP:20260424T150300Z
DTSTART;TZID=Europe/Berlin:20251112T194500
DTEND;TZID=Europe/Berlin:20251112T224500
SUMMARY:Ligue 4 Gr.1 Ph.A UGS-Chênois IX vs Veyrier (20)
UID:d21cd9f2-e3ee-4d3f-848b-ea91cda40cb3
STATUS:CONFIRMED
LAST-MODIFIED:20251113T133558Z
DESCRIPTION:4ème ligue Hommes Gr.1 Phase A\nBegegnungs-Nr: 20\nHeim: UGS-Chênois IX\nGast: Veyrier\n
LOCATION:
CATEGORIES:Saison 2025/26
END:VEVENT
BEGIN:VEVENT
DTSTAMP:20260424T150300Z
DTSTART;TZID=Europe/Berlin:20251203T194500
DTEND;TZID=Europe/Berlin:20251203T224500
SUMMARY:Ligue 4 Gr.1 Ph.A UGS-Chênois IX vs Carouge VI (28)
UID:fa7800bf-83fa-4248-b152-f039a77d3171
STATUS:CONFIRMED
LAST-MODIFIED:20251204T083703Z
DESCRIPTION:4ème ligue Hommes Gr.1 Phase A\nBegegnungs-Nr: 28\nHeim: UGS-Chênois IX\nGast: Carouge VI\n
LOCATION:
CATEGORIES:Saison 2025/26
END:VEVENT
BEGIN:VEVENT
DTSTAMP:20260424T150300Z
DTSTART;TZID=Europe/Berlin:20260113T194500
DTEND;TZID=Europe/Berlin:20260113T224500
SUMMARY:Ligue 4 Gr.2 Ph.B UGS-Chênois IX vs ZZ-Lancy XI (3)
UID:14244610-3652-47e3-b958-a9332528647a
STATUS:CONFIRMED
LAST-MODIFIED:20260114T134200Z
DESCRIPTION:4ème ligue Hommes Gr.2 Phase B\nBegegnungs-Nr: 3\nHeim: UGS-Chênois IX\nGast: ZZ-Lancy XI\n
LOCATION:
CATEGORIES:Saison 2025/26
END:VEVENT
BEGIN:VEVENT
DTSTAMP:20260424T150300Z
DTSTART;TZID=Europe/Berlin:20260324T194500
DTEND;TZID=Europe/Berlin:20260324T224500
SUMMARY:Ligue 4 Gr.2 Ph.B UGS-Chênois IX vs Veyrier III (23)
UID:ec9cb250-3e99-4165-9940-b5a79470f9b5
STATUS:CONFIRMED
LAST-MODIFIED:20260325T074603Z
DESCRIPTION:4ème ligue Hommes Gr.2 Phase B\nBegegnungs-Nr: 23\nHeim: UGS-Chênois IX\nGast: Veyrier III\n
LOCATION:
CATEGORIES:Saison 2025/26
END:VEVENT
BEGIN:VEVENT
DTSTAMP:20260424T150300Z
DTSTART;TZID=Europe/Berlin:20260317T194500
DTEND;TZID=Europe/Berlin:20260317T224500
SUMMARY:Ligue 4 Gr.2 Ph.B UGS-Chênois IX vs Meyrin IV (19)
UID:753adedc-3357-4a71-a0eb-c4430e760032
STATUS:CONFIRMED
LAST-MODIFIED:20260318T071830Z
DESCRIPTION:4ème ligue Hommes Gr.2 Phase B\nBegegnungs-Nr: 19\nHeim: UGS-Chênois IX\nGast: Meyrin IV\n
LOCATION:
CATEGORIES:Saison 2025/26
END:VEVENT
BEGIN:VEVENT
DTSTAMP:20260424T150300Z
DTSTART;TZID=Europe/Berlin:20260217T194500
DTEND;TZID=Europe/Berlin:20260217T224500
SUMMARY:Ligue 4 Gr.2 Ph.B UGS-Chênois IX vs Rapid-Genève III (14)
UID:e755cf5e-9bb1-4fa5-9476-3140d98ae9e4
STATUS:CONFIRMED
LAST-MODIFIED:20260218T134428Z
DESCRIPTION:4ème ligue Hommes Gr.2 Phase B\nBegegnungs-Nr: 14\nHeim: UGS-Chênois IX\nGast: Rapid-Genève III\n
LOCATION:
CATEGORIES:Saison 2025/26
END:VEVENT
BEGIN:VEVENT
DTSTAMP:20260424T150300Z
DTSTART;TZID=Europe/Berlin:20260210T194500
DTEND;TZID=Europe/Berlin:20260210T224500
SUMMARY:Ligue 4 Gr.2 Ph.B UGS-Chênois IX vs Grand-Saconnex (10)
UID:3e087e79-9671-499d-ba04-6fc88878f9e7
STATUS:CONFIRMED
LAST-MODIFIED:20260211T080458Z
DESCRIPTION:4ème ligue Hommes Gr.2 Phase B\nBegegnungs-Nr: 10\nHeim: UGS-Chênois IX\nGast: Grand-Saconnex\n
LOCATION:
CATEGORIES:Saison 2025/26
END:VEVENT
BEGIN:VEVENT
DTSTAMP:20260424T150300Z
DTSTART;TZID=Europe/Berlin:20250918T194500
DTEND;TZID=Europe/Berlin:20250918T224500
SUMMARY:Ligue 4 Gr.1 Ph.A Veyrier vs UGS-Chênois IX (5)
UID:9ff5c843-99b5-400b-88d6-8a546c883ae8
STATUS:CONFIRMED
LAST-MODIFIED:20250919T075116Z
DESCRIPTION:4ème ligue Hommes Gr.1 Phase A\nBegegnungs-Nr: 5\nHeim: Veyrier\nGast: UGS-Chênois IX\n\nAdresse: -\, 1255 Veyrier\n
LOCATION:-\, 1255 Veyrier
CATEGORIES:Saison 2025/26
END:VEVENT
BEGIN:VEVENT
DTSTAMP:20260424T150300Z
DTSTART;TZID=Europe/Berlin:20251016T194500
DTEND;TZID=Europe/Berlin:20251016T224500
SUMMARY:Ligue 4 Gr.1 Ph.A Carouge VI vs UGS-Chênois IX (13)
UID:e728573d-973a-4ac8-b538-d243cc9c26db
STATUS:CONFIRMED
LAST-MODIFIED:20251017T063721Z
DESCRIPTION:4ème ligue Hommes Gr.1 Phase A\nBegegnungs-Nr: 13\nHeim: Carouge VI\nGast: UGS-Chênois IX\n
LOCATION:
CATEGORIES:Saison 2025/26
END:VEVENT
BEGIN:VEVENT
DTSTAMP:20260424T150300Z
DTSTART;TZID=Europe/Berlin:20251030T194500
DTEND;TZID=Europe/Berlin:20251030T224500
SUMMARY:Ligue 4 Gr.1 Ph.A Silver Star VI vs UGS-Chênois IX (17)
UID:e2c39bd8-26b2-409c-aa7c-06cba4b3b635
STATUS:CONFIRMED
LAST-MODIFIED:20251031T113459Z
DESCRIPTION:4ème ligue Hommes Gr.1 Phase A\nBegegnungs-Nr: 17\nHeim: Silver Star VI\nGast: UGS-Chênois IX\n
LOCATION:
CATEGORIES:Saison 2025/26
END:VEVENT
BEGIN:VEVENT
DTSTAMP:20260424T150300Z
DTSTART;TZID=Europe/Berlin:20251120T194500
DTEND;TZID=Europe/Berlin:20251120T224500
SUMMARY:Ligue 4 Gr.1 Ph.A Meyrin VI vs UGS-Chênois IX (23)
UID:63ea0bf0-c865-4b26-8d25-44b667705409
STATUS:CONFIRMED
LAST-MODIFIED:20251122T170808Z
DESCRIPTION:4ème ligue Hommes Gr.1 Phase A\nBegegnungs-Nr: 23\nHeim: Meyrin VI\nGast: UGS-Chênois IX\n
LOCATION:
CATEGORIES:Saison 2025/26
END:VEVENT
BEGIN:VEVENT
DTSTAMP:20260424T150300Z
DTSTART;TZID=Europe/Berlin:20251127T194500
DTEND;TZID=Europe/Berlin:20251127T224500
SUMMARY:Ligue 4 Gr.1 Ph.A Bernex V vs UGS-Chênois IX (27)
UID:6f7e943e-f03d-4ba0-b42a-dc3dbf044915
STATUS:CONFIRMED
LAST-MODIFIED:20251128T180445Z
DESCRIPTION:4ème ligue Hommes Gr.1 Phase A\nBegegnungs-Nr: 27\nHeim: Bernex V\nGast: UGS-Chênois IX\n
LOCATION:
CATEGORIES:Saison 2025/26
END:VEVENT
BEGIN:VEVENT
DTSTAMP:20260424T150300Z
DTSTART;TZID=Europe/Berlin:20260430T194500
DTEND;TZID=Europe/Berlin:20260430T224500
SUMMARY:Ligue 4 Gr.2 Ph.B Rapid-Genève III vs UGS-Chênois IX (29)
UID:c3791d19-24b8-469b-af26-f230679452b2
STATUS:CONFIRMED
DESCRIPTION:4ème ligue Hommes Gr.2 Phase B\nBegegnungs-Nr: 29\nHeim: Rapid-Genève III\nGast: UGS-Chênois IX\n
LOCATION:
CATEGORIES:Saison 2025/26
END:VEVENT
BEGIN:VEVENT
DTSTAMP:20260424T150300Z
DTSTART;TZID=Europe/Berlin:20260402T194500
DTEND;TZID=Europe/Berlin:20260402T224500
SUMMARY:Ligue 4 Gr.2 Ph.B Grand-Saconnex vs UGS-Chênois IX (25)
UID:75d5a617-0181-4d47-b3bf-f7233ca0aeb7
STATUS:CONFIRMED
LAST-MODIFIED:20260403T074752Z
DESCRIPTION:4ème ligue Hommes Gr.2 Phase B\nBegegnungs-Nr: 25\nHeim: Grand-Saconnex\nGast: UGS-Chênois IX\n
LOCATION:
CATEGORIES:Saison 2025/26
END:VEVENT
BEGIN:VEVENT
DTSTAMP:20260424T150300Z
DTSTART;TZID=Europe/Berlin:20260312T200000
DTEND;TZID=Europe/Berlin:20260312T230000
SUMMARY:Ligue 4 Gr.2 Ph.B ZZ-Lancy XI vs UGS-Chênois IX (18)
UID:5f70252d-fdee-403d-b333-eb034becc68a
STATUS:CONFIRMED
LAST-MODIFIED:20260313T103920Z
DESCRIPTION:4ème ligue Hommes Gr.2 Phase B\nBegegnungs-Nr: 18\nHeim: ZZ-Lancy XI\nGast: UGS-Chênois IX\n
LOCATION:
CATEGORIES:Saison 2025/26
END:VEVENT
BEGIN:VEVENT
DTSTAMP:20260424T150300Z
DTSTART;TZID=Europe/Berlin:20260129T194500
DTEND;TZID=Europe/Berlin:20260129T224500
SUMMARY:Ligue 4 Gr.2 Ph.B Veyrier III vs UGS-Chênois IX (8)
UID:9d316030-6d7d-4393-8277-d1bf89e86787
STATUS:CONFIRMED
LAST-MODIFIED:20260130T084419Z
DESCRIPTION:4ème ligue Hommes Gr.2 Phase B\nBegegnungs-Nr: 8\nHeim: Veyrier III\nGast: UGS-Chênois IX\n\nAdresse: -\, 1255 Veyrier\n
LOCATION:-\, 1255 Veyrier
CATEGORIES:Saison 2025/26
END:VEVENT
BEGIN:VEVENT
DTSTAMP:20260424T150300Z
DTSTART;TZID=Europe/Berlin:20260122T194500
DTEND;TZID=Europe/Berlin:20260122T224500
SUMMARY:Ligue 4 Gr.2 Ph.B Meyrin IV vs UGS-Chênois IX (4)
UID:85fda442-6098-4612-9eb1-6e59cbe889a8
STATUS:CONFIRMED
LAST-MODIFIED:20260123T083311Z
DESCRIPTION:4ème ligue Hommes Gr.2 Phase B\nBegegnungs-Nr: 4\nHeim: Meyrin IV\nGast: UGS-Chênois IX\n
LOCATION:
CATEGORIES:Saison 2025/26
END:VEVENT
END:VCALENDAR
