BEGIN:VCALENDAR
PRODID:-//nuDatenautomaten//framework iCal4j //DE
VERSION:2.0
CALSCALE:GREGORIAN
BEGIN:VTIMEZONE
TZID:Europe/Berlin
LAST-MODIFIED:20260306T231828Z
TZURL:https://www.tzurl.org/zoneinfo/Europe/Berlin
X-LIC-LOCATION:Europe/Berlin
X-PROLEPTIC-TZNAME:LMT
BEGIN:STANDARD
TZNAME:CET
TZOFFSETFROM:+005328
TZOFFSETTO:+0100
DTSTART:18930401T000000
END:STANDARD
BEGIN:DAYLIGHT
TZNAME:CEST
TZOFFSETFROM:+0100
TZOFFSETTO:+0200
DTSTART:19160430T230000
RDATE:19400401T020000
RDATE:19430329T020000
RDATE:19460414T020000
RDATE:19470406T030000
RDATE:19480418T020000
RDATE:19490410T020000
RDATE:19800406T020000
END:DAYLIGHT
BEGIN:STANDARD
TZNAME:CET
TZOFFSETFROM:+0200
TZOFFSETTO:+0100
DTSTART:19161001T010000
RDATE:19421102T030000
RDATE:19431004T030000
RDATE:19441002T030000
RDATE:19451118T030000
RDATE:19461007T030000
END:STANDARD
BEGIN:DAYLIGHT
TZNAME:CEST
TZOFFSETFROM:+0100
TZOFFSETTO:+0200
DTSTART:19170416T020000
RRULE:FREQ=YEARLY;UNTIL=19180415T010000Z;BYMONTH=4;BYDAY=3MO
END:DAYLIGHT
BEGIN:STANDARD
TZNAME:CET
TZOFFSETFROM:+0200
TZOFFSETTO:+0100
DTSTART:19170917T030000
RRULE:FREQ=YEARLY;UNTIL=19180916T010000Z;BYMONTH=9;BYDAY=3MO
END:STANDARD
BEGIN:DAYLIGHT
TZNAME:CEST
TZOFFSETFROM:+0100
TZOFFSETTO:+0200
DTSTART:19440403T020000
RRULE:FREQ=YEARLY;UNTIL=19450402T010000Z;BYMONTH=4;BYDAY=1MO
END:DAYLIGHT
BEGIN:DAYLIGHT
TZNAME:CEMT
TZOFFSETFROM:+0200
TZOFFSETTO:+0300
DTSTART:19450524T020000
RDATE:19470511T030000
END:DAYLIGHT
BEGIN:DAYLIGHT
TZNAME:CEST
TZOFFSETFROM:+0300
TZOFFSETTO:+0200
DTSTART:19450924T030000
RDATE:19470629T030000
END:DAYLIGHT
BEGIN:STANDARD
TZNAME:CET
TZOFFSETFROM:+0100
TZOFFSETTO:+0100
DTSTART:19460101T000000
RDATE:19800101T000000
END:STANDARD
BEGIN:STANDARD
TZNAME:CET
TZOFFSETFROM:+0200
TZOFFSETTO:+0100
DTSTART:19471005T030000
RRULE:FREQ=YEARLY;UNTIL=19491002T010000Z;BYMONTH=10;BYDAY=1SU
END:STANDARD
BEGIN:STANDARD
TZNAME:CET
TZOFFSETFROM:+0200
TZOFFSETTO:+0100
DTSTART:19800928T030000
RRULE:FREQ=YEARLY;UNTIL=19950924T010000Z;BYMONTH=9;BYDAY=-1SU
END:STANDARD
BEGIN:DAYLIGHT
TZNAME:CEST
TZOFFSETFROM:+0100
TZOFFSETTO:+0200
DTSTART:19810329T020000
RRULE:FREQ=YEARLY;BYMONTH=3;BYDAY=-1SU
END:DAYLIGHT
BEGIN:STANDARD
TZNAME:CET
TZOFFSETFROM:+0200
TZOFFSETTO:+0100
DTSTART:19961027T030000
RRULE:FREQ=YEARLY;BYMONTH=10;BYDAY=-1SU
END:STANDARD
END:VTIMEZONE
BEGIN:VEVENT
DTSTAMP:20260424T025643Z
DTSTART;TZID=Europe/Berlin:20260113T201500
DTEND;TZID=Europe/Berlin:20260113T231500
SUMMARY:O40 4. Liga Gr. 2 Uster II vs Zürich-Affoltern III (0)
UID:4bd60f18-0479-4b3d-ab53-dbccf6fc4754
STATUS:CONFIRMED
LAST-MODIFIED:20260115T093925Z
DESCRIPTION:4. Liga O40 Gruppe 2\nBegegnungs-Nr: 0\nHeim: Uster II\nGast: Zürich-Affoltern III\n\nAdresse: Wilstrasse 30 / Zürcherstrasse\, 8610 Uster\n
LOCATION:Wilstrasse 30 / Zürcherstrasse\, 8610 Uster
CATEGORIES:Saison 2025/26
END:VEVENT
BEGIN:VEVENT
DTSTAMP:20260424T025643Z
DTSTART;TZID=Europe/Berlin:20260224T201500
DTEND;TZID=Europe/Berlin:20260224T231500
SUMMARY:O40 4. Liga Gr. 2 Uster II vs Eschenbach (0)
UID:5d3685d0-54b3-4e43-9d9c-b385a9e18480
STATUS:CONFIRMED
LAST-MODIFIED:20260225T112501Z
DESCRIPTION:4. Liga O40 Gruppe 2\nBegegnungs-Nr: 0\nHeim: Uster II\nGast: Eschenbach\n\nAdresse: Wilstrasse 30 / Zürcherstrasse\, 8610 Uster\n
LOCATION:Wilstrasse 30 / Zürcherstrasse\, 8610 Uster
CATEGORIES:Saison 2025/26
END:VEVENT
BEGIN:VEVENT
DTSTAMP:20260424T025643Z
DTSTART;TZID=Europe/Berlin:20260331T201500
DTEND;TZID=Europe/Berlin:20260331T231500
SUMMARY:O40 4. Liga Gr. 2 Uster II vs Kloten (0)
UID:489e6e29-4adb-49f5-a4c5-dd61023f6549
STATUS:CONFIRMED
LAST-MODIFIED:20260401T133245Z
DESCRIPTION:4. Liga O40 Gruppe 2\nBegegnungs-Nr: 0\nHeim: Uster II\nGast: Kloten\n\nAdresse: Wilstrasse 30 / Zürcherstrasse\, 8610 Uster\n
LOCATION:Wilstrasse 30 / Zürcherstrasse\, 8610 Uster
CATEGORIES:Saison 2025/26
END:VEVENT
BEGIN:VEVENT
DTSTAMP:20260424T025643Z
DTSTART;TZID=Europe/Berlin:20250909T201500
DTEND;TZID=Europe/Berlin:20250909T231500
SUMMARY:O40 4. Liga Gr. 2 Uster II vs Wolfhausen II (0)
UID:3088dd11-50fc-4b93-bfda-bf851e89e3d9
STATUS:CONFIRMED
LAST-MODIFIED:20250911T101054Z
DESCRIPTION:4. Liga O40 Gruppe 2\nBegegnungs-Nr: 0\nHeim: Uster II\nGast: Wolfhausen II\n\nAdresse: Wilstrasse 30 / Zürcherstrasse\, 8610 Uster\n
LOCATION:Wilstrasse 30 / Zürcherstrasse\, 8610 Uster
CATEGORIES:Saison 2025/26
END:VEVENT
BEGIN:VEVENT
DTSTAMP:20260424T025643Z
DTSTART;TZID=Europe/Berlin:20251118T201500
DTEND;TZID=Europe/Berlin:20251118T231500
SUMMARY:O40 4. Liga Gr. 2 Uster II vs Dübendorf-Volketswil III (0)
UID:37ca2fc0-a0f2-4a05-a322-e78ffb737562
STATUS:CONFIRMED
LAST-MODIFIED:20251121T095212Z
DESCRIPTION:4. Liga O40 Gruppe 2\nBegegnungs-Nr: 0\nHeim: Uster II\nGast: Dübendorf-Volketswil III\n\nAdresse: Wilstrasse 30 / Zürcherstrasse\, 8610 Uster\n
LOCATION:Wilstrasse 30 / Zürcherstrasse\, 8610 Uster
CATEGORIES:Saison 2025/26
END:VEVENT
BEGIN:VEVENT
DTSTAMP:20260424T025643Z
DTSTART;TZID=Europe/Berlin:20260206T200000
DTEND;TZID=Europe/Berlin:20260206T230000
SUMMARY:O40 4. Liga Gr. 2 Wolfhausen II vs Uster II (0)
UID:53aded54-e720-4118-a23f-0be8809ca597
STATUS:CONFIRMED
LAST-MODIFIED:20260209T135450Z
DESCRIPTION:4. Liga O40 Gruppe 2\nBegegnungs-Nr: 0\nHeim: Wolfhausen II\nGast: Uster II\n\nAdresse: Schulstrasse 9\, 8633 Wolfhausen\n
LOCATION:Schulstrasse 9\, 8633 Wolfhausen
CATEGORIES:Saison 2025/26
END:VEVENT
BEGIN:VEVENT
DTSTAMP:20260424T025643Z
DTSTART;TZID=Europe/Berlin:20260319T194500
DTEND;TZID=Europe/Berlin:20260319T224500
SUMMARY:O40 4. Liga Gr. 2 Dübendorf-Volketswil III vs Uster II (0)
UID:800a0c53-ce2a-4d86-9774-b75efab01228
STATUS:CONFIRMED
LAST-MODIFIED:20260320T141546Z
DESCRIPTION:4. Liga O40 Gruppe 2\nBegegnungs-Nr: 0\nHeim: Dübendorf-Volketswil III\nGast: Uster II\n\nAdresse: Wasserfurrenstrasse 7\, 8600 Dübendorf\n
LOCATION:Wasserfurrenstrasse 7\, 8600 Dübendorf
CATEGORIES:Saison 2025/26
END:VEVENT
BEGIN:VEVENT
DTSTAMP:20260424T025643Z
DTSTART;TZID=Europe/Berlin:20250820T194500
DTEND;TZID=Europe/Berlin:20250820T224500
SUMMARY:O40 4. Liga Gr. 2 Zürich-Affoltern III vs Uster II (0)
UID:96f6ac6c-7bc4-4699-8d67-39ad2e33c021
STATUS:CONFIRMED
LAST-MODIFIED:20250826T114625Z
DESCRIPTION:4. Liga O40 Gruppe 2\nBegegnungs-Nr: 0\nHeim: Zürich-Affoltern III\nGast: Uster II\n\nAdresse: Fronwaldstr.115\, 8046 Zürich\n
LOCATION:Fronwaldstr.115\, 8046 Zürich
CATEGORIES:Saison 2025/26
END:VEVENT
BEGIN:VEVENT
DTSTAMP:20260424T025643Z
DTSTART;TZID=Europe/Berlin:20251024T200000
DTEND;TZID=Europe/Berlin:20251024T230000
SUMMARY:O40 4. Liga Gr. 2 Eschenbach vs Uster II (0)
UID:c026d45d-b5f0-4cba-9487-9e93446e905f
STATUS:CONFIRMED
LAST-MODIFIED:20251031T144901Z
DESCRIPTION:4. Liga O40 Gruppe 2\nBegegnungs-Nr: 0\nHeim: Eschenbach\nGast: Uster II\n\nAdresse: Bildstöcklistrasse 2\, 8733 Eschenbach\n
LOCATION:Bildstöcklistrasse 2\, 8733 Eschenbach
CATEGORIES:Saison 2025/26
END:VEVENT
BEGIN:VEVENT
DTSTAMP:20260424T025643Z
DTSTART;TZID=Europe/Berlin:20251126T193000
DTEND;TZID=Europe/Berlin:20251126T223000
SUMMARY:O40 4. Liga Gr. 2 Kloten vs Uster II (0)
UID:8f2fb679-ec13-43fa-b72d-5f49ffacd3ba
STATUS:CONFIRMED
LAST-MODIFIED:20251128T134609Z
DESCRIPTION:4. Liga O40 Gruppe 2\nBegegnungs-Nr: 0\nHeim: Kloten\nGast: Uster II\n\nAdresse: Schluefweg 10\, 8302 Kloten\n
LOCATION:Schluefweg 10\, 8302 Kloten
CATEGORIES:Saison 2025/26
END:VEVENT
END:VCALENDAR
