BEGIN:VCALENDAR
PRODID:-//nuDatenautomaten//framework iCal4j //DE
VERSION:2.0
CALSCALE:GREGORIAN
BEGIN:VTIMEZONE
TZID:Europe/Berlin
LAST-MODIFIED:20260306T231828Z
TZURL:https://www.tzurl.org/zoneinfo/Europe/Berlin
X-LIC-LOCATION:Europe/Berlin
X-PROLEPTIC-TZNAME:LMT
BEGIN:STANDARD
TZNAME:CET
TZOFFSETFROM:+005328
TZOFFSETTO:+0100
DTSTART:18930401T000000
END:STANDARD
BEGIN:DAYLIGHT
TZNAME:CEST
TZOFFSETFROM:+0100
TZOFFSETTO:+0200
DTSTART:19160430T230000
RDATE:19400401T020000
RDATE:19430329T020000
RDATE:19460414T020000
RDATE:19470406T030000
RDATE:19480418T020000
RDATE:19490410T020000
RDATE:19800406T020000
END:DAYLIGHT
BEGIN:STANDARD
TZNAME:CET
TZOFFSETFROM:+0200
TZOFFSETTO:+0100
DTSTART:19161001T010000
RDATE:19421102T030000
RDATE:19431004T030000
RDATE:19441002T030000
RDATE:19451118T030000
RDATE:19461007T030000
END:STANDARD
BEGIN:DAYLIGHT
TZNAME:CEST
TZOFFSETFROM:+0100
TZOFFSETTO:+0200
DTSTART:19170416T020000
RRULE:FREQ=YEARLY;UNTIL=19180415T010000Z;BYMONTH=4;BYDAY=3MO
END:DAYLIGHT
BEGIN:STANDARD
TZNAME:CET
TZOFFSETFROM:+0200
TZOFFSETTO:+0100
DTSTART:19170917T030000
RRULE:FREQ=YEARLY;UNTIL=19180916T010000Z;BYMONTH=9;BYDAY=3MO
END:STANDARD
BEGIN:DAYLIGHT
TZNAME:CEST
TZOFFSETFROM:+0100
TZOFFSETTO:+0200
DTSTART:19440403T020000
RRULE:FREQ=YEARLY;UNTIL=19450402T010000Z;BYMONTH=4;BYDAY=1MO
END:DAYLIGHT
BEGIN:DAYLIGHT
TZNAME:CEMT
TZOFFSETFROM:+0200
TZOFFSETTO:+0300
DTSTART:19450524T020000
RDATE:19470511T030000
END:DAYLIGHT
BEGIN:DAYLIGHT
TZNAME:CEST
TZOFFSETFROM:+0300
TZOFFSETTO:+0200
DTSTART:19450924T030000
RDATE:19470629T030000
END:DAYLIGHT
BEGIN:STANDARD
TZNAME:CET
TZOFFSETFROM:+0100
TZOFFSETTO:+0100
DTSTART:19460101T000000
RDATE:19800101T000000
END:STANDARD
BEGIN:STANDARD
TZNAME:CET
TZOFFSETFROM:+0200
TZOFFSETTO:+0100
DTSTART:19471005T030000
RRULE:FREQ=YEARLY;UNTIL=19491002T010000Z;BYMONTH=10;BYDAY=1SU
END:STANDARD
BEGIN:STANDARD
TZNAME:CET
TZOFFSETFROM:+0200
TZOFFSETTO:+0100
DTSTART:19800928T030000
RRULE:FREQ=YEARLY;UNTIL=19950924T010000Z;BYMONTH=9;BYDAY=-1SU
END:STANDARD
BEGIN:DAYLIGHT
TZNAME:CEST
TZOFFSETFROM:+0100
TZOFFSETTO:+0200
DTSTART:19810329T020000
RRULE:FREQ=YEARLY;BYMONTH=3;BYDAY=-1SU
END:DAYLIGHT
BEGIN:STANDARD
TZNAME:CET
TZOFFSETFROM:+0200
TZOFFSETTO:+0100
DTSTART:19961027T030000
RRULE:FREQ=YEARLY;BYMONTH=10;BYDAY=-1SU
END:STANDARD
END:VTIMEZONE
BEGIN:VEVENT
DTSTAMP:20260424T115232Z
DTSTART;TZID=Europe/Berlin:20251111T194500
DTEND;TZID=Europe/Berlin:20251111T224500
SUMMARY:HE 5. Liga Gr. 5 Port IX vs Solothurn VI (8)
UID:8ef3b968-15ca-4375-8782-41d9bb1a03b7
STATUS:CONFIRMED
LAST-MODIFIED:20251115T173504Z
DESCRIPTION:5. Liga Herren Gruppe 5\nBegegnungs-Nr: 8\nHeim: Port IX\nGast: Solothurn VI\n\nAdresse: Allmendstrasse 23\, 2562 Port\n
LOCATION:Allmendstrasse 23\, 2562 Port
CATEGORIES:Saison 2025/26
END:VEVENT
BEGIN:VEVENT
DTSTAMP:20260424T115232Z
DTSTART;TZID=Europe/Berlin:20250905T194500
DTEND;TZID=Europe/Berlin:20250905T224500
SUMMARY:HE 5. Liga Gr. 5 Port IX vs Burgdorf X (2)
UID:f61d4b5a-92ce-4df5-9920-63a0504ffc87
STATUS:CONFIRMED
LAST-MODIFIED:20250907T195310Z
DESCRIPTION:5. Liga Herren Gruppe 5\nBegegnungs-Nr: 2\nHeim: Port IX\nGast: Burgdorf X\n\nAdresse: Allmendstrasse 23\, 2562 Port\n
LOCATION:Allmendstrasse 23\, 2562 Port
CATEGORIES:Saison 2025/26
END:VEVENT
BEGIN:VEVENT
DTSTAMP:20260424T115232Z
DTSTART;TZID=Europe/Berlin:20260327T194500
DTEND;TZID=Europe/Berlin:20260327T224500
SUMMARY:HE 5. Liga Gr. 5 Port IX vs Lyss VI (19)
UID:e4fb9de7-9b7c-4f3f-a932-8c84db05317b
STATUS:CONFIRMED
LAST-MODIFIED:20260409T124024Z
DESCRIPTION:5. Liga Herren Gruppe 5\nBegegnungs-Nr: 19\nHeim: Port IX\nGast: Lyss VI\n\nAdresse: Allmendstrasse 23\, 2562 Port\n
LOCATION:Allmendstrasse 23\, 2562 Port
CATEGORIES:Saison 2025/26
END:VEVENT
BEGIN:VEVENT
DTSTAMP:20260424T115232Z
DTSTART;TZID=Europe/Berlin:20260313T195500
DTEND;TZID=Europe/Berlin:20260313T225500
SUMMARY:HE 5. Liga Gr. 5 Port IX vs Erlach III (16)
UID:e9b839fb-336f-4768-8c74-2194ba9da059
STATUS:CONFIRMED
LAST-MODIFIED:20260327T144210Z
DESCRIPTION:5. Liga Herren Gruppe 5\nBegegnungs-Nr: 16\nHeim: Port IX\nGast: Erlach III\n\nAdresse: Allmendstrasse 23\, 2562 Port\n
LOCATION:Allmendstrasse 23\, 2562 Port
CATEGORIES:Saison 2025/26
END:VEVENT
BEGIN:VEVENT
DTSTAMP:20260424T115232Z
DTSTART;TZID=Europe/Berlin:20260220T194500
DTEND;TZID=Europe/Berlin:20260220T224500
SUMMARY:HE 5. Liga Gr. 5 Port IX vs Grenchen II (11)
UID:e149ae1a-bb52-46b6-ae90-83cd81ce9885
STATUS:CONFIRMED
LAST-MODIFIED:20260224T075532Z
DESCRIPTION:5. Liga Herren Gruppe 5\nBegegnungs-Nr: 11\nHeim: Port IX\nGast: Grenchen II\n\nAdresse: Allmendstrasse 23\, 2562 Port\n
LOCATION:Allmendstrasse 23\, 2562 Port
CATEGORIES:Saison 2025/26
END:VEVENT
BEGIN:VEVENT
DTSTAMP:20260424T115232Z
DTSTART;TZID=Europe/Berlin:20260123T194500
DTEND;TZID=Europe/Berlin:20260123T224500
SUMMARY:HE 5. Liga Gr. 5 Port IX vs Utzenstorf (5)
UID:94d98436-7aa3-40d3-be41-67cc006f65ad
STATUS:CONFIRMED
LAST-MODIFIED:20260125T002658Z
DESCRIPTION:5. Liga Herren Gruppe 5\nBegegnungs-Nr: 5\nHeim: Port IX\nGast: Utzenstorf\n\nAdresse: Allmendstrasse 23\, 2562 Port\n
LOCATION:Allmendstrasse 23\, 2562 Port
CATEGORIES:Saison 2025/26
END:VEVENT
BEGIN:VEVENT
DTSTAMP:20260424T115232Z
DTSTART;TZID=Europe/Berlin:20251201T200000
DTEND;TZID=Europe/Berlin:20251201T230000
SUMMARY:HE 5. Liga Gr. 5 Erlach III vs Port IX (16)
UID:5d93309f-5604-4bb1-8944-f42acda4b960
STATUS:CONFIRMED
LAST-MODIFIED:20251207T174654Z
DESCRIPTION:5. Liga Herren Gruppe 5\nBegegnungs-Nr: 16\nHeim: Erlach III\nGast: Port IX\n\nAdresse: Vinelzstrasse 54 (24)\, 3235 Erlach\n
LOCATION:Vinelzstrasse 54 (24)\, 3235 Erlach
CATEGORIES:Saison 2025/26
END:VEVENT
BEGIN:VEVENT
DTSTAMP:20260424T115232Z
DTSTART;TZID=Europe/Berlin:20251128T194500
DTEND;TZID=Europe/Berlin:20251128T224500
SUMMARY:HE 5. Liga Gr. 5 Grenchen II vs Port IX (11)
UID:ea9712e1-6d50-4bd9-930a-16a91ebde858
STATUS:CONFIRMED
LAST-MODIFIED:20251207T174623Z
DESCRIPTION:5. Liga Herren Gruppe 5\nBegegnungs-Nr: 11\nHeim: Grenchen II\nGast: Port IX\n\nAdresse: Witmattstrasse\, 2540 Grenchen\n
LOCATION:Witmattstrasse\, 2540 Grenchen
CATEGORIES:Saison 2025/26
END:VEVENT
BEGIN:VEVENT
DTSTAMP:20260424T115232Z
DTSTART;TZID=Europe/Berlin:20250911T200000
DTEND;TZID=Europe/Berlin:20250911T230000
SUMMARY:HE 5. Liga Gr. 5 Utzenstorf vs Port IX (5)
UID:efb213f2-2d47-4469-a7d4-3458346df0d6
STATUS:CONFIRMED
LAST-MODIFIED:20250918T140424Z
DESCRIPTION:5. Liga Herren Gruppe 5\nBegegnungs-Nr: 5\nHeim: Utzenstorf\nGast: Port IX\n\nAdresse: Gotthelfstrasse 15a\, 3427 Utzenstorf\n
LOCATION:Gotthelfstrasse 15a\, 3427 Utzenstorf
CATEGORIES:Saison 2025/26
END:VEVENT
BEGIN:VEVENT
DTSTAMP:20260424T115232Z
DTSTART;TZID=Europe/Berlin:20251209T200000
DTEND;TZID=Europe/Berlin:20251209T230000
SUMMARY:HE 5. Liga Gr. 5 Lyss VI vs Port IX (19)
UID:41445e25-2765-47ed-abfd-9a0a3aaf10ae
STATUS:CONFIRMED
LAST-MODIFIED:20251216T120941Z
DESCRIPTION:5. Liga Herren Gruppe 5\nBegegnungs-Nr: 19\nHeim: Lyss VI\nGast: Port IX\n\nAdresse: Stegmattweg 15-17\, 3250 Lyss\n
LOCATION:Stegmattweg 15-17\, 3250 Lyss
CATEGORIES:Saison 2025/26
END:VEVENT
BEGIN:VEVENT
DTSTAMP:20260424T115232Z
DTSTART;TZID=Europe/Berlin:20260116T190000
DTEND;TZID=Europe/Berlin:20260116T220000
SUMMARY:HE 5. Liga Gr. 5 Burgdorf X vs Port IX (2)
UID:5b6988b6-c2d3-4a75-9085-e889296beab6
STATUS:CONFIRMED
LAST-MODIFIED:20260125T002638Z
DESCRIPTION:5. Liga Herren Gruppe 5\nBegegnungs-Nr: 2\nHeim: Burgdorf X\nGast: Port IX\n\nAdresse: Pestalozzistrasse 69\, 3400 Burgdorf\n
LOCATION:Pestalozzistrasse 69\, 3400 Burgdorf
CATEGORIES:Saison 2025/26
END:VEVENT
BEGIN:VEVENT
DTSTAMP:20260424T115232Z
DTSTART;TZID=Europe/Berlin:20260211T194500
DTEND;TZID=Europe/Berlin:20260211T224500
SUMMARY:HE 5. Liga Gr. 5 Solothurn VI vs Port IX (8)
UID:094cf4dd-7dd7-44ac-813e-5dc1f6d6ab27
STATUS:CONFIRMED
LAST-MODIFIED:20260217T214912Z
DESCRIPTION:5. Liga Herren Gruppe 5\nBegegnungs-Nr: 8\nHeim: Solothurn VI\nGast: Port IX\n\nAdresse: Untere Sternengasse 24\, 4500 Solothurn\n
LOCATION:Untere Sternengasse 24\, 4500 Solothurn
CATEGORIES:Saison 2025/26
END:VEVENT
END:VCALENDAR
