BEGIN:VCALENDAR
PRODID:-//nuDatenautomaten//framework iCal4j //DE
VERSION:2.0
CALSCALE:GREGORIAN
BEGIN:VTIMEZONE
TZID:Europe/Berlin
LAST-MODIFIED:20260306T231828Z
TZURL:https://www.tzurl.org/zoneinfo/Europe/Berlin
X-LIC-LOCATION:Europe/Berlin
X-PROLEPTIC-TZNAME:LMT
BEGIN:STANDARD
TZNAME:CET
TZOFFSETFROM:+005328
TZOFFSETTO:+0100
DTSTART:18930401T000000
END:STANDARD
BEGIN:DAYLIGHT
TZNAME:CEST
TZOFFSETFROM:+0100
TZOFFSETTO:+0200
DTSTART:19160430T230000
RDATE:19400401T020000
RDATE:19430329T020000
RDATE:19460414T020000
RDATE:19470406T030000
RDATE:19480418T020000
RDATE:19490410T020000
RDATE:19800406T020000
END:DAYLIGHT
BEGIN:STANDARD
TZNAME:CET
TZOFFSETFROM:+0200
TZOFFSETTO:+0100
DTSTART:19161001T010000
RDATE:19421102T030000
RDATE:19431004T030000
RDATE:19441002T030000
RDATE:19451118T030000
RDATE:19461007T030000
END:STANDARD
BEGIN:DAYLIGHT
TZNAME:CEST
TZOFFSETFROM:+0100
TZOFFSETTO:+0200
DTSTART:19170416T020000
RRULE:FREQ=YEARLY;UNTIL=19180415T010000Z;BYMONTH=4;BYDAY=3MO
END:DAYLIGHT
BEGIN:STANDARD
TZNAME:CET
TZOFFSETFROM:+0200
TZOFFSETTO:+0100
DTSTART:19170917T030000
RRULE:FREQ=YEARLY;UNTIL=19180916T010000Z;BYMONTH=9;BYDAY=3MO
END:STANDARD
BEGIN:DAYLIGHT
TZNAME:CEST
TZOFFSETFROM:+0100
TZOFFSETTO:+0200
DTSTART:19440403T020000
RRULE:FREQ=YEARLY;UNTIL=19450402T010000Z;BYMONTH=4;BYDAY=1MO
END:DAYLIGHT
BEGIN:DAYLIGHT
TZNAME:CEMT
TZOFFSETFROM:+0200
TZOFFSETTO:+0300
DTSTART:19450524T020000
RDATE:19470511T030000
END:DAYLIGHT
BEGIN:DAYLIGHT
TZNAME:CEST
TZOFFSETFROM:+0300
TZOFFSETTO:+0200
DTSTART:19450924T030000
RDATE:19470629T030000
END:DAYLIGHT
BEGIN:STANDARD
TZNAME:CET
TZOFFSETFROM:+0100
TZOFFSETTO:+0100
DTSTART:19460101T000000
RDATE:19800101T000000
END:STANDARD
BEGIN:STANDARD
TZNAME:CET
TZOFFSETFROM:+0200
TZOFFSETTO:+0100
DTSTART:19471005T030000
RRULE:FREQ=YEARLY;UNTIL=19491002T010000Z;BYMONTH=10;BYDAY=1SU
END:STANDARD
BEGIN:STANDARD
TZNAME:CET
TZOFFSETFROM:+0200
TZOFFSETTO:+0100
DTSTART:19800928T030000
RRULE:FREQ=YEARLY;UNTIL=19950924T010000Z;BYMONTH=9;BYDAY=-1SU
END:STANDARD
BEGIN:DAYLIGHT
TZNAME:CEST
TZOFFSETFROM:+0100
TZOFFSETTO:+0200
DTSTART:19810329T020000
RRULE:FREQ=YEARLY;BYMONTH=3;BYDAY=-1SU
END:DAYLIGHT
BEGIN:STANDARD
TZNAME:CET
TZOFFSETFROM:+0200
TZOFFSETTO:+0100
DTSTART:19961027T030000
RRULE:FREQ=YEARLY;BYMONTH=10;BYDAY=-1SU
END:STANDARD
END:VTIMEZONE
BEGIN:VEVENT
DTSTAMP:20260424T115001Z
DTSTART;TZID=Europe/Berlin:20251025T163000
DTEND;TZID=Europe/Berlin:20251025T193000
SUMMARY:STTL Men Rapperswil-Jona vs Rio-Star Muttenz (10)
UID:c24b03ef-cb33-4fd7-a30d-b162809f4475
STATUS:CONFIRMED
LAST-MODIFIED:20251030T090015Z
DESCRIPTION:Swiss Table Tennis League Men\nBegegnungs-Nr: 10\nHeim: Rapperswil-Jona\nGast: Rio-Star Muttenz\n\nAdresse: Kreuzstrasse 43\, 8640 Rapperswil\n
LOCATION:Kreuzstrasse 43\, 8640 Rapperswil
CATEGORIES:Saison 2025/26
END:VEVENT
BEGIN:VEVENT
DTSTAMP:20260424T115001Z
DTSTART;TZID=Europe/Berlin:20251026T140000
DTEND;TZID=Europe/Berlin:20251026T170000
SUMMARY:STTL Men Rapperswil-Jona vs Neuhausen (16)
UID:ecc2943a-b163-40c3-93c5-0f392f994882
STATUS:CONFIRMED
LAST-MODIFIED:20251030T090229Z
DESCRIPTION:Swiss Table Tennis League Men\nBegegnungs-Nr: 16\nHeim: Rapperswil-Jona\nGast: Neuhausen\n\nAdresse: Kreuzstrasse 43\, 8640 Rapperswil\n
LOCATION:Kreuzstrasse 43\, 8640 Rapperswil
CATEGORIES:Saison 2025/26
END:VEVENT
BEGIN:VEVENT
DTSTAMP:20260424T115001Z
DTSTART;TZID=Europe/Berlin:20260228T143000
DTEND;TZID=Europe/Berlin:20260228T173000
SUMMARY:STTL Men Rapperswil-Jona vs Lugano (15)
UID:6cf0f407-148d-4acb-a5c4-458748fa8913
STATUS:CONFIRMED
LAST-MODIFIED:20260302T213355Z
DESCRIPTION:Swiss Table Tennis League Men\nBegegnungs-Nr: 15\nHeim: Rapperswil-Jona\nGast: Lugano\n\nAdresse: Kreuzstrasse 43\, 8640 Rapperswil\n
LOCATION:Kreuzstrasse 43\, 8640 Rapperswil
CATEGORIES:Saison 2025/26
END:VEVENT
BEGIN:VEVENT
DTSTAMP:20260424T115001Z
DTSTART;TZID=Europe/Berlin:20260328T150000
DTEND;TZID=Europe/Berlin:20260328T180000
SUMMARY:STTL Men Rapperswil-Jona vs ZZ-Lancy (23)
UID:9803081b-822b-4403-9ad7-cfc245e8020a
STATUS:CONFIRMED
LAST-MODIFIED:20260330T074714Z
DESCRIPTION:Swiss Table Tennis League Men\nBegegnungs-Nr: 23\nHeim: Rapperswil-Jona\nGast: ZZ-Lancy\n\nAdresse: Kreuzstrasse 43\, 8640 Rapperswil\n
LOCATION:Kreuzstrasse 43\, 8640 Rapperswil
CATEGORIES:Saison 2025/26
END:VEVENT
BEGIN:VEVENT
DTSTAMP:20260424T115001Z
DTSTART;TZID=Europe/Berlin:20260329T140000
DTEND;TZID=Europe/Berlin:20260329T170000
SUMMARY:STTL Men Rapperswil-Jona vs Carouge (27)
UID:71b4e4bd-64db-4d5e-86ac-e7269192f691
STATUS:CONFIRMED
LAST-MODIFIED:20260330T075343Z
DESCRIPTION:Swiss Table Tennis League Men\nBegegnungs-Nr: 27\nHeim: Rapperswil-Jona\nGast: Carouge\n\nAdresse: Kreuzstrasse 43\, 8640 Rapperswil\n
LOCATION:Kreuzstrasse 43\, 8640 Rapperswil
CATEGORIES:Saison 2025/26
END:VEVENT
BEGIN:VEVENT
DTSTAMP:20260424T115001Z
DTSTART;TZID=Europe/Berlin:20251214T120000
DTEND;TZID=Europe/Berlin:20251214T150000
SUMMARY:STTL Men Rapperswil-Jona vs Young Stars ZH (1)
UID:d67fb562-89c6-45fe-8b9f-18e41ee963f3
STATUS:CONFIRMED
LAST-MODIFIED:20251216T083331Z
DESCRIPTION:Swiss Table Tennis League Men\nBegegnungs-Nr: 1\nHeim: Rapperswil-Jona\nGast: Young Stars ZH\n\nAdresse: Kreuzstrasse 43\, 8640 Rapperswil\n
LOCATION:Kreuzstrasse 43\, 8640 Rapperswil
CATEGORIES:Saison 2025/26
END:VEVENT
BEGIN:VEVENT
DTSTAMP:20260424T115001Z
DTSTART;TZID=Europe/Berlin:20260425T150000
DTEND;TZID=Europe/Berlin:20260425T180000
SUMMARY:STTL Men Play-Out Rapperswil-Jona vs Neuhausen (1)
UID:b4b6438e-d02d-4f01-8cbf-9528a6181228
STATUS:CONFIRMED
DESCRIPTION:Swiss Table Tennis League Men Play-Out\nBegegnungs-Nr: 1\nHeim: Rapperswil-Jona\nGast: Neuhausen\n\nAdresse: Kreuzstrasse 43\, 8640 Rapperswil\n
LOCATION:Kreuzstrasse 43\, 8640 Rapperswil
CATEGORIES:Saison 2025/26
END:VEVENT
BEGIN:VEVENT
DTSTAMP:20260424T115001Z
DTSTART;TZID=Europe/Berlin:20251012T140000
DTEND;TZID=Europe/Berlin:20251012T170000
SUMMARY:STTL Men Lugano vs Rapperswil-Jona (7)
UID:7d652498-8c3f-4cc5-9f79-42c36903ba69
STATUS:CONFIRMED
LAST-MODIFIED:20251016T145218Z
DESCRIPTION:Swiss Table Tennis League Men\nBegegnungs-Nr: 7\nHeim: Lugano\nGast: Rapperswil-Jona\n\nAdresse: Via del Tiglio\, 6908 Cassarate\n
LOCATION:Via del Tiglio\, 6908 Cassarate
CATEGORIES:Saison 2025/26
END:VEVENT
BEGIN:VEVENT
DTSTAMP:20260424T115001Z
DTSTART;TZID=Europe/Berlin:20251115T150000
DTEND;TZID=Europe/Berlin:20251115T180000
SUMMARY:STTL Men ZZ-Lancy vs Rapperswil-Jona (19)
UID:80cb583f-fa9a-4117-9c24-a376c094da68
STATUS:CONFIRMED
LAST-MODIFIED:20251117T125934Z
DESCRIPTION:Swiss Table Tennis League Men\nBegegnungs-Nr: 19\nHeim: ZZ-Lancy\nGast: Rapperswil-Jona\n\nAdresse: Avenue du Curé-Baud 40\, 1212 Grand-Lancy\n
LOCATION:Avenue du Curé-Baud 40\, 1212 Grand-Lancy
CATEGORIES:Saison 2025/26
END:VEVENT
BEGIN:VEVENT
DTSTAMP:20260424T115001Z
DTSTART;TZID=Europe/Berlin:20251116T143000
DTEND;TZID=Europe/Berlin:20251116T173000
SUMMARY:STTL Men Carouge vs Rapperswil-Jona (23)
UID:abdb38bb-c367-4a5c-8083-f03b8ffc481e
STATUS:CONFIRMED
LAST-MODIFIED:20251117T134008Z
DESCRIPTION:Swiss Table Tennis League Men\nBegegnungs-Nr: 23\nHeim: Carouge\nGast: Rapperswil-Jona\n\nAdresse: Route de Veyrier 44\, 1227 Carouge GE\n
LOCATION:Route de Veyrier 44\, 1227 Carouge GE
CATEGORIES:Saison 2025/26
END:VEVENT
BEGIN:VEVENT
DTSTAMP:20260424T115001Z
DTSTART;TZID=Europe/Berlin:20251213T163000
DTEND;TZID=Europe/Berlin:20251213T193000
SUMMARY:STTL Men Young Stars ZH vs Rapperswil-Jona (25)
UID:d5b8c567-2e2e-4928-86c7-d3fb03572dd6
STATUS:CONFIRMED
LAST-MODIFIED:20251216T083312Z
DESCRIPTION:Swiss Table Tennis League Men\nBegegnungs-Nr: 25\nHeim: Young Stars ZH\nGast: Rapperswil-Jona\n\nAdresse: Seefeldstrasse 93\, 8008 Zürich\n
LOCATION:Seefeldstrasse 93\, 8008 Zürich
CATEGORIES:Saison 2025/26
END:VEVENT
BEGIN:VEVENT
DTSTAMP:20260424T115001Z
DTSTART;TZID=Europe/Berlin:20260110T133000
DTEND;TZID=Europe/Berlin:20260110T163000
SUMMARY:STTL Men Rio-Star Muttenz vs Rapperswil-Jona (6)
UID:ff32e249-04b6-4935-bad0-7b6cffbfb2b0
STATUS:CONFIRMED
LAST-MODIFIED:20260112T202052Z
DESCRIPTION:Swiss Table Tennis League Men\nBegegnungs-Nr: 6\nHeim: Rio-Star Muttenz\nGast: Rapperswil-Jona\n\nAdresse: Gründenstrasse 32\, 4132 Muttenz\n
LOCATION:Gründenstrasse 32\, 4132 Muttenz
CATEGORIES:Saison 2025/26
END:VEVENT
BEGIN:VEVENT
DTSTAMP:20260424T115001Z
DTSTART;TZID=Europe/Berlin:20260111T140000
DTEND;TZID=Europe/Berlin:20260111T170000
SUMMARY:STTL Men Neuhausen vs Rapperswil-Jona (12)
UID:8f7fe850-a789-41d7-ba0d-271dd60aac88
STATUS:CONFIRMED
LAST-MODIFIED:20260112T202221Z
DESCRIPTION:Swiss Table Tennis League Men\nBegegnungs-Nr: 12\nHeim: Neuhausen\nGast: Rapperswil-Jona\n\nAdresse: Ebnatstrasse 35\, 8200 Schaffhausen\n
LOCATION:Ebnatstrasse 35\, 8200 Schaffhausen
CATEGORIES:Saison 2025/26
END:VEVENT
BEGIN:VEVENT
DTSTAMP:20260424T115001Z
DTSTART;TZID=Europe/Berlin:20260426T140000
DTEND;TZID=Europe/Berlin:20260426T170000
SUMMARY:STTL Men Play-Out Neuhausen vs Rapperswil-Jona (1)
UID:6f79147a-235f-47e8-a16b-82d8f8343149
STATUS:CONFIRMED
DESCRIPTION:Swiss Table Tennis League Men Play-Out\nBegegnungs-Nr: 1\nHeim: Neuhausen\nGast: Rapperswil-Jona\n\nAdresse: Ebnatstrasse 35\, 8200 Schaffhausen\n
LOCATION:Ebnatstrasse 35\, 8200 Schaffhausen
CATEGORIES:Saison 2025/26
END:VEVENT
BEGIN:VEVENT
DTSTAMP:20260424T115001Z
DTSTART;TZID=Europe/Berlin:20260510T170000
DTEND;TZID=Europe/Berlin:20260510T200000
SUMMARY:STTL Men Play-Out Neuhausen vs Rapperswil-Jona (1)
UID:ab808ca2-4a4b-45a9-90e1-b3a26b52bc86
STATUS:CONFIRMED
DESCRIPTION:Swiss Table Tennis League Men Play-Out\nBegegnungs-Nr: 1\nHeim: Neuhausen\nGast: Rapperswil-Jona\n\nAdresse: Ebnatstrasse 35\, 8200 Schaffhausen\n
LOCATION:Ebnatstrasse 35\, 8200 Schaffhausen
CATEGORIES:Saison 2025/26
END:VEVENT
END:VCALENDAR
