BEGIN:VCALENDAR
PRODID:-//nuDatenautomaten//framework iCal4j //DE
VERSION:2.0
CALSCALE:GREGORIAN
BEGIN:VTIMEZONE
TZID:Europe/Berlin
LAST-MODIFIED:20260306T231828Z
TZURL:https://www.tzurl.org/zoneinfo/Europe/Berlin
X-LIC-LOCATION:Europe/Berlin
X-PROLEPTIC-TZNAME:LMT
BEGIN:STANDARD
TZNAME:CET
TZOFFSETFROM:+005328
TZOFFSETTO:+0100
DTSTART:18930401T000000
END:STANDARD
BEGIN:DAYLIGHT
TZNAME:CEST
TZOFFSETFROM:+0100
TZOFFSETTO:+0200
DTSTART:19160430T230000
RDATE:19400401T020000
RDATE:19430329T020000
RDATE:19460414T020000
RDATE:19470406T030000
RDATE:19480418T020000
RDATE:19490410T020000
RDATE:19800406T020000
END:DAYLIGHT
BEGIN:STANDARD
TZNAME:CET
TZOFFSETFROM:+0200
TZOFFSETTO:+0100
DTSTART:19161001T010000
RDATE:19421102T030000
RDATE:19431004T030000
RDATE:19441002T030000
RDATE:19451118T030000
RDATE:19461007T030000
END:STANDARD
BEGIN:DAYLIGHT
TZNAME:CEST
TZOFFSETFROM:+0100
TZOFFSETTO:+0200
DTSTART:19170416T020000
RRULE:FREQ=YEARLY;UNTIL=19180415T010000Z;BYMONTH=4;BYDAY=3MO
END:DAYLIGHT
BEGIN:STANDARD
TZNAME:CET
TZOFFSETFROM:+0200
TZOFFSETTO:+0100
DTSTART:19170917T030000
RRULE:FREQ=YEARLY;UNTIL=19180916T010000Z;BYMONTH=9;BYDAY=3MO
END:STANDARD
BEGIN:DAYLIGHT
TZNAME:CEST
TZOFFSETFROM:+0100
TZOFFSETTO:+0200
DTSTART:19440403T020000
RRULE:FREQ=YEARLY;UNTIL=19450402T010000Z;BYMONTH=4;BYDAY=1MO
END:DAYLIGHT
BEGIN:DAYLIGHT
TZNAME:CEMT
TZOFFSETFROM:+0200
TZOFFSETTO:+0300
DTSTART:19450524T020000
RDATE:19470511T030000
END:DAYLIGHT
BEGIN:DAYLIGHT
TZNAME:CEST
TZOFFSETFROM:+0300
TZOFFSETTO:+0200
DTSTART:19450924T030000
RDATE:19470629T030000
END:DAYLIGHT
BEGIN:STANDARD
TZNAME:CET
TZOFFSETFROM:+0100
TZOFFSETTO:+0100
DTSTART:19460101T000000
RDATE:19800101T000000
END:STANDARD
BEGIN:STANDARD
TZNAME:CET
TZOFFSETFROM:+0200
TZOFFSETTO:+0100
DTSTART:19471005T030000
RRULE:FREQ=YEARLY;UNTIL=19491002T010000Z;BYMONTH=10;BYDAY=1SU
END:STANDARD
BEGIN:STANDARD
TZNAME:CET
TZOFFSETFROM:+0200
TZOFFSETTO:+0100
DTSTART:19800928T030000
RRULE:FREQ=YEARLY;UNTIL=19950924T010000Z;BYMONTH=9;BYDAY=-1SU
END:STANDARD
BEGIN:DAYLIGHT
TZNAME:CEST
TZOFFSETFROM:+0100
TZOFFSETTO:+0200
DTSTART:19810329T020000
RRULE:FREQ=YEARLY;BYMONTH=3;BYDAY=-1SU
END:DAYLIGHT
BEGIN:STANDARD
TZNAME:CET
TZOFFSETFROM:+0200
TZOFFSETTO:+0100
DTSTART:19961027T030000
RRULE:FREQ=YEARLY;BYMONTH=10;BYDAY=-1SU
END:STANDARD
END:VTIMEZONE
BEGIN:VEVENT
DTSTAMP:20260424T005500Z
DTSTART;TZID=Europe/Berlin:20250830T160000
DTEND;TZID=Europe/Berlin:20250830T190000
SUMMARY:JUG\, 2.Li\, Gr.2\, VR Young Stars ZH II vs Uster II (6)
UID:e8fbb34d-a7c1-474f-9964-e38b93c10f54
STATUS:CONFIRMED
LAST-MODIFIED:20250902T094630Z
DESCRIPTION:Jugend\, 2. Liga\, Gruppe 2\, Vorrunde\nBegegnungs-Nr: 6\nHeim: Young Stars ZH II\nGast: Uster II\n\nAdresse: Balgriststrasse 55\, 8008 Zürich\n
LOCATION:Balgriststrasse 55\, 8008 Zürich
CATEGORIES:Saison 2025/26
END:VEVENT
BEGIN:VEVENT
DTSTAMP:20260424T005500Z
DTSTART;TZID=Europe/Berlin:20251115T143000
DTEND;TZID=Europe/Berlin:20251115T173000
SUMMARY:JUG\, 2.Li\, Gr.2\, ZR Young Stars ZH II vs Winterthur (3)
UID:0e65ee03-b575-43bc-a140-b97037141c8d
STATUS:CONFIRMED
LAST-MODIFIED:20251121T095402Z
DESCRIPTION:Jugend\, 2. Liga\, Gruppe 2\, Zwischenrunde\nBegegnungs-Nr: 3\nHeim: Young Stars ZH II\nGast: Winterthur\n\nAdresse: Balgriststrasse 55\, 8008 Zürich\n
LOCATION:Balgriststrasse 55\, 8008 Zürich
CATEGORIES:Saison 2025/26
END:VEVENT
BEGIN:VEVENT
DTSTAMP:20260424T005500Z
DTSTART;TZID=Europe/Berlin:20260328T143000
DTEND;TZID=Europe/Berlin:20260328T173000
SUMMARY:JUG\, 2.Li\, Gr.2\, Final Young Stars ZH II vs Wil SG (4)
UID:358af811-bb5e-4975-a6c4-e233ae2e1584
STATUS:CONFIRMED
LAST-MODIFIED:20260401T133857Z
DESCRIPTION:Jugend\, 2. Liga\, Gruppe 2\, Final\nBegegnungs-Nr: 4\nHeim: Young Stars ZH II\nGast: Wil SG\n\nAdresse: Balgriststrasse 55\, 8008 Zürich\n
LOCATION:Balgriststrasse 55\, 8008 Zürich
CATEGORIES:Saison 2025/26
END:VEVENT
BEGIN:VEVENT
DTSTAMP:20260424T005500Z
DTSTART;TZID=Europe/Berlin:20260328T130000
DTEND;TZID=Europe/Berlin:20260328T160000
SUMMARY:JUG\, 2.Li\, Gr.2\, Final Young Stars ZH II vs Weinfelden (1)
UID:de2b2c45-da66-42ef-894f-51a16b30f1c2
STATUS:CONFIRMED
LAST-MODIFIED:20260401T133724Z
DESCRIPTION:Jugend\, 2. Liga\, Gruppe 2\, Final\nBegegnungs-Nr: 1\nHeim: Young Stars ZH II\nGast: Weinfelden\nHalle: Poule in Zürich\, TH Balgrist\nAdresse: Balgriststrasse 55\, 8008 Zürich\n
LOCATION:Poule in Zürich\, TH Balgrist Balgriststrasse 55\, 8008 Zürich
CATEGORIES:Saison 2025/26
END:VEVENT
BEGIN:VEVENT
DTSTAMP:20260424T005500Z
DTSTART;TZID=Europe/Berlin:20250830T130000
DTEND;TZID=Europe/Berlin:20250830T160000
SUMMARY:JUG\, 2.Li\, Gr.2\, VR Wädenswil vs Young Stars ZH II (2)
UID:2c27561f-800f-42b3-ab39-fa9555688946
STATUS:CONFIRMED
LAST-MODIFIED:20250902T094533Z
DESCRIPTION:Jugend\, 2. Liga\, Gruppe 2\, Vorrunde\nBegegnungs-Nr: 2\nHeim: Wädenswil\nGast: Young Stars ZH II\n\nAdresse: Fuhrstrasse 16b\, 8820 Wädenswil\n
LOCATION:Fuhrstrasse 16b\, 8820 Wädenswil
CATEGORIES:Saison 2025/26
END:VEVENT
BEGIN:VEVENT
DTSTAMP:20260424T005500Z
DTSTART;TZID=Europe/Berlin:20250830T143000
DTEND;TZID=Europe/Berlin:20250830T173000
SUMMARY:JUG\, 2.Li\, Gr.2\, VR Rapperswil-Jona vs Young Stars ZH II (3)
UID:fd5c90ce-7451-4670-ab08-5dbbeafe26d2
STATUS:CONFIRMED
LAST-MODIFIED:20250902T094552Z
DESCRIPTION:Jugend\, 2. Liga\, Gruppe 2\, Vorrunde\nBegegnungs-Nr: 3\nHeim: Rapperswil-Jona\nGast: Young Stars ZH II\n\nAdresse: Kreuzstrasse 43\, 8640 Rapperswil\n
LOCATION:Kreuzstrasse 43\, 8640 Rapperswil
CATEGORIES:Saison 2025/26
END:VEVENT
BEGIN:VEVENT
DTSTAMP:20260424T005500Z
DTSTART;TZID=Europe/Berlin:20251115T160000
DTEND;TZID=Europe/Berlin:20251115T190000
SUMMARY:JUG\, 2.Li\, Gr.2\, ZR St. Gallen II vs Young Stars ZH II (5)
UID:681d3c94-0855-4232-bea1-4f9ba33c19fb
STATUS:CONFIRMED
LAST-MODIFIED:20251124T150611Z
DESCRIPTION:Jugend\, 2. Liga\, Gruppe 2\, Zwischenrunde\nBegegnungs-Nr: 5\nHeim: St. Gallen II\nGast: Young Stars ZH II\n\nAdresse: Zilstrasse 61\, 9016 St.Gallen\n
LOCATION:Zilstrasse 61\, 9016 St.Gallen
CATEGORIES:Saison 2025/26
END:VEVENT
BEGIN:VEVENT
DTSTAMP:20260424T005500Z
DTSTART;TZID=Europe/Berlin:20251115T130000
DTEND;TZID=Europe/Berlin:20251115T160000
SUMMARY:JUG\, 2.Li\, Gr.2\, ZR Affoltern A/A II vs Young Stars ZH II (1)
UID:99f4ce4a-0938-4c8e-99e3-32b5e1ee3ef9
STATUS:CONFIRMED
LAST-MODIFIED:20251121T095342Z
DESCRIPTION:Jugend\, 2. Liga\, Gruppe 2\, Zwischenrunde\nBegegnungs-Nr: 1\nHeim: Affoltern A/A II\nGast: Young Stars ZH II\nHalle: Poule in Affoltern a.A.\, Unteres Butzen\nAdresse: Butzenstrasse 8\, 8910 Affoltern am Albis\n
LOCATION:Poule in Affoltern a.A.\, Unteres Butzen Butzenstrasse 8\, 8910 Affoltern am Albis
CATEGORIES:Saison 2025/26
END:VEVENT
BEGIN:VEVENT
DTSTAMP:20260424T005500Z
DTSTART;TZID=Europe/Berlin:20260328T160000
DTEND;TZID=Europe/Berlin:20260328T190000
SUMMARY:JUG\, 2.Li\, Gr.2\, Final Neuhausen II vs Young Stars ZH II (6)
UID:ac82bb7b-35eb-41f5-bf4a-79485dfc8dc2
STATUS:CONFIRMED
LAST-MODIFIED:20260401T133932Z
DESCRIPTION:Jugend\, 2. Liga\, Gruppe 2\, Final\nBegegnungs-Nr: 6\nHeim: Neuhausen II\nGast: Young Stars ZH II\n\nAdresse: Ebnatstrasse 35\, 8200 Schaffhausen\n
LOCATION:Ebnatstrasse 35\, 8200 Schaffhausen
CATEGORIES:Saison 2025/26
END:VEVENT
END:VCALENDAR
