BEGIN:VCALENDAR
PRODID:-//nuDatenautomaten//framework iCal4j //DE
VERSION:2.0
CALSCALE:GREGORIAN
BEGIN:VTIMEZONE
TZID:Europe/Berlin
LAST-MODIFIED:20260306T231828Z
TZURL:https://www.tzurl.org/zoneinfo/Europe/Berlin
X-LIC-LOCATION:Europe/Berlin
X-PROLEPTIC-TZNAME:LMT
BEGIN:STANDARD
TZNAME:CET
TZOFFSETFROM:+005328
TZOFFSETTO:+0100
DTSTART:18930401T000000
END:STANDARD
BEGIN:DAYLIGHT
TZNAME:CEST
TZOFFSETFROM:+0100
TZOFFSETTO:+0200
DTSTART:19160430T230000
RDATE:19400401T020000
RDATE:19430329T020000
RDATE:19460414T020000
RDATE:19470406T030000
RDATE:19480418T020000
RDATE:19490410T020000
RDATE:19800406T020000
END:DAYLIGHT
BEGIN:STANDARD
TZNAME:CET
TZOFFSETFROM:+0200
TZOFFSETTO:+0100
DTSTART:19161001T010000
RDATE:19421102T030000
RDATE:19431004T030000
RDATE:19441002T030000
RDATE:19451118T030000
RDATE:19461007T030000
END:STANDARD
BEGIN:DAYLIGHT
TZNAME:CEST
TZOFFSETFROM:+0100
TZOFFSETTO:+0200
DTSTART:19170416T020000
RRULE:FREQ=YEARLY;UNTIL=19180415T010000Z;BYMONTH=4;BYDAY=3MO
END:DAYLIGHT
BEGIN:STANDARD
TZNAME:CET
TZOFFSETFROM:+0200
TZOFFSETTO:+0100
DTSTART:19170917T030000
RRULE:FREQ=YEARLY;UNTIL=19180916T010000Z;BYMONTH=9;BYDAY=3MO
END:STANDARD
BEGIN:DAYLIGHT
TZNAME:CEST
TZOFFSETFROM:+0100
TZOFFSETTO:+0200
DTSTART:19440403T020000
RRULE:FREQ=YEARLY;UNTIL=19450402T010000Z;BYMONTH=4;BYDAY=1MO
END:DAYLIGHT
BEGIN:DAYLIGHT
TZNAME:CEMT
TZOFFSETFROM:+0200
TZOFFSETTO:+0300
DTSTART:19450524T020000
RDATE:19470511T030000
END:DAYLIGHT
BEGIN:DAYLIGHT
TZNAME:CEST
TZOFFSETFROM:+0300
TZOFFSETTO:+0200
DTSTART:19450924T030000
RDATE:19470629T030000
END:DAYLIGHT
BEGIN:STANDARD
TZNAME:CET
TZOFFSETFROM:+0100
TZOFFSETTO:+0100
DTSTART:19460101T000000
RDATE:19800101T000000
END:STANDARD
BEGIN:STANDARD
TZNAME:CET
TZOFFSETFROM:+0200
TZOFFSETTO:+0100
DTSTART:19471005T030000
RRULE:FREQ=YEARLY;UNTIL=19491002T010000Z;BYMONTH=10;BYDAY=1SU
END:STANDARD
BEGIN:STANDARD
TZNAME:CET
TZOFFSETFROM:+0200
TZOFFSETTO:+0100
DTSTART:19800928T030000
RRULE:FREQ=YEARLY;UNTIL=19950924T010000Z;BYMONTH=9;BYDAY=-1SU
END:STANDARD
BEGIN:DAYLIGHT
TZNAME:CEST
TZOFFSETFROM:+0100
TZOFFSETTO:+0200
DTSTART:19810329T020000
RRULE:FREQ=YEARLY;BYMONTH=3;BYDAY=-1SU
END:DAYLIGHT
BEGIN:STANDARD
TZNAME:CET
TZOFFSETFROM:+0200
TZOFFSETTO:+0100
DTSTART:19961027T030000
RRULE:FREQ=YEARLY;BYMONTH=10;BYDAY=-1SU
END:STANDARD
END:VTIMEZONE
BEGIN:VEVENT
DTSTAMP:20260424T082636Z
DTSTART;TZID=Europe/Berlin:20260119T200000
DTEND;TZID=Europe/Berlin:20260119T230000
SUMMARY:HE 4. Liga Gr. 8 Wolfhalden vs Chur V (0)
UID:074d9583-b3d8-40a6-930e-f1774b66c586
STATUS:CONFIRMED
LAST-MODIFIED:20260120T153622Z
DESCRIPTION:4. Liga Herren Gruppe 8\nBegegnungs-Nr: 0\nHeim: Wolfhalden\nGast: Chur V\n\nAdresse: -\, 9427 Wolfhalden\n
LOCATION:-\, 9427 Wolfhalden
CATEGORIES:Saison 2025/26
END:VEVENT
BEGIN:VEVENT
DTSTAMP:20260424T082636Z
DTSTART;TZID=Europe/Berlin:20260302T200000
DTEND;TZID=Europe/Berlin:20260302T230000
SUMMARY:HE 4. Liga Gr. 8 Wolfhalden vs Oberriet II (0)
UID:c8567c45-21aa-46f0-a56f-b2c2e1c6fe72
STATUS:CONFIRMED
LAST-MODIFIED:20260303T132551Z
DESCRIPTION:4. Liga Herren Gruppe 8\nBegegnungs-Nr: 0\nHeim: Wolfhalden\nGast: Oberriet II\n\nAdresse: -\, 9427 Wolfhalden\n
LOCATION:-\, 9427 Wolfhalden
CATEGORIES:Saison 2025/26
END:VEVENT
BEGIN:VEVENT
DTSTAMP:20260424T082636Z
DTSTART;TZID=Europe/Berlin:20260323T200000
DTEND;TZID=Europe/Berlin:20260323T230000
SUMMARY:HE 4. Liga Gr. 8 Wolfhalden vs Flums III (0)
UID:bfb48b08-df8d-4724-9a43-e2878918689b
STATUS:CONFIRMED
LAST-MODIFIED:20260326T152801Z
DESCRIPTION:4. Liga Herren Gruppe 8\nBegegnungs-Nr: 0\nHeim: Wolfhalden\nGast: Flums III\n\nAdresse: -\, 9427 Wolfhalden\n
LOCATION:-\, 9427 Wolfhalden
CATEGORIES:Saison 2025/26
END:VEVENT
BEGIN:VEVENT
DTSTAMP:20260424T082636Z
DTSTART;TZID=Europe/Berlin:20260330T200000
DTEND;TZID=Europe/Berlin:20260330T230000
SUMMARY:HE 4. Liga Gr. 8 Wolfhalden vs Chur IV (0)
UID:7befbf0d-2732-42d2-ad9a-80806d512951
STATUS:CONFIRMED
LAST-MODIFIED:20260401T124037Z
DESCRIPTION:4. Liga Herren Gruppe 8\nBegegnungs-Nr: 0\nHeim: Wolfhalden\nGast: Chur IV\n\nAdresse: -\, 9427 Wolfhalden\n
LOCATION:-\, 9427 Wolfhalden
CATEGORIES:Saison 2025/26
END:VEVENT
BEGIN:VEVENT
DTSTAMP:20260424T082636Z
DTSTART;TZID=Europe/Berlin:20250825T200000
DTEND;TZID=Europe/Berlin:20250825T230000
SUMMARY:HE 4. Liga Gr. 8 Wolfhalden vs Ruggell (0)
UID:4d3080c1-88e4-4e3d-b97e-bc19db105f8f
STATUS:CONFIRMED
LAST-MODIFIED:20250826T112008Z
DESCRIPTION:4. Liga Herren Gruppe 8\nBegegnungs-Nr: 0\nHeim: Wolfhalden\nGast: Ruggell\n\nAdresse: -\, 9427 Wolfhalden\n
LOCATION:-\, 9427 Wolfhalden
CATEGORIES:Saison 2025/26
END:VEVENT
BEGIN:VEVENT
DTSTAMP:20260424T082636Z
DTSTART;TZID=Europe/Berlin:20250915T200000
DTEND;TZID=Europe/Berlin:20250915T230000
SUMMARY:HE 4. Liga Gr. 8 Wolfhalden vs Wolfhalden II (0)
UID:55d4082b-87d9-41cb-a73e-1d1954ed043c
STATUS:CONFIRMED
LAST-MODIFIED:20250916T092602Z
DESCRIPTION:4. Liga Herren Gruppe 8\nBegegnungs-Nr: 0\nHeim: Wolfhalden\nGast: Wolfhalden II\n\nAdresse: -\, 9427 Wolfhalden\n
LOCATION:-\, 9427 Wolfhalden
CATEGORIES:Saison 2025/26
END:VEVENT
BEGIN:VEVENT
DTSTAMP:20260424T082636Z
DTSTART;TZID=Europe/Berlin:20251027T200000
DTEND;TZID=Europe/Berlin:20251027T230000
SUMMARY:HE 4. Liga Gr. 8 Wolfhalden vs Triesen III (0)
UID:88a58e25-e28a-48bf-a904-e70b0317e129
STATUS:CONFIRMED
LAST-MODIFIED:20251031T143810Z
DESCRIPTION:4. Liga Herren Gruppe 8\nBegegnungs-Nr: 0\nHeim: Wolfhalden\nGast: Triesen III\n\nAdresse: -\, 9427 Wolfhalden\n
LOCATION:-\, 9427 Wolfhalden
CATEGORIES:Saison 2025/26
END:VEVENT
BEGIN:VEVENT
DTSTAMP:20260424T082636Z
DTSTART;TZID=Europe/Berlin:20260108T200000
DTEND;TZID=Europe/Berlin:20260108T230000
SUMMARY:HE 4. Liga Gr. 8 Ruggell vs Wolfhalden (0)
UID:7e4fedbe-bd90-4307-9274-b1e770d17cc6
STATUS:CONFIRMED
LAST-MODIFIED:20260109T075705Z
DESCRIPTION:4. Liga Herren Gruppe 8\nBegegnungs-Nr: 0\nHeim: Ruggell\nGast: Wolfhalden\n\nAdresse: Nellengasse 40\, 9491 Ruggell\n
LOCATION:Nellengasse 40\, 9491 Ruggell
CATEGORIES:Saison 2025/26
END:VEVENT
BEGIN:VEVENT
DTSTAMP:20260424T082636Z
DTSTART;TZID=Europe/Berlin:20260126T200000
DTEND;TZID=Europe/Berlin:20260126T230000
SUMMARY:HE 4. Liga Gr. 8 Wolfhalden II vs Wolfhalden (0)
UID:783230f2-a3ba-4e6d-a18d-096cc9fedae6
STATUS:CONFIRMED
LAST-MODIFIED:20260127T155430Z
DESCRIPTION:4. Liga Herren Gruppe 8\nBegegnungs-Nr: 0\nHeim: Wolfhalden II\nGast: Wolfhalden\n\nAdresse: -\, 9427 Wolfhalden\n
LOCATION:-\, 9427 Wolfhalden
CATEGORIES:Saison 2025/26
END:VEVENT
BEGIN:VEVENT
DTSTAMP:20260424T082636Z
DTSTART;TZID=Europe/Berlin:20260313T194500
DTEND;TZID=Europe/Berlin:20260313T224500
SUMMARY:HE 4. Liga Gr. 8 Triesen III vs Wolfhalden (0)
UID:ac8018e5-8d7a-4b9c-97ff-728fe80ab31f
STATUS:CONFIRMED
LAST-MODIFIED:20260317T135634Z
DESCRIPTION:4. Liga Herren Gruppe 8\nBegegnungs-Nr: 0\nHeim: Triesen III\nGast: Wolfhalden\n\nAdresse: Gässle 12\, 9495 Triesen\n
LOCATION:Gässle 12\, 9495 Triesen
CATEGORIES:Saison 2025/26
END:VEVENT
BEGIN:VEVENT
DTSTAMP:20260424T082636Z
DTSTART;TZID=Europe/Berlin:20250904T200000
DTEND;TZID=Europe/Berlin:20250904T230000
SUMMARY:HE 4. Liga Gr. 8 Chur V vs Wolfhalden (0)
UID:dfeccd73-370a-47a8-89d7-1e7ba9a42eec
STATUS:CONFIRMED
LAST-MODIFIED:20250908T140533Z
DESCRIPTION:4. Liga Herren Gruppe 8\nBegegnungs-Nr: 0\nHeim: Chur V\nGast: Wolfhalden\n\nAdresse: Sandstr. 35\, 7000 Chur\n
LOCATION:Sandstr. 35\, 7000 Chur
CATEGORIES:Saison 2025/26
END:VEVENT
BEGIN:VEVENT
DTSTAMP:20260424T082636Z
DTSTART;TZID=Europe/Berlin:20250924T201500
DTEND;TZID=Europe/Berlin:20250924T231500
SUMMARY:HE 4. Liga Gr. 8 Oberriet II vs Wolfhalden (0)
UID:2851cbd8-8728-433d-8505-8c7fdd7571ff
STATUS:CONFIRMED
LAST-MODIFIED:20250926T131859Z
DESCRIPTION:4. Liga Herren Gruppe 8\nBegegnungs-Nr: 0\nHeim: Oberriet II\nGast: Wolfhalden\n\nAdresse: Neugutstrasse 2\, 9463 Oberriet SG\n
LOCATION:Neugutstrasse 2\, 9463 Oberriet SG
CATEGORIES:Saison 2025/26
END:VEVENT
BEGIN:VEVENT
DTSTAMP:20260424T082636Z
DTSTART;TZID=Europe/Berlin:20251210T201500
DTEND;TZID=Europe/Berlin:20251210T231500
SUMMARY:HE 4. Liga Gr. 8 Flums III vs Wolfhalden (0)
UID:90b23639-2a10-4a4c-bba3-9d327bfd860c
STATUS:CONFIRMED
LAST-MODIFIED:20251211T142320Z
DESCRIPTION:4. Liga Herren Gruppe 8\nBegegnungs-Nr: 0\nHeim: Flums III\nGast: Wolfhalden\n\nAdresse: Bahnhofstrasse 23\, 8890 Flums\n
LOCATION:Bahnhofstrasse 23\, 8890 Flums
CATEGORIES:Saison 2025/26
END:VEVENT
BEGIN:VEVENT
DTSTAMP:20260424T082636Z
DTSTART;TZID=Europe/Berlin:20251204T200000
DTEND;TZID=Europe/Berlin:20251204T230000
SUMMARY:HE 4. Liga Gr. 8 Chur IV vs Wolfhalden (0)
UID:de710ff0-aedf-4168-8631-d41a7358bad0
STATUS:CONFIRMED
LAST-MODIFIED:20251205T130554Z
DESCRIPTION:4. Liga Herren Gruppe 8\nBegegnungs-Nr: 0\nHeim: Chur IV\nGast: Wolfhalden\n\nAdresse: Sandstr. 35\, 7000 Chur\n
LOCATION:Sandstr. 35\, 7000 Chur
CATEGORIES:Saison 2025/26
END:VEVENT
END:VCALENDAR
