BEGIN:VCALENDAR
PRODID:-//nuDatenautomaten//framework iCal4j //DE
VERSION:2.0
CALSCALE:GREGORIAN
BEGIN:VTIMEZONE
TZID:Europe/Berlin
LAST-MODIFIED:20260306T231828Z
TZURL:https://www.tzurl.org/zoneinfo/Europe/Berlin
X-LIC-LOCATION:Europe/Berlin
X-PROLEPTIC-TZNAME:LMT
BEGIN:STANDARD
TZNAME:CET
TZOFFSETFROM:+005328
TZOFFSETTO:+0100
DTSTART:18930401T000000
END:STANDARD
BEGIN:DAYLIGHT
TZNAME:CEST
TZOFFSETFROM:+0100
TZOFFSETTO:+0200
DTSTART:19160430T230000
RDATE:19400401T020000
RDATE:19430329T020000
RDATE:19460414T020000
RDATE:19470406T030000
RDATE:19480418T020000
RDATE:19490410T020000
RDATE:19800406T020000
END:DAYLIGHT
BEGIN:STANDARD
TZNAME:CET
TZOFFSETFROM:+0200
TZOFFSETTO:+0100
DTSTART:19161001T010000
RDATE:19421102T030000
RDATE:19431004T030000
RDATE:19441002T030000
RDATE:19451118T030000
RDATE:19461007T030000
END:STANDARD
BEGIN:DAYLIGHT
TZNAME:CEST
TZOFFSETFROM:+0100
TZOFFSETTO:+0200
DTSTART:19170416T020000
RRULE:FREQ=YEARLY;UNTIL=19180415T010000Z;BYMONTH=4;BYDAY=3MO
END:DAYLIGHT
BEGIN:STANDARD
TZNAME:CET
TZOFFSETFROM:+0200
TZOFFSETTO:+0100
DTSTART:19170917T030000
RRULE:FREQ=YEARLY;UNTIL=19180916T010000Z;BYMONTH=9;BYDAY=3MO
END:STANDARD
BEGIN:DAYLIGHT
TZNAME:CEST
TZOFFSETFROM:+0100
TZOFFSETTO:+0200
DTSTART:19440403T020000
RRULE:FREQ=YEARLY;UNTIL=19450402T010000Z;BYMONTH=4;BYDAY=1MO
END:DAYLIGHT
BEGIN:DAYLIGHT
TZNAME:CEMT
TZOFFSETFROM:+0200
TZOFFSETTO:+0300
DTSTART:19450524T020000
RDATE:19470511T030000
END:DAYLIGHT
BEGIN:DAYLIGHT
TZNAME:CEST
TZOFFSETFROM:+0300
TZOFFSETTO:+0200
DTSTART:19450924T030000
RDATE:19470629T030000
END:DAYLIGHT
BEGIN:STANDARD
TZNAME:CET
TZOFFSETFROM:+0100
TZOFFSETTO:+0100
DTSTART:19460101T000000
RDATE:19800101T000000
END:STANDARD
BEGIN:STANDARD
TZNAME:CET
TZOFFSETFROM:+0200
TZOFFSETTO:+0100
DTSTART:19471005T030000
RRULE:FREQ=YEARLY;UNTIL=19491002T010000Z;BYMONTH=10;BYDAY=1SU
END:STANDARD
BEGIN:STANDARD
TZNAME:CET
TZOFFSETFROM:+0200
TZOFFSETTO:+0100
DTSTART:19800928T030000
RRULE:FREQ=YEARLY;UNTIL=19950924T010000Z;BYMONTH=9;BYDAY=-1SU
END:STANDARD
BEGIN:DAYLIGHT
TZNAME:CEST
TZOFFSETFROM:+0100
TZOFFSETTO:+0200
DTSTART:19810329T020000
RRULE:FREQ=YEARLY;BYMONTH=3;BYDAY=-1SU
END:DAYLIGHT
BEGIN:STANDARD
TZNAME:CET
TZOFFSETFROM:+0200
TZOFFSETTO:+0100
DTSTART:19961027T030000
RRULE:FREQ=YEARLY;BYMONTH=10;BYDAY=-1SU
END:STANDARD
END:VTIMEZONE
BEGIN:VEVENT
DTSTAMP:20260424T115049Z
DTSTART;TZID=Europe/Berlin:20251213T130000
DTEND;TZID=Europe/Berlin:20251213T160000
SUMMARY:HE 5. Liga Gr. 4 Kirchberg III vs Grossaffoltern III (25)
UID:828efff8-037c-4ae1-a256-e50e4810958a
STATUS:CONFIRMED
LAST-MODIFIED:20251216T120918Z
DESCRIPTION:5. Liga Herren Gruppe 4\nBegegnungs-Nr: 25\nHeim: Kirchberg III\nGast: Grossaffoltern III\n\nAdresse: Reinhardweg\, 3422 Kirchberg\n
LOCATION:Reinhardweg\, 3422 Kirchberg
CATEGORIES:Saison 2025/26
END:VEVENT
BEGIN:VEVENT
DTSTAMP:20260424T115049Z
DTSTART;TZID=Europe/Berlin:20251122T130000
DTEND;TZID=Europe/Berlin:20251122T160000
SUMMARY:HE 5. Liga Gr. 4 Kirchberg III vs Burgdorf IX (17)
UID:f8573d0f-abc3-487e-b2b4-d808953c0f52
STATUS:CONFIRMED
LAST-MODIFIED:20251207T174211Z
DESCRIPTION:5. Liga Herren Gruppe 4\nBegegnungs-Nr: 17\nHeim: Kirchberg III\nGast: Burgdorf IX\n\nAdresse: Reinhardweg\, 3422 Kirchberg\n
LOCATION:Reinhardweg\, 3422 Kirchberg
CATEGORIES:Saison 2025/26
END:VEVENT
BEGIN:VEVENT
DTSTAMP:20260424T115049Z
DTSTART;TZID=Europe/Berlin:20250906T130000
DTEND;TZID=Europe/Berlin:20250906T160000
SUMMARY:HE 5. Liga Gr. 4 Kirchberg III vs Langenthal III (1)
UID:6ce6fc17-a1c3-4240-b970-4e8a5e454c45
STATUS:CONFIRMED
LAST-MODIFIED:20250918T140017Z
DESCRIPTION:5. Liga Herren Gruppe 4\nBegegnungs-Nr: 1\nHeim: Kirchberg III\nGast: Langenthal III\n\nAdresse: Reinhardweg\, 3422 Kirchberg\n
LOCATION:Reinhardweg\, 3422 Kirchberg
CATEGORIES:Saison 2025/26
END:VEVENT
BEGIN:VEVENT
DTSTAMP:20260424T115049Z
DTSTART;TZID=Europe/Berlin:20250927T130000
DTEND;TZID=Europe/Berlin:20250927T160000
SUMMARY:HE 5. Liga Gr. 4 Kirchberg III vs Port VIII (9)
UID:fee747d0-fb85-484e-843a-94489673df17
STATUS:CONFIRMED
LAST-MODIFIED:20251003T172707Z
DESCRIPTION:5. Liga Herren Gruppe 4\nBegegnungs-Nr: 9\nHeim: Kirchberg III\nGast: Port VIII\n\nAdresse: Reinhardweg\, 3422 Kirchberg\n
LOCATION:Reinhardweg\, 3422 Kirchberg
CATEGORIES:Saison 2025/26
END:VEVENT
BEGIN:VEVENT
DTSTAMP:20260424T115049Z
DTSTART;TZID=Europe/Berlin:20260314T130000
DTEND;TZID=Europe/Berlin:20260314T160000
SUMMARY:HE 5. Liga Gr. 4 Kirchberg III vs Utzenstorf II (21)
UID:dc3a317e-ba07-4f29-8f14-1c1f83116f11
STATUS:CONFIRMED
LAST-MODIFIED:20260327T144758Z
DESCRIPTION:5. Liga Herren Gruppe 4\nBegegnungs-Nr: 21\nHeim: Kirchberg III\nGast: Utzenstorf II\n\nAdresse: Reinhardweg\, 3422 Kirchberg\n
LOCATION:Reinhardweg\, 3422 Kirchberg
CATEGORIES:Saison 2025/26
END:VEVENT
BEGIN:VEVENT
DTSTAMP:20260424T115049Z
DTSTART;TZID=Europe/Berlin:20260221T130000
DTEND;TZID=Europe/Berlin:20260221T160000
SUMMARY:HE 5. Liga Gr. 4 Kirchberg III vs Lyss V (13)
UID:da83c955-81d9-4cf9-aeda-77f6545a97dd
STATUS:CONFIRMED
LAST-MODIFIED:20260224T075524Z
DESCRIPTION:5. Liga Herren Gruppe 4\nBegegnungs-Nr: 13\nHeim: Kirchberg III\nGast: Lyss V\n\nAdresse: Reinhardweg\, 3422 Kirchberg\n
LOCATION:Reinhardweg\, 3422 Kirchberg
CATEGORIES:Saison 2025/26
END:VEVENT
BEGIN:VEVENT
DTSTAMP:20260424T115049Z
DTSTART;TZID=Europe/Berlin:20260124T150000
DTEND;TZID=Europe/Berlin:20260124T180000
SUMMARY:HE 5. Liga Gr. 4 Kirchberg III vs Huttwil II (5)
UID:f3bfdd53-6dae-4131-8f7f-61c5d6096762
STATUS:CONFIRMED
LAST-MODIFIED:20260217T214826Z
DESCRIPTION:5. Liga Herren Gruppe 4\nBegegnungs-Nr: 5\nHeim: Kirchberg III\nGast: Huttwil II\n\nAdresse: Reinhardweg\, 3422 Kirchberg\n
LOCATION:Reinhardweg\, 3422 Kirchberg
CATEGORIES:Saison 2025/26
END:VEVENT
BEGIN:VEVENT
DTSTAMP:20260424T115049Z
DTSTART;TZID=Europe/Berlin:20251204T200000
DTEND;TZID=Europe/Berlin:20251204T230000
SUMMARY:HE 5. Liga Gr. 4 Utzenstorf II vs Kirchberg III (21)
UID:4e4b41cc-6b73-4c87-b8a4-824439223f6b
STATUS:CONFIRMED
LAST-MODIFIED:20251207T174507Z
DESCRIPTION:5. Liga Herren Gruppe 4\nBegegnungs-Nr: 21\nHeim: Utzenstorf II\nGast: Kirchberg III\n\nAdresse: Gotthelfstrasse 15a\, 3427 Utzenstorf\n
LOCATION:Gotthelfstrasse 15a\, 3427 Utzenstorf
CATEGORIES:Saison 2025/26
END:VEVENT
BEGIN:VEVENT
DTSTAMP:20260424T115049Z
DTSTART;TZID=Europe/Berlin:20251125T200000
DTEND;TZID=Europe/Berlin:20251125T230000
SUMMARY:HE 5. Liga Gr. 4 Lyss V vs Kirchberg III (13)
UID:baa2443d-6d1b-4d80-a7d0-055ba42b9fb7
STATUS:CONFIRMED
LAST-MODIFIED:20251207T174303Z
DESCRIPTION:5. Liga Herren Gruppe 4\nBegegnungs-Nr: 13\nHeim: Lyss V\nGast: Kirchberg III\n\nAdresse: Stegmattweg 15-17\, 3250 Lyss\n
LOCATION:Stegmattweg 15-17\, 3250 Lyss
CATEGORIES:Saison 2025/26
END:VEVENT
BEGIN:VEVENT
DTSTAMP:20260424T115049Z
DTSTART;TZID=Europe/Berlin:20250908T200000
DTEND;TZID=Europe/Berlin:20250908T230000
SUMMARY:HE 5. Liga Gr. 4 Huttwil II vs Kirchberg III (5)
UID:be63adde-bd40-427d-97c2-54d6089da58d
STATUS:CONFIRMED
LAST-MODIFIED:20250918T140515Z
DESCRIPTION:5. Liga Herren Gruppe 4\nBegegnungs-Nr: 5\nHeim: Huttwil II\nGast: Kirchberg III\n\nAdresse: Dornackerweg 2 (untere Halle)\, 4950 Huttwil\n
LOCATION:Dornackerweg 2 (untere Halle)\, 4950 Huttwil
CATEGORIES:Saison 2025/26
END:VEVENT
BEGIN:VEVENT
DTSTAMP:20260424T115049Z
DTSTART;TZID=Europe/Berlin:20260323T200000
DTEND;TZID=Europe/Berlin:20260323T230000
SUMMARY:HE 5. Liga Gr. 4 Grossaffoltern III vs Kirchberg III (25)
UID:8f14eba9-c02a-4c58-bac5-87e857c4cc33
STATUS:CONFIRMED
LAST-MODIFIED:20260409T123343Z
DESCRIPTION:5. Liga Herren Gruppe 4\nBegegnungs-Nr: 25\nHeim: Grossaffoltern III\nGast: Kirchberg III\n\nAdresse: Schulhausstrasse 5 \, 3257 Grossaffoltern\n
LOCATION:Schulhausstrasse 5 \, 3257 Grossaffoltern
CATEGORIES:Saison 2025/26
END:VEVENT
BEGIN:VEVENT
DTSTAMP:20260424T115049Z
DTSTART;TZID=Europe/Berlin:20260307T160000
DTEND;TZID=Europe/Berlin:20260307T190000
SUMMARY:HE 5. Liga Gr. 4 Burgdorf IX vs Kirchberg III (17)
UID:3bbd5d51-246d-4d80-b06a-6a6ea5c457e3
STATUS:CONFIRMED
LAST-MODIFIED:20260308T174201Z
DESCRIPTION:5. Liga Herren Gruppe 4\nBegegnungs-Nr: 17\nHeim: Burgdorf IX\nGast: Kirchberg III\n\nAdresse: Pestalozzistrasse 69\, 3400 Burgdorf\n
LOCATION:Pestalozzistrasse 69\, 3400 Burgdorf
CATEGORIES:Saison 2025/26
END:VEVENT
BEGIN:VEVENT
DTSTAMP:20260424T115049Z
DTSTART;TZID=Europe/Berlin:20260119T200000
DTEND;TZID=Europe/Berlin:20260119T230000
SUMMARY:HE 5. Liga Gr. 4 Langenthal III vs Kirchberg III (1)
UID:61a07dc0-bc50-4e77-a06d-d4e0c4ec2308
STATUS:CONFIRMED
LAST-MODIFIED:20260125T002603Z
DESCRIPTION:5. Liga Herren Gruppe 4\nBegegnungs-Nr: 1\nHeim: Langenthal III\nGast: Kirchberg III\n\nAdresse: Weststrasse 29\, 4900 Langenthal\n
LOCATION:Weststrasse 29\, 4900 Langenthal
CATEGORIES:Saison 2025/26
END:VEVENT
BEGIN:VEVENT
DTSTAMP:20260424T115049Z
DTSTART;TZID=Europe/Berlin:20260203T194500
DTEND;TZID=Europe/Berlin:20260203T224500
SUMMARY:HE 5. Liga Gr. 4 Port VIII vs Kirchberg III (9)
UID:91aa82eb-8932-4ea9-a3dd-5996252b9f12
STATUS:CONFIRMED
LAST-MODIFIED:20260217T212326Z
DESCRIPTION:5. Liga Herren Gruppe 4\nBegegnungs-Nr: 9\nHeim: Port VIII\nGast: Kirchberg III\n\nAdresse: Allmendstrasse 23\, 2562 Port\n
LOCATION:Allmendstrasse 23\, 2562 Port
CATEGORIES:Saison 2025/26
END:VEVENT
END:VCALENDAR
