BEGIN:VCALENDAR
PRODID:-//nuDatenautomaten//framework iCal4j //DE
VERSION:2.0
CALSCALE:GREGORIAN
BEGIN:VTIMEZONE
TZID:Europe/Berlin
LAST-MODIFIED:20260306T231828Z
TZURL:https://www.tzurl.org/zoneinfo/Europe/Berlin
X-LIC-LOCATION:Europe/Berlin
X-PROLEPTIC-TZNAME:LMT
BEGIN:STANDARD
TZNAME:CET
TZOFFSETFROM:+005328
TZOFFSETTO:+0100
DTSTART:18930401T000000
END:STANDARD
BEGIN:DAYLIGHT
TZNAME:CEST
TZOFFSETFROM:+0100
TZOFFSETTO:+0200
DTSTART:19160430T230000
RDATE:19400401T020000
RDATE:19430329T020000
RDATE:19460414T020000
RDATE:19470406T030000
RDATE:19480418T020000
RDATE:19490410T020000
RDATE:19800406T020000
END:DAYLIGHT
BEGIN:STANDARD
TZNAME:CET
TZOFFSETFROM:+0200
TZOFFSETTO:+0100
DTSTART:19161001T010000
RDATE:19421102T030000
RDATE:19431004T030000
RDATE:19441002T030000
RDATE:19451118T030000
RDATE:19461007T030000
END:STANDARD
BEGIN:DAYLIGHT
TZNAME:CEST
TZOFFSETFROM:+0100
TZOFFSETTO:+0200
DTSTART:19170416T020000
RRULE:FREQ=YEARLY;UNTIL=19180415T010000Z;BYMONTH=4;BYDAY=3MO
END:DAYLIGHT
BEGIN:STANDARD
TZNAME:CET
TZOFFSETFROM:+0200
TZOFFSETTO:+0100
DTSTART:19170917T030000
RRULE:FREQ=YEARLY;UNTIL=19180916T010000Z;BYMONTH=9;BYDAY=3MO
END:STANDARD
BEGIN:DAYLIGHT
TZNAME:CEST
TZOFFSETFROM:+0100
TZOFFSETTO:+0200
DTSTART:19440403T020000
RRULE:FREQ=YEARLY;UNTIL=19450402T010000Z;BYMONTH=4;BYDAY=1MO
END:DAYLIGHT
BEGIN:DAYLIGHT
TZNAME:CEMT
TZOFFSETFROM:+0200
TZOFFSETTO:+0300
DTSTART:19450524T020000
RDATE:19470511T030000
END:DAYLIGHT
BEGIN:DAYLIGHT
TZNAME:CEST
TZOFFSETFROM:+0300
TZOFFSETTO:+0200
DTSTART:19450924T030000
RDATE:19470629T030000
END:DAYLIGHT
BEGIN:STANDARD
TZNAME:CET
TZOFFSETFROM:+0100
TZOFFSETTO:+0100
DTSTART:19460101T000000
RDATE:19800101T000000
END:STANDARD
BEGIN:STANDARD
TZNAME:CET
TZOFFSETFROM:+0200
TZOFFSETTO:+0100
DTSTART:19471005T030000
RRULE:FREQ=YEARLY;UNTIL=19491002T010000Z;BYMONTH=10;BYDAY=1SU
END:STANDARD
BEGIN:STANDARD
TZNAME:CET
TZOFFSETFROM:+0200
TZOFFSETTO:+0100
DTSTART:19800928T030000
RRULE:FREQ=YEARLY;UNTIL=19950924T010000Z;BYMONTH=9;BYDAY=-1SU
END:STANDARD
BEGIN:DAYLIGHT
TZNAME:CEST
TZOFFSETFROM:+0100
TZOFFSETTO:+0200
DTSTART:19810329T020000
RRULE:FREQ=YEARLY;BYMONTH=3;BYDAY=-1SU
END:DAYLIGHT
BEGIN:STANDARD
TZNAME:CET
TZOFFSETFROM:+0200
TZOFFSETTO:+0100
DTSTART:19961027T030000
RRULE:FREQ=YEARLY;BYMONTH=10;BYDAY=-1SU
END:STANDARD
END:VTIMEZONE
BEGIN:VEVENT
DTSTAMP:20260424T114959Z
DTSTART;TZID=Europe/Berlin:20251119T194500
DTEND;TZID=Europe/Berlin:20251119T224500
SUMMARY:Ligue 3 Gr.2 Ph.A Meyrin II vs Mandement IV (24)
UID:deb8e206-6446-4f4b-ba2c-7ba8ba6f32e0
STATUS:CONFIRMED
LAST-MODIFIED:20251120T123335Z
DESCRIPTION:3ème ligue Homme Gr.2 Phase A\nBegegnungs-Nr: 24\nHeim: Meyrin II\nGast: Mandement IV\n
LOCATION:
CATEGORIES:Saison 2025/26
END:VEVENT
BEGIN:VEVENT
DTSTAMP:20260424T114959Z
DTSTART;TZID=Europe/Berlin:20251112T194500
DTEND;TZID=Europe/Berlin:20251112T224500
SUMMARY:Ligue 3 Gr.2 Ph.A Meyrin II vs UGS-Chênois VI (21)
UID:5f26bebf-e0cf-447e-8a4c-6846d88f6b84
STATUS:CONFIRMED
LAST-MODIFIED:20251113T134407Z
DESCRIPTION:3ème ligue Homme Gr.2 Phase A\nBegegnungs-Nr: 21\nHeim: Meyrin II\nGast: UGS-Chênois VI\n
LOCATION:
CATEGORIES:Saison 2025/26
END:VEVENT
BEGIN:VEVENT
DTSTAMP:20260424T114959Z
DTSTART;TZID=Europe/Berlin:20251015T194500
DTEND;TZID=Europe/Berlin:20251015T224500
SUMMARY:Ligue 3 Gr.2 Ph.A Meyrin II vs ZZ-Lancy VIII (15)
UID:580d190c-84be-488c-b85d-70280730272b
STATUS:CONFIRMED
LAST-MODIFIED:20251016T183518Z
DESCRIPTION:3ème ligue Homme Gr.2 Phase A\nBegegnungs-Nr: 15\nHeim: Meyrin II\nGast: ZZ-Lancy VIII\n
LOCATION:
CATEGORIES:Saison 2025/26
END:VEVENT
BEGIN:VEVENT
DTSTAMP:20260424T114959Z
DTSTART;TZID=Europe/Berlin:20251008T194500
DTEND;TZID=Europe/Berlin:20251008T224500
SUMMARY:Ligue 3 Gr.2 Ph.A Meyrin II vs Puplinge (12)
UID:48aa94fd-9534-4df1-b956-3ff23979aceb
STATUS:CONFIRMED
LAST-MODIFIED:20251009T183506Z
DESCRIPTION:3ème ligue Homme Gr.2 Phase A\nBegegnungs-Nr: 12\nHeim: Meyrin II\nGast: Puplinge\n
LOCATION:
CATEGORIES:Saison 2025/26
END:VEVENT
BEGIN:VEVENT
DTSTAMP:20260424T114959Z
DTSTART;TZID=Europe/Berlin:20250903T194500
DTEND;TZID=Europe/Berlin:20250903T224500
SUMMARY:Ligue 3 Gr.2 Ph.A Meyrin II vs Rapid-Genève (3)
UID:dad5d72b-e665-4945-9f0c-fa12c093637e
STATUS:CONFIRMED
LAST-MODIFIED:20250904T114835Z
DESCRIPTION:3ème ligue Homme Gr.2 Phase A\nBegegnungs-Nr: 3\nHeim: Meyrin II\nGast: Rapid-Genève\n
LOCATION:
CATEGORIES:Saison 2025/26
END:VEVENT
BEGIN:VEVENT
DTSTAMP:20260424T114959Z
DTSTART;TZID=Europe/Berlin:20260114T194500
DTEND;TZID=Europe/Berlin:20260114T224500
SUMMARY:Ligue 3 Gr.3 Ph.B Meyrin II vs Vernier II (3)
UID:0a902ec0-4b20-409b-885e-361b65b7ecfc
STATUS:CONFIRMED
LAST-MODIFIED:20260115T135303Z
DESCRIPTION:3ème ligue Homme Gr.3 Phase B\nBegegnungs-Nr: 3\nHeim: Meyrin II\nGast: Vernier II\n
LOCATION:
CATEGORIES:Saison 2025/26
END:VEVENT
BEGIN:VEVENT
DTSTAMP:20260424T114959Z
DTSTART;TZID=Europe/Berlin:20260325T194500
DTEND;TZID=Europe/Berlin:20260325T224500
SUMMARY:Ligue 3 Gr.3 Ph.B Meyrin II vs Veyrier (23)
UID:8c78035e-602f-406e-a4de-599e0a2d9ea5
STATUS:CONFIRMED
LAST-MODIFIED:20260326T141844Z
DESCRIPTION:3ème ligue Homme Gr.3 Phase B\nBegegnungs-Nr: 23\nHeim: Meyrin II\nGast: Veyrier\n
LOCATION:
CATEGORIES:Saison 2025/26
END:VEVENT
BEGIN:VEVENT
DTSTAMP:20260424T114959Z
DTSTART;TZID=Europe/Berlin:20260318T194500
DTEND;TZID=Europe/Berlin:20260318T224500
SUMMARY:Ligue 3 Gr.3 Ph.B Meyrin II vs UGS-Chênois VIII (19)
UID:3e1387fc-8772-4309-8c1b-c0e10bc2f821
STATUS:CONFIRMED
LAST-MODIFIED:20260319T171201Z
DESCRIPTION:3ème ligue Homme Gr.3 Phase B\nBegegnungs-Nr: 19\nHeim: Meyrin II\nGast: UGS-Chênois VIII\n
LOCATION:
CATEGORIES:Saison 2025/26
END:VEVENT
BEGIN:VEVENT
DTSTAMP:20260424T114959Z
DTSTART;TZID=Europe/Berlin:20260218T194500
DTEND;TZID=Europe/Berlin:20260218T224500
SUMMARY:Ligue 3 Gr.3 Ph.B Meyrin II vs Bernex IV (14)
UID:77617fcf-c0ab-4b78-a6cb-53747350d632
STATUS:CONFIRMED
LAST-MODIFIED:20260219T120537Z
DESCRIPTION:3ème ligue Homme Gr.3 Phase B\nBegegnungs-Nr: 14\nHeim: Meyrin II\nGast: Bernex IV\n
LOCATION:
CATEGORIES:Saison 2025/26
END:VEVENT
BEGIN:VEVENT
DTSTAMP:20260424T114959Z
DTSTART;TZID=Europe/Berlin:20260211T194500
DTEND;TZID=Europe/Berlin:20260211T224500
SUMMARY:Ligue 3 Gr.3 Ph.B Meyrin II vs Mandement IV (10)
UID:4427cb73-7c26-4d80-b0e8-92825269f1f1
STATUS:CONFIRMED
LAST-MODIFIED:20260212T072142Z
DESCRIPTION:3ème ligue Homme Gr.3 Phase B\nBegegnungs-Nr: 10\nHeim: Meyrin II\nGast: Mandement IV\n
LOCATION:
CATEGORIES:Saison 2025/26
END:VEVENT
BEGIN:VEVENT
DTSTAMP:20260424T114959Z
DTSTART;TZID=Europe/Berlin:20251126T194500
DTEND;TZID=Europe/Berlin:20251126T224500
SUMMARY:Ligue 3 Gr.2 Ph.A Puplinge vs Meyrin II (27)
UID:82abe485-cad7-4534-9d83-85d12f3b7f46
STATUS:CONFIRMED
LAST-MODIFIED:20251128T082706Z
DESCRIPTION:3ème ligue Homme Gr.2 Phase A\nBegegnungs-Nr: 27\nHeim: Puplinge\nGast: Meyrin II\n\nAdresse: Chemin de la Brenaz\,  15\, 1241 Puplinge\n
LOCATION:Chemin de la Brenaz\,  15\, 1241 Puplinge
CATEGORIES:Saison 2025/26
END:VEVENT
BEGIN:VEVENT
DTSTAMP:20260424T114959Z
DTSTART;TZID=Europe/Berlin:20251029T194500
DTEND;TZID=Europe/Berlin:20251029T224500
SUMMARY:Ligue 3 Gr.2 Ph.A Rapid-Genève vs Meyrin II (18)
UID:842ac0e1-4272-43de-840e-e7265aa4e10f
STATUS:CONFIRMED
LAST-MODIFIED:20251030T122154Z
DESCRIPTION:3ème ligue Homme Gr.2 Phase A\nBegegnungs-Nr: 18\nHeim: Rapid-Genève\nGast: Meyrin II\n
LOCATION:
CATEGORIES:Saison 2025/26
END:VEVENT
BEGIN:VEVENT
DTSTAMP:20260424T114959Z
DTSTART;TZID=Europe/Berlin:20251203T200000
DTEND;TZID=Europe/Berlin:20251203T230000
SUMMARY:Ligue 3 Gr.2 Ph.A ZZ-Lancy VIII vs Meyrin II (30)
UID:36438ff0-9a00-403c-8e5d-f3b229200746
STATUS:CONFIRMED
LAST-MODIFIED:20251204T083423Z
DESCRIPTION:3ème ligue Homme Gr.2 Phase A\nBegegnungs-Nr: 30\nHeim: ZZ-Lancy VIII\nGast: Meyrin II\n
LOCATION:
CATEGORIES:Saison 2025/26
END:VEVENT
BEGIN:VEVENT
DTSTAMP:20260424T114959Z
DTSTART;TZID=Europe/Berlin:20250924T194500
DTEND;TZID=Europe/Berlin:20250924T224500
SUMMARY:Ligue 3 Gr.2 Ph.A Mandement IV vs Meyrin II (9)
UID:e002f51a-917d-44a1-a1a2-39757cdb3bb4
STATUS:CONFIRMED
LAST-MODIFIED:20250925T122216Z
DESCRIPTION:3ème ligue Homme Gr.2 Phase A\nBegegnungs-Nr: 9\nHeim: Mandement IV\nGast: Meyrin II\n
LOCATION:
CATEGORIES:Saison 2025/26
END:VEVENT
BEGIN:VEVENT
DTSTAMP:20260424T114959Z
DTSTART;TZID=Europe/Berlin:20250917T194500
DTEND;TZID=Europe/Berlin:20250917T224500
SUMMARY:Ligue 3 Gr.2 Ph.A UGS-Chênois VI vs Meyrin II (6)
UID:acc41e7a-4f68-4e14-ac24-147c3bb8f00a
STATUS:CONFIRMED
LAST-MODIFIED:20250918T143957Z
DESCRIPTION:3ème ligue Homme Gr.2 Phase A\nBegegnungs-Nr: 6\nHeim: UGS-Chênois VI\nGast: Meyrin II\n
LOCATION:
CATEGORIES:Saison 2025/26
END:VEVENT
BEGIN:VEVENT
DTSTAMP:20260424T114959Z
DTSTART;TZID=Europe/Berlin:20260128T194500
DTEND;TZID=Europe/Berlin:20260128T224500
SUMMARY:Ligue 3 Gr.3 Ph.B Veyrier vs Meyrin II (8)
UID:71c5b902-42ad-4bc3-84f7-ccf0c5d7e14a
STATUS:CONFIRMED
LAST-MODIFIED:20260129T095649Z
DESCRIPTION:3ème ligue Homme Gr.3 Phase B\nBegegnungs-Nr: 8\nHeim: Veyrier\nGast: Meyrin II\n\nAdresse: -\, 1255 Veyrier\n
LOCATION:-\, 1255 Veyrier
CATEGORIES:Saison 2025/26
END:VEVENT
BEGIN:VEVENT
DTSTAMP:20260424T114959Z
DTSTART;TZID=Europe/Berlin:20260121T194500
DTEND;TZID=Europe/Berlin:20260121T224500
SUMMARY:Ligue 3 Gr.3 Ph.B UGS-Chênois VIII vs Meyrin II (4)
UID:a4bc4253-9bd8-47eb-97f4-f3abc7c44e15
STATUS:CONFIRMED
LAST-MODIFIED:20260122T094253Z
DESCRIPTION:3ème ligue Homme Gr.3 Phase B\nBegegnungs-Nr: 4\nHeim: UGS-Chênois VIII\nGast: Meyrin II\n
LOCATION:
CATEGORIES:Saison 2025/26
END:VEVENT
BEGIN:VEVENT
DTSTAMP:20260424T114959Z
DTSTART;TZID=Europe/Berlin:20260429T194500
DTEND;TZID=Europe/Berlin:20260429T224500
SUMMARY:Ligue 3 Gr.3 Ph.B Bernex IV vs Meyrin II (29)
UID:44a6a793-4dca-4967-962c-61164b87d17f
STATUS:CONFIRMED
DESCRIPTION:3ème ligue Homme Gr.3 Phase B\nBegegnungs-Nr: 29\nHeim: Bernex IV\nGast: Meyrin II\n
LOCATION:
CATEGORIES:Saison 2025/26
END:VEVENT
BEGIN:VEVENT
DTSTAMP:20260424T114959Z
DTSTART;TZID=Europe/Berlin:20260401T194500
DTEND;TZID=Europe/Berlin:20260401T224500
SUMMARY:Ligue 3 Gr.3 Ph.B Mandement IV vs Meyrin II (25)
UID:b82e6b64-10e9-4165-ae39-9401a7662ecf
STATUS:CONFIRMED
LAST-MODIFIED:20260402T064601Z
DESCRIPTION:3ème ligue Homme Gr.3 Phase B\nBegegnungs-Nr: 25\nHeim: Mandement IV\nGast: Meyrin II\n
LOCATION:
CATEGORIES:Saison 2025/26
END:VEVENT
BEGIN:VEVENT
DTSTAMP:20260424T114959Z
DTSTART;TZID=Europe/Berlin:20260311T194500
DTEND;TZID=Europe/Berlin:20260311T224500
SUMMARY:Ligue 3 Gr.3 Ph.B Vernier II vs Meyrin II (18)
UID:f8afc1a3-18dc-4814-8861-7eaeb2aa6a55
STATUS:CONFIRMED
LAST-MODIFIED:20260312T140543Z
DESCRIPTION:3ème ligue Homme Gr.3 Phase B\nBegegnungs-Nr: 18\nHeim: Vernier II\nGast: Meyrin II\n
LOCATION:
CATEGORIES:Saison 2025/26
END:VEVENT
END:VCALENDAR
