BEGIN:VCALENDAR
PRODID:-//nuDatenautomaten//framework iCal4j //DE
VERSION:2.0
CALSCALE:GREGORIAN
BEGIN:VTIMEZONE
TZID:Europe/Berlin
LAST-MODIFIED:20260306T231828Z
TZURL:https://www.tzurl.org/zoneinfo/Europe/Berlin
X-LIC-LOCATION:Europe/Berlin
X-PROLEPTIC-TZNAME:LMT
BEGIN:STANDARD
TZNAME:CET
TZOFFSETFROM:+005328
TZOFFSETTO:+0100
DTSTART:18930401T000000
END:STANDARD
BEGIN:DAYLIGHT
TZNAME:CEST
TZOFFSETFROM:+0100
TZOFFSETTO:+0200
DTSTART:19160430T230000
RDATE:19400401T020000
RDATE:19430329T020000
RDATE:19460414T020000
RDATE:19470406T030000
RDATE:19480418T020000
RDATE:19490410T020000
RDATE:19800406T020000
END:DAYLIGHT
BEGIN:STANDARD
TZNAME:CET
TZOFFSETFROM:+0200
TZOFFSETTO:+0100
DTSTART:19161001T010000
RDATE:19421102T030000
RDATE:19431004T030000
RDATE:19441002T030000
RDATE:19451118T030000
RDATE:19461007T030000
END:STANDARD
BEGIN:DAYLIGHT
TZNAME:CEST
TZOFFSETFROM:+0100
TZOFFSETTO:+0200
DTSTART:19170416T020000
RRULE:FREQ=YEARLY;UNTIL=19180415T010000Z;BYMONTH=4;BYDAY=3MO
END:DAYLIGHT
BEGIN:STANDARD
TZNAME:CET
TZOFFSETFROM:+0200
TZOFFSETTO:+0100
DTSTART:19170917T030000
RRULE:FREQ=YEARLY;UNTIL=19180916T010000Z;BYMONTH=9;BYDAY=3MO
END:STANDARD
BEGIN:DAYLIGHT
TZNAME:CEST
TZOFFSETFROM:+0100
TZOFFSETTO:+0200
DTSTART:19440403T020000
RRULE:FREQ=YEARLY;UNTIL=19450402T010000Z;BYMONTH=4;BYDAY=1MO
END:DAYLIGHT
BEGIN:DAYLIGHT
TZNAME:CEMT
TZOFFSETFROM:+0200
TZOFFSETTO:+0300
DTSTART:19450524T020000
RDATE:19470511T030000
END:DAYLIGHT
BEGIN:DAYLIGHT
TZNAME:CEST
TZOFFSETFROM:+0300
TZOFFSETTO:+0200
DTSTART:19450924T030000
RDATE:19470629T030000
END:DAYLIGHT
BEGIN:STANDARD
TZNAME:CET
TZOFFSETFROM:+0100
TZOFFSETTO:+0100
DTSTART:19460101T000000
RDATE:19800101T000000
END:STANDARD
BEGIN:STANDARD
TZNAME:CET
TZOFFSETFROM:+0200
TZOFFSETTO:+0100
DTSTART:19471005T030000
RRULE:FREQ=YEARLY;UNTIL=19491002T010000Z;BYMONTH=10;BYDAY=1SU
END:STANDARD
BEGIN:STANDARD
TZNAME:CET
TZOFFSETFROM:+0200
TZOFFSETTO:+0100
DTSTART:19800928T030000
RRULE:FREQ=YEARLY;UNTIL=19950924T010000Z;BYMONTH=9;BYDAY=-1SU
END:STANDARD
BEGIN:DAYLIGHT
TZNAME:CEST
TZOFFSETFROM:+0100
TZOFFSETTO:+0200
DTSTART:19810329T020000
RRULE:FREQ=YEARLY;BYMONTH=3;BYDAY=-1SU
END:DAYLIGHT
BEGIN:STANDARD
TZNAME:CET
TZOFFSETFROM:+0200
TZOFFSETTO:+0100
DTSTART:19961027T030000
RRULE:FREQ=YEARLY;BYMONTH=10;BYDAY=-1SU
END:STANDARD
END:VTIMEZONE
BEGIN:VEVENT
DTSTAMP:20260423T224716Z
DTSTART;TZID=Europe/Berlin:20250830T160000
DTEND;TZID=Europe/Berlin:20250830T190000
SUMMARY:U17 R1 GrA Emmen vs Rothenburg II (6)
UID:204dd2bf-dec5-4c09-995d-4b03376eb890
STATUS:CONFIRMED
LAST-MODIFIED:20250904T190850Z
DESCRIPTION:U17\, 1. Runde\, Gruppe A\nBegegnungs-Nr: 6\nHeim: Emmen\nGast: Rothenburg II\n\nAdresse: Rüeggisingerstrasse 26\, 6020 Emmenbrücke\n
LOCATION:Rüeggisingerstrasse 26\, 6020 Emmenbrücke
CATEGORIES:Saison 2025/26
END:VEVENT
BEGIN:VEVENT
DTSTAMP:20260423T224716Z
DTSTART;TZID=Europe/Berlin:20251213T143000
DTEND;TZID=Europe/Berlin:20251213T173000
SUMMARY:U17 R2 GrB Emmen vs Schenkon (6)
UID:22adfb5c-7105-407d-b062-f6d972ccef6b
STATUS:CONFIRMED
LAST-MODIFIED:20251217T201320Z
DESCRIPTION:U17\, 2. Runde\, Gruppe B\nBegegnungs-Nr: 6\nHeim: Emmen\nGast: Schenkon\n\nAdresse: Rüeggisingerstrasse 26\, 6020 Emmenbrücke\n
LOCATION:Rüeggisingerstrasse 26\, 6020 Emmenbrücke
CATEGORIES:Saison 2025/26
END:VEVENT
BEGIN:VEVENT
DTSTAMP:20260423T224716Z
DTSTART;TZID=Europe/Berlin:20251213T160000
DTEND;TZID=Europe/Berlin:20251213T190000
SUMMARY:U17 R2 GrB Emmen vs Rapid Luzern II (4)
UID:442ce1b5-006d-427f-a0d7-91162c672356
STATUS:CONFIRMED
LAST-MODIFIED:20251217T201550Z
DESCRIPTION:U17\, 2. Runde\, Gruppe B\nBegegnungs-Nr: 4\nHeim: Emmen\nGast: Rapid Luzern II\n\nAdresse: Rüeggisingerstrasse 26\, 6020 Emmenbrücke\n
LOCATION:Rüeggisingerstrasse 26\, 6020 Emmenbrücke
CATEGORIES:Saison 2025/26
END:VEVENT
BEGIN:VEVENT
DTSTAMP:20260423T224716Z
DTSTART;TZID=Europe/Berlin:20260307T160000
DTEND;TZID=Europe/Berlin:20260307T190000
SUMMARY:U17 F 2.Div Emmen vs Rothenburg II (2)
UID:bf84e52c-b8cd-4eb7-840b-1c8627342b56
STATUS:CONFIRMED
LAST-MODIFIED:20260313T074411Z
DESCRIPTION:U17\,  Finalrunde\, 2. Division\nBegegnungs-Nr: 2\nHeim: Emmen\nGast: Rothenburg II\n\nAdresse: Rüeggisingerstrasse 26\, 6020 Emmenbrücke\n
LOCATION:Rüeggisingerstrasse 26\, 6020 Emmenbrücke
CATEGORIES:Saison 2025/26
END:VEVENT
BEGIN:VEVENT
DTSTAMP:20260423T224716Z
DTSTART;TZID=Europe/Berlin:20260307T130000
DTEND;TZID=Europe/Berlin:20260307T160000
SUMMARY:U17 F 2.Div Emmen vs Kriens (5)
UID:7398e9e6-e0ee-426a-b1b3-54d63df69370
STATUS:CONFIRMED
LAST-MODIFIED:20260313T074644Z
DESCRIPTION:U17\,  Finalrunde\, 2. Division\nBegegnungs-Nr: 5\nHeim: Emmen\nGast: Kriens\n\nAdresse: Rüeggisingerstrasse 26\, 6020 Emmenbrücke\n
LOCATION:Rüeggisingerstrasse 26\, 6020 Emmenbrücke
CATEGORIES:Saison 2025/26
END:VEVENT
BEGIN:VEVENT
DTSTAMP:20260423T224716Z
DTSTART;TZID=Europe/Berlin:20250830T130000
DTEND;TZID=Europe/Berlin:20250830T160000
SUMMARY:U17 R1 GrA Sarnen vs Emmen (2)
UID:3833cb2b-5fd9-407a-bdfd-92825b74343b
STATUS:CONFIRMED
LAST-MODIFIED:20250831T092616Z
DESCRIPTION:U17\, 1. Runde\, Gruppe A\nBegegnungs-Nr: 2\nHeim: Sarnen\nGast: Emmen\n\nAdresse: Rütistrasse 3\, 6060 Sarnen\n
LOCATION:Rütistrasse 3\, 6060 Sarnen
CATEGORIES:Saison 2025/26
END:VEVENT
BEGIN:VEVENT
DTSTAMP:20260423T224716Z
DTSTART;TZID=Europe/Berlin:20250830T143000
DTEND;TZID=Europe/Berlin:20250830T173000
SUMMARY:U17 R1 GrA Rapid Luzern II vs Emmen (3)
UID:51be2e81-beca-4bdc-8e51-618318df3870
STATUS:CONFIRMED
LAST-MODIFIED:20250904T185009Z
DESCRIPTION:U17\, 1. Runde\, Gruppe A\nBegegnungs-Nr: 3\nHeim: Rapid Luzern II\nGast: Emmen\n\nAdresse: Kreuzbuchstr. 60\, 6006 Luzern\n
LOCATION:Kreuzbuchstr. 60\, 6006 Luzern
CATEGORIES:Saison 2025/26
END:VEVENT
BEGIN:VEVENT
DTSTAMP:20260423T224716Z
DTSTART;TZID=Europe/Berlin:20260307T143000
DTEND;TZID=Europe/Berlin:20260307T173000
SUMMARY:U17 F 2.Div Rothenburg vs Emmen (4)
UID:df8a1b4f-0257-4dc6-bdcc-dc4afe3e2203
STATUS:CONFIRMED
LAST-MODIFIED:20260313T073937Z
DESCRIPTION:U17\,  Finalrunde\, 2. Division\nBegegnungs-Nr: 4\nHeim: Rothenburg\nGast: Emmen\n
LOCATION:
CATEGORIES:Saison 2025/26
END:VEVENT
END:VCALENDAR
