BEGIN:VCALENDAR
PRODID:-//nuDatenautomaten//framework iCal4j //DE
VERSION:2.0
CALSCALE:GREGORIAN
BEGIN:VTIMEZONE
TZID:Europe/Berlin
LAST-MODIFIED:20260306T231828Z
TZURL:https://www.tzurl.org/zoneinfo/Europe/Berlin
X-LIC-LOCATION:Europe/Berlin
X-PROLEPTIC-TZNAME:LMT
BEGIN:STANDARD
TZNAME:CET
TZOFFSETFROM:+005328
TZOFFSETTO:+0100
DTSTART:18930401T000000
END:STANDARD
BEGIN:DAYLIGHT
TZNAME:CEST
TZOFFSETFROM:+0100
TZOFFSETTO:+0200
DTSTART:19160430T230000
RDATE:19400401T020000
RDATE:19430329T020000
RDATE:19460414T020000
RDATE:19470406T030000
RDATE:19480418T020000
RDATE:19490410T020000
RDATE:19800406T020000
END:DAYLIGHT
BEGIN:STANDARD
TZNAME:CET
TZOFFSETFROM:+0200
TZOFFSETTO:+0100
DTSTART:19161001T010000
RDATE:19421102T030000
RDATE:19431004T030000
RDATE:19441002T030000
RDATE:19451118T030000
RDATE:19461007T030000
END:STANDARD
BEGIN:DAYLIGHT
TZNAME:CEST
TZOFFSETFROM:+0100
TZOFFSETTO:+0200
DTSTART:19170416T020000
RRULE:FREQ=YEARLY;UNTIL=19180415T010000Z;BYMONTH=4;BYDAY=3MO
END:DAYLIGHT
BEGIN:STANDARD
TZNAME:CET
TZOFFSETFROM:+0200
TZOFFSETTO:+0100
DTSTART:19170917T030000
RRULE:FREQ=YEARLY;UNTIL=19180916T010000Z;BYMONTH=9;BYDAY=3MO
END:STANDARD
BEGIN:DAYLIGHT
TZNAME:CEST
TZOFFSETFROM:+0100
TZOFFSETTO:+0200
DTSTART:19440403T020000
RRULE:FREQ=YEARLY;UNTIL=19450402T010000Z;BYMONTH=4;BYDAY=1MO
END:DAYLIGHT
BEGIN:DAYLIGHT
TZNAME:CEMT
TZOFFSETFROM:+0200
TZOFFSETTO:+0300
DTSTART:19450524T020000
RDATE:19470511T030000
END:DAYLIGHT
BEGIN:DAYLIGHT
TZNAME:CEST
TZOFFSETFROM:+0300
TZOFFSETTO:+0200
DTSTART:19450924T030000
RDATE:19470629T030000
END:DAYLIGHT
BEGIN:STANDARD
TZNAME:CET
TZOFFSETFROM:+0100
TZOFFSETTO:+0100
DTSTART:19460101T000000
RDATE:19800101T000000
END:STANDARD
BEGIN:STANDARD
TZNAME:CET
TZOFFSETFROM:+0200
TZOFFSETTO:+0100
DTSTART:19471005T030000
RRULE:FREQ=YEARLY;UNTIL=19491002T010000Z;BYMONTH=10;BYDAY=1SU
END:STANDARD
BEGIN:STANDARD
TZNAME:CET
TZOFFSETFROM:+0200
TZOFFSETTO:+0100
DTSTART:19800928T030000
RRULE:FREQ=YEARLY;UNTIL=19950924T010000Z;BYMONTH=9;BYDAY=-1SU
END:STANDARD
BEGIN:DAYLIGHT
TZNAME:CEST
TZOFFSETFROM:+0100
TZOFFSETTO:+0200
DTSTART:19810329T020000
RRULE:FREQ=YEARLY;BYMONTH=3;BYDAY=-1SU
END:DAYLIGHT
BEGIN:STANDARD
TZNAME:CET
TZOFFSETFROM:+0200
TZOFFSETTO:+0100
DTSTART:19961027T030000
RRULE:FREQ=YEARLY;BYMONTH=10;BYDAY=-1SU
END:STANDARD
END:VTIMEZONE
BEGIN:VEVENT
DTSTAMP:20260424T151710Z
DTSTART;TZID=Europe/Berlin:20260206T200000
DTEND;TZID=Europe/Berlin:20260206T230000
SUMMARY:O40 4. Liga Gr. 1 Rorschach vs Weinfelden (0)
UID:39349925-9ea2-476f-b953-bf9c58e6a8a4
STATUS:CONFIRMED
LAST-MODIFIED:20260209T135440Z
DESCRIPTION:4. Liga O40 Gruppe 1\nBegegnungs-Nr: 0\nHeim: Rorschach\nGast: Weinfelden\n\nAdresse: Mariabergstrasse 33\, 9400 Rorschach\n
LOCATION:Mariabergstrasse 33\, 9400 Rorschach
CATEGORIES:Saison 2025/26
END:VEVENT
BEGIN:VEVENT
DTSTAMP:20260424T151710Z
DTSTART;TZID=Europe/Berlin:20260220T200000
DTEND;TZID=Europe/Berlin:20260220T230000
SUMMARY:O40 4. Liga Gr. 1 Rorschach vs St. Gallen II (0)
UID:ffaec099-1bfe-49de-9513-03836b8cd137
STATUS:CONFIRMED
LAST-MODIFIED:20260225T112418Z
DESCRIPTION:4. Liga O40 Gruppe 1\nBegegnungs-Nr: 0\nHeim: Rorschach\nGast: St. Gallen II\n\nAdresse: Mariabergstrasse 33\, 9400 Rorschach\n
LOCATION:Mariabergstrasse 33\, 9400 Rorschach
CATEGORIES:Saison 2025/26
END:VEVENT
BEGIN:VEVENT
DTSTAMP:20260424T151710Z
DTSTART;TZID=Europe/Berlin:20251219T200000
DTEND;TZID=Europe/Berlin:20251219T230000
SUMMARY:O40 4. Liga Gr. 1 Rorschach vs Imperial Winterthur (0)
UID:2654a3be-0170-4745-a6a0-84ab38774fcb
STATUS:CONFIRMED
LAST-MODIFIED:20260109T080658Z
DESCRIPTION:4. Liga O40 Gruppe 1\nBegegnungs-Nr: 0\nHeim: Rorschach\nGast: Imperial Winterthur\n\nAdresse: Mariabergstrasse 33\, 9400 Rorschach\n
LOCATION:Mariabergstrasse 33\, 9400 Rorschach
CATEGORIES:Saison 2025/26
END:VEVENT
BEGIN:VEVENT
DTSTAMP:20260424T151710Z
DTSTART;TZID=Europe/Berlin:20250815T200000
DTEND;TZID=Europe/Berlin:20250815T230000
SUMMARY:O40 4. Liga Gr. 1 Rorschach vs Gossau St.Gallen (0)
UID:7e944722-87f2-4078-abf6-ac7cacf22820
STATUS:CONFIRMED
LAST-MODIFIED:20250912T092049Z
DESCRIPTION:4. Liga O40 Gruppe 1\nBegegnungs-Nr: 0\nHeim: Rorschach\nGast: Gossau St.Gallen\n\nAdresse: Mariabergstrasse 33\, 9400 Rorschach\n
LOCATION:Mariabergstrasse 33\, 9400 Rorschach
CATEGORIES:Saison 2025/26
END:VEVENT
BEGIN:VEVENT
DTSTAMP:20260424T151710Z
DTSTART;TZID=Europe/Berlin:20251024T200000
DTEND;TZID=Europe/Berlin:20251024T230000
SUMMARY:O40 4. Liga Gr. 1 Rorschach vs Oberriet (0)
UID:fbb7d93c-ca5d-469b-8a36-d50a1783f585
STATUS:CONFIRMED
LAST-MODIFIED:20251031T144844Z
DESCRIPTION:4. Liga O40 Gruppe 1\nBegegnungs-Nr: 0\nHeim: Rorschach\nGast: Oberriet\n\nAdresse: Mariabergstrasse 33\, 9400 Rorschach\n
LOCATION:Mariabergstrasse 33\, 9400 Rorschach
CATEGORIES:Saison 2025/26
END:VEVENT
BEGIN:VEVENT
DTSTAMP:20260424T151710Z
DTSTART;TZID=Europe/Berlin:20251128T200000
DTEND;TZID=Europe/Berlin:20251128T230000
SUMMARY:O40 4. Liga Gr. 1 Rorschach vs Wolfhalden (0)
UID:22765ab3-f3de-4df9-bc5b-466cc9e592bd
STATUS:CONFIRMED
LAST-MODIFIED:20251205T132050Z
DESCRIPTION:4. Liga O40 Gruppe 1\nBegegnungs-Nr: 0\nHeim: Rorschach\nGast: Wolfhalden\n\nAdresse: Mariabergstrasse 33\, 9400 Rorschach\n
LOCATION:Mariabergstrasse 33\, 9400 Rorschach
CATEGORIES:Saison 2025/26
END:VEVENT
BEGIN:VEVENT
DTSTAMP:20260424T151710Z
DTSTART;TZID=Europe/Berlin:20260113T200000
DTEND;TZID=Europe/Berlin:20260113T230000
SUMMARY:O40 4. Liga Gr. 1 Gossau St.Gallen vs Rorschach (0)
UID:9c84c901-511c-456e-b7b1-b8ce188fad31
STATUS:CONFIRMED
LAST-MODIFIED:20260115T093914Z
DESCRIPTION:4. Liga O40 Gruppe 1\nBegegnungs-Nr: 0\nHeim: Gossau St.Gallen\nGast: Rorschach\n\nAdresse: Falkenstrasse 21\, 9200 Gossau\n
LOCATION:Falkenstrasse 21\, 9200 Gossau
CATEGORIES:Saison 2025/26
END:VEVENT
BEGIN:VEVENT
DTSTAMP:20260424T151710Z
DTSTART;TZID=Europe/Berlin:20260320T201500
DTEND;TZID=Europe/Berlin:20260320T231500
SUMMARY:O40 4. Liga Gr. 1 Oberriet vs Rorschach (0)
UID:0865145e-7b71-46be-a60b-62db2fa4aecd
STATUS:CONFIRMED
LAST-MODIFIED:20260326T155403Z
DESCRIPTION:4. Liga O40 Gruppe 1\nBegegnungs-Nr: 0\nHeim: Oberriet\nGast: Rorschach\n\nAdresse: Neugutstrasse 2\, 9463 Oberriet SG\n
LOCATION:Neugutstrasse 2\, 9463 Oberriet SG
CATEGORIES:Saison 2025/26
END:VEVENT
BEGIN:VEVENT
DTSTAMP:20260424T151710Z
DTSTART;TZID=Europe/Berlin:20260427T200000
DTEND;TZID=Europe/Berlin:20260427T230000
SUMMARY:O40 4. Liga Gr. 1 Wolfhalden vs Rorschach (0)
UID:335b5f4d-c032-4680-a9ab-387e9bb48319
STATUS:CONFIRMED
LAST-MODIFIED:20260121T191357Z
DESCRIPTION:4. Liga O40 Gruppe 1\nBegegnungs-Nr: 0\nHeim: Wolfhalden\nGast: Rorschach\n\nAdresse: -\, 9427 Wolfhalden\n
LOCATION:-\, 9427 Wolfhalden
CATEGORIES:Saison 2025/26
END:VEVENT
BEGIN:VEVENT
DTSTAMP:20260424T151710Z
DTSTART;TZID=Europe/Berlin:20260504T200000
DTEND;TZID=Europe/Berlin:20260504T230000
SUMMARY:O40 4. Liga Gr. 1 Imperial Winterthur vs Rorschach (0)
UID:62b901bb-2446-4a61-ae4f-49332fea6b01
STATUS:CONFIRMED
LAST-MODIFIED:20250716T192413Z
DESCRIPTION:4. Liga O40 Gruppe 1\nBegegnungs-Nr: 0\nHeim: Imperial Winterthur\nGast: Rorschach\n\nAdresse: Büelhofstrasse 25a\, 8405 Winterthur\n
LOCATION:Büelhofstrasse 25a\, 8405 Winterthur
CATEGORIES:Saison 2025/26
END:VEVENT
BEGIN:VEVENT
DTSTAMP:20260424T151710Z
DTSTART;TZID=Europe/Berlin:20250821T201500
DTEND;TZID=Europe/Berlin:20250821T231500
SUMMARY:O40 4. Liga Gr. 1 Weinfelden vs Rorschach (0)
UID:6908cf3e-6724-481d-ab49-b9e2ff9fcacb
STATUS:CONFIRMED
LAST-MODIFIED:20250826T114346Z
DESCRIPTION:4. Liga O40 Gruppe 1\nBegegnungs-Nr: 0\nHeim: Weinfelden\nGast: Rorschach\n\nAdresse: Bleichestrasse 3 (neben Hallenbad)\, 8570 Weinfelden\n
LOCATION:Bleichestrasse 3 (neben Hallenbad)\, 8570 Weinfelden
CATEGORIES:Saison 2025/26
END:VEVENT
BEGIN:VEVENT
DTSTAMP:20260424T151710Z
DTSTART;TZID=Europe/Berlin:20251121T200000
DTEND;TZID=Europe/Berlin:20251121T230000
SUMMARY:O40 4. Liga Gr. 1 St. Gallen II vs Rorschach (0)
UID:31585b0e-6989-445d-9f3e-a546cdbba740
STATUS:CONFIRMED
LAST-MODIFIED:20251124T150325Z
DESCRIPTION:4. Liga O40 Gruppe 1\nBegegnungs-Nr: 0\nHeim: St. Gallen II\nGast: Rorschach\n\nAdresse: Zilstrasse 61\, 9016 St.Gallen\n
LOCATION:Zilstrasse 61\, 9016 St.Gallen
CATEGORIES:Saison 2025/26
END:VEVENT
END:VCALENDAR
