BEGIN:VCALENDAR
PRODID:-//nuDatenautomaten//framework iCal4j //DE
VERSION:2.0
CALSCALE:GREGORIAN
BEGIN:VTIMEZONE
TZID:Europe/Berlin
LAST-MODIFIED:20260306T231828Z
TZURL:https://www.tzurl.org/zoneinfo/Europe/Berlin
X-LIC-LOCATION:Europe/Berlin
X-PROLEPTIC-TZNAME:LMT
BEGIN:STANDARD
TZNAME:CET
TZOFFSETFROM:+005328
TZOFFSETTO:+0100
DTSTART:18930401T000000
END:STANDARD
BEGIN:DAYLIGHT
TZNAME:CEST
TZOFFSETFROM:+0100
TZOFFSETTO:+0200
DTSTART:19160430T230000
RDATE:19400401T020000
RDATE:19430329T020000
RDATE:19460414T020000
RDATE:19470406T030000
RDATE:19480418T020000
RDATE:19490410T020000
RDATE:19800406T020000
END:DAYLIGHT
BEGIN:STANDARD
TZNAME:CET
TZOFFSETFROM:+0200
TZOFFSETTO:+0100
DTSTART:19161001T010000
RDATE:19421102T030000
RDATE:19431004T030000
RDATE:19441002T030000
RDATE:19451118T030000
RDATE:19461007T030000
END:STANDARD
BEGIN:DAYLIGHT
TZNAME:CEST
TZOFFSETFROM:+0100
TZOFFSETTO:+0200
DTSTART:19170416T020000
RRULE:FREQ=YEARLY;UNTIL=19180415T010000Z;BYMONTH=4;BYDAY=3MO
END:DAYLIGHT
BEGIN:STANDARD
TZNAME:CET
TZOFFSETFROM:+0200
TZOFFSETTO:+0100
DTSTART:19170917T030000
RRULE:FREQ=YEARLY;UNTIL=19180916T010000Z;BYMONTH=9;BYDAY=3MO
END:STANDARD
BEGIN:DAYLIGHT
TZNAME:CEST
TZOFFSETFROM:+0100
TZOFFSETTO:+0200
DTSTART:19440403T020000
RRULE:FREQ=YEARLY;UNTIL=19450402T010000Z;BYMONTH=4;BYDAY=1MO
END:DAYLIGHT
BEGIN:DAYLIGHT
TZNAME:CEMT
TZOFFSETFROM:+0200
TZOFFSETTO:+0300
DTSTART:19450524T020000
RDATE:19470511T030000
END:DAYLIGHT
BEGIN:DAYLIGHT
TZNAME:CEST
TZOFFSETFROM:+0300
TZOFFSETTO:+0200
DTSTART:19450924T030000
RDATE:19470629T030000
END:DAYLIGHT
BEGIN:STANDARD
TZNAME:CET
TZOFFSETFROM:+0100
TZOFFSETTO:+0100
DTSTART:19460101T000000
RDATE:19800101T000000
END:STANDARD
BEGIN:STANDARD
TZNAME:CET
TZOFFSETFROM:+0200
TZOFFSETTO:+0100
DTSTART:19471005T030000
RRULE:FREQ=YEARLY;UNTIL=19491002T010000Z;BYMONTH=10;BYDAY=1SU
END:STANDARD
BEGIN:STANDARD
TZNAME:CET
TZOFFSETFROM:+0200
TZOFFSETTO:+0100
DTSTART:19800928T030000
RRULE:FREQ=YEARLY;UNTIL=19950924T010000Z;BYMONTH=9;BYDAY=-1SU
END:STANDARD
BEGIN:DAYLIGHT
TZNAME:CEST
TZOFFSETFROM:+0100
TZOFFSETTO:+0200
DTSTART:19810329T020000
RRULE:FREQ=YEARLY;BYMONTH=3;BYDAY=-1SU
END:DAYLIGHT
BEGIN:STANDARD
TZNAME:CET
TZOFFSETFROM:+0200
TZOFFSETTO:+0100
DTSTART:19961027T030000
RRULE:FREQ=YEARLY;BYMONTH=10;BYDAY=-1SU
END:STANDARD
END:VTIMEZONE
BEGIN:VEVENT
DTSTAMP:20260424T135815Z
DTSTART;TZID=Europe/Berlin:20260326T200000
DTEND;TZID=Europe/Berlin:20260326T230000
SUMMARY:HE 5. Liga Gr. 2 Frauenfeld II vs Weinfelden III (0)
UID:dc974022-d15c-4b6f-ba2d-d0fe5e959670
STATUS:CONFIRMED
LAST-MODIFIED:20260401T124101Z
DESCRIPTION:5. Liga Herren Gruppe 2\nBegegnungs-Nr: 0\nHeim: Frauenfeld II\nGast: Weinfelden III\n\nAdresse: Scheuchenstrasse\, 8500 Frauenfeld\n
LOCATION:Scheuchenstrasse\, 8500 Frauenfeld
CATEGORIES:Saison 2025/26
END:VEVENT
BEGIN:VEVENT
DTSTAMP:20260424T135815Z
DTSTART;TZID=Europe/Berlin:20260108T200000
DTEND;TZID=Europe/Berlin:20260108T230000
SUMMARY:HE 5. Liga Gr. 2 Frauenfeld II vs Wallenwil III (0)
UID:895ed552-733f-45e4-b7d1-8ddf13fe1fc3
STATUS:CONFIRMED
LAST-MODIFIED:20260109T075807Z
DESCRIPTION:5. Liga Herren Gruppe 2\nBegegnungs-Nr: 0\nHeim: Frauenfeld II\nGast: Wallenwil III\n\nAdresse: Scheuchenstrasse\, 8500 Frauenfeld\n
LOCATION:Scheuchenstrasse\, 8500 Frauenfeld
CATEGORIES:Saison 2025/26
END:VEVENT
BEGIN:VEVENT
DTSTAMP:20260424T135815Z
DTSTART;TZID=Europe/Berlin:20250911T200000
DTEND;TZID=Europe/Berlin:20250911T230000
SUMMARY:HE 5. Liga Gr. 2 Frauenfeld II vs Gossau St.Gallen II (0)
UID:81bad405-d09b-42eb-bf44-194c21fa885f
STATUS:CONFIRMED
LAST-MODIFIED:20250915T083947Z
DESCRIPTION:5. Liga Herren Gruppe 2\nBegegnungs-Nr: 0\nHeim: Frauenfeld II\nGast: Gossau St.Gallen II\n\nAdresse: Scheuchenstrasse\, 8500 Frauenfeld\n
LOCATION:Scheuchenstrasse\, 8500 Frauenfeld
CATEGORIES:Saison 2025/26
END:VEVENT
BEGIN:VEVENT
DTSTAMP:20260424T135815Z
DTSTART;TZID=Europe/Berlin:20260205T200000
DTEND;TZID=Europe/Berlin:20260205T230000
SUMMARY:HE 5. Liga Gr. 2 Frauenfeld II vs St. Gallen VII (0)
UID:36c6b89a-f3c1-4d32-8a02-1c1f5a89bc05
STATUS:CONFIRMED
LAST-MODIFIED:20260206T135409Z
DESCRIPTION:5. Liga Herren Gruppe 2\nBegegnungs-Nr: 0\nHeim: Frauenfeld II\nGast: St. Gallen VII\n\nAdresse: Scheuchenstrasse\, 8500 Frauenfeld\n
LOCATION:Scheuchenstrasse\, 8500 Frauenfeld
CATEGORIES:Saison 2025/26
END:VEVENT
BEGIN:VEVENT
DTSTAMP:20260424T135815Z
DTSTART;TZID=Europe/Berlin:20250925T200000
DTEND;TZID=Europe/Berlin:20250925T230000
SUMMARY:HE 5. Liga Gr. 2 Frauenfeld II vs Schlatt (0)
UID:13a51771-47d3-46cd-a626-fd1a8258274a
STATUS:CONFIRMED
LAST-MODIFIED:20250926T132110Z
DESCRIPTION:5. Liga Herren Gruppe 2\nBegegnungs-Nr: 0\nHeim: Frauenfeld II\nGast: Schlatt\n\nAdresse: Scheuchenstrasse\, 8500 Frauenfeld\n
LOCATION:Scheuchenstrasse\, 8500 Frauenfeld
CATEGORIES:Saison 2025/26
END:VEVENT
BEGIN:VEVENT
DTSTAMP:20260424T135815Z
DTSTART;TZID=Europe/Berlin:20251030T200000
DTEND;TZID=Europe/Berlin:20251030T230000
SUMMARY:HE 5. Liga Gr. 2 Frauenfeld II vs Wil SG IV (0)
UID:95baf6d0-8204-4a78-9230-228105263da2
STATUS:CONFIRMED
LAST-MODIFIED:20251031T143851Z
DESCRIPTION:5. Liga Herren Gruppe 2\nBegegnungs-Nr: 0\nHeim: Frauenfeld II\nGast: Wil SG IV\n\nAdresse: Scheuchenstrasse\, 8500 Frauenfeld\n
LOCATION:Scheuchenstrasse\, 8500 Frauenfeld
CATEGORIES:Saison 2025/26
END:VEVENT
BEGIN:VEVENT
DTSTAMP:20260424T135815Z
DTSTART;TZID=Europe/Berlin:20251204T200000
DTEND;TZID=Europe/Berlin:20251204T230000
SUMMARY:HE 5. Liga Gr. 2 Frauenfeld II vs Ettenhausen III (0)
UID:742c0176-abd4-4108-a93b-237cde2de6da
STATUS:CONFIRMED
LAST-MODIFIED:20251205T130721Z
DESCRIPTION:5. Liga Herren Gruppe 2\nBegegnungs-Nr: 0\nHeim: Frauenfeld II\nGast: Ettenhausen III\n\nAdresse: Scheuchenstrasse\, 8500 Frauenfeld\n
LOCATION:Scheuchenstrasse\, 8500 Frauenfeld
CATEGORIES:Saison 2025/26
END:VEVENT
BEGIN:VEVENT
DTSTAMP:20260424T135815Z
DTSTART;TZID=Europe/Berlin:20260318T201500
DTEND;TZID=Europe/Berlin:20260318T231500
SUMMARY:HE 5. Liga Gr. 2 Ettenhausen III vs Frauenfeld II (0)
UID:28ec46ae-e749-4477-9d97-f98735bebeed
STATUS:CONFIRMED
LAST-MODIFIED:20260320T141256Z
DESCRIPTION:5. Liga Herren Gruppe 2\nBegegnungs-Nr: 0\nHeim: Ettenhausen III\nGast: Frauenfeld II\n\nAdresse: Weidlistrasse 12\, 8356 Ettenhausen\n
LOCATION:Weidlistrasse 12\, 8356 Ettenhausen
CATEGORIES:Saison 2025/26
END:VEVENT
BEGIN:VEVENT
DTSTAMP:20260424T135815Z
DTSTART;TZID=Europe/Berlin:20250825T201500
DTEND;TZID=Europe/Berlin:20250825T231500
SUMMARY:HE 5. Liga Gr. 2 Wallenwil III vs Frauenfeld II (0)
UID:fd1d9b4e-19bf-4944-b6b9-f464a147eca5
STATUS:CONFIRMED
LAST-MODIFIED:20250826T113348Z
DESCRIPTION:5. Liga Herren Gruppe 2\nBegegnungs-Nr: 0\nHeim: Wallenwil III\nGast: Frauenfeld II\n\nAdresse: Stationsstrasse 29\, 8360 Wallenwil\n
LOCATION:Stationsstrasse 29\, 8360 Wallenwil
CATEGORIES:Saison 2025/26
END:VEVENT
BEGIN:VEVENT
DTSTAMP:20260424T135815Z
DTSTART;TZID=Europe/Berlin:20260120T200000
DTEND;TZID=Europe/Berlin:20260120T230000
SUMMARY:HE 5. Liga Gr. 2 Gossau St.Gallen II vs Frauenfeld II (0)
UID:8f9e039c-cec7-429c-a3ed-1e3dc3ab3d93
STATUS:CONFIRMED
LAST-MODIFIED:20260121T092620Z
DESCRIPTION:5. Liga Herren Gruppe 2\nBegegnungs-Nr: 0\nHeim: Gossau St.Gallen II\nGast: Frauenfeld II\n\nAdresse: Falkenstrasse 21\, 9200 Gossau\n
LOCATION:Falkenstrasse 21\, 9200 Gossau
CATEGORIES:Saison 2025/26
END:VEVENT
BEGIN:VEVENT
DTSTAMP:20260424T135815Z
DTSTART;TZID=Europe/Berlin:20260302T193000
DTEND;TZID=Europe/Berlin:20260302T223000
SUMMARY:HE 5. Liga Gr. 2 Schlatt vs Frauenfeld II (0)
UID:782c2373-9f67-4cb1-b8fc-00777f90db40
STATUS:CONFIRMED
LAST-MODIFIED:20260303T110126Z
DESCRIPTION:5. Liga Herren Gruppe 2\nBegegnungs-Nr: 0\nHeim: Schlatt\nGast: Frauenfeld II\n\nAdresse: Waltersteinerstrasse 79\, 8418 Schlatt ZH\n
LOCATION:Waltersteinerstrasse 79\, 8418 Schlatt ZH
CATEGORIES:Saison 2025/26
END:VEVENT
BEGIN:VEVENT
DTSTAMP:20260424T135815Z
DTSTART;TZID=Europe/Berlin:20260310T201500
DTEND;TZID=Europe/Berlin:20260310T231500
SUMMARY:HE 5. Liga Gr. 2 Wil SG IV vs Frauenfeld II (0)
UID:abefe502-66c8-4f0d-9678-f22aacb95a4c
STATUS:CONFIRMED
LAST-MODIFIED:20260313T131622Z
DESCRIPTION:5. Liga Herren Gruppe 2\nBegegnungs-Nr: 0\nHeim: Wil SG IV\nGast: Frauenfeld II\n\nAdresse: Lindenhofstr. 23\, 9500 Wil\n
LOCATION:Lindenhofstr. 23\, 9500 Wil
CATEGORIES:Saison 2025/26
END:VEVENT
BEGIN:VEVENT
DTSTAMP:20260424T135815Z
DTSTART;TZID=Europe/Berlin:20250919T200000
DTEND;TZID=Europe/Berlin:20250919T230000
SUMMARY:HE 5. Liga Gr. 2 St. Gallen VII vs Frauenfeld II (0)
UID:d340fc2c-b6a0-422f-90fe-d75b05d114e7
STATUS:CONFIRMED
LAST-MODIFIED:20250926T132032Z
DESCRIPTION:5. Liga Herren Gruppe 2\nBegegnungs-Nr: 0\nHeim: St. Gallen VII\nGast: Frauenfeld II\n\nAdresse: Zilstrasse 61\, 9016 St.Gallen\n
LOCATION:Zilstrasse 61\, 9016 St.Gallen
CATEGORIES:Saison 2025/26
END:VEVENT
BEGIN:VEVENT
DTSTAMP:20260424T135815Z
DTSTART;TZID=Europe/Berlin:20251104T200000
DTEND;TZID=Europe/Berlin:20251104T230000
SUMMARY:HE 5. Liga Gr. 2 Weinfelden III vs Frauenfeld II (0)
UID:e68b6c9e-6c79-48f0-81af-b33d19d98ed7
STATUS:CONFIRMED
LAST-MODIFIED:20251107T145023Z
DESCRIPTION:5. Liga Herren Gruppe 2\nBegegnungs-Nr: 0\nHeim: Weinfelden III\nGast: Frauenfeld II\n\nAdresse: Bleichestrasse 3 (neben Hallenbad)\, 8570 Weinfelden\n
LOCATION:Bleichestrasse 3 (neben Hallenbad)\, 8570 Weinfelden
CATEGORIES:Saison 2025/26
END:VEVENT
END:VCALENDAR
