BEGIN:VCALENDAR
PRODID:-//nuDatenautomaten//framework iCal4j //DE
VERSION:2.0
CALSCALE:GREGORIAN
BEGIN:VTIMEZONE
TZID:Europe/Berlin
LAST-MODIFIED:20260306T231828Z
TZURL:https://www.tzurl.org/zoneinfo/Europe/Berlin
X-LIC-LOCATION:Europe/Berlin
X-PROLEPTIC-TZNAME:LMT
BEGIN:STANDARD
TZNAME:CET
TZOFFSETFROM:+005328
TZOFFSETTO:+0100
DTSTART:18930401T000000
END:STANDARD
BEGIN:DAYLIGHT
TZNAME:CEST
TZOFFSETFROM:+0100
TZOFFSETTO:+0200
DTSTART:19160430T230000
RDATE:19400401T020000
RDATE:19430329T020000
RDATE:19460414T020000
RDATE:19470406T030000
RDATE:19480418T020000
RDATE:19490410T020000
RDATE:19800406T020000
END:DAYLIGHT
BEGIN:STANDARD
TZNAME:CET
TZOFFSETFROM:+0200
TZOFFSETTO:+0100
DTSTART:19161001T010000
RDATE:19421102T030000
RDATE:19431004T030000
RDATE:19441002T030000
RDATE:19451118T030000
RDATE:19461007T030000
END:STANDARD
BEGIN:DAYLIGHT
TZNAME:CEST
TZOFFSETFROM:+0100
TZOFFSETTO:+0200
DTSTART:19170416T020000
RRULE:FREQ=YEARLY;UNTIL=19180415T010000Z;BYMONTH=4;BYDAY=3MO
END:DAYLIGHT
BEGIN:STANDARD
TZNAME:CET
TZOFFSETFROM:+0200
TZOFFSETTO:+0100
DTSTART:19170917T030000
RRULE:FREQ=YEARLY;UNTIL=19180916T010000Z;BYMONTH=9;BYDAY=3MO
END:STANDARD
BEGIN:DAYLIGHT
TZNAME:CEST
TZOFFSETFROM:+0100
TZOFFSETTO:+0200
DTSTART:19440403T020000
RRULE:FREQ=YEARLY;UNTIL=19450402T010000Z;BYMONTH=4;BYDAY=1MO
END:DAYLIGHT
BEGIN:DAYLIGHT
TZNAME:CEMT
TZOFFSETFROM:+0200
TZOFFSETTO:+0300
DTSTART:19450524T020000
RDATE:19470511T030000
END:DAYLIGHT
BEGIN:DAYLIGHT
TZNAME:CEST
TZOFFSETFROM:+0300
TZOFFSETTO:+0200
DTSTART:19450924T030000
RDATE:19470629T030000
END:DAYLIGHT
BEGIN:STANDARD
TZNAME:CET
TZOFFSETFROM:+0100
TZOFFSETTO:+0100
DTSTART:19460101T000000
RDATE:19800101T000000
END:STANDARD
BEGIN:STANDARD
TZNAME:CET
TZOFFSETFROM:+0200
TZOFFSETTO:+0100
DTSTART:19471005T030000
RRULE:FREQ=YEARLY;UNTIL=19491002T010000Z;BYMONTH=10;BYDAY=1SU
END:STANDARD
BEGIN:STANDARD
TZNAME:CET
TZOFFSETFROM:+0200
TZOFFSETTO:+0100
DTSTART:19800928T030000
RRULE:FREQ=YEARLY;UNTIL=19950924T010000Z;BYMONTH=9;BYDAY=-1SU
END:STANDARD
BEGIN:DAYLIGHT
TZNAME:CEST
TZOFFSETFROM:+0100
TZOFFSETTO:+0200
DTSTART:19810329T020000
RRULE:FREQ=YEARLY;BYMONTH=3;BYDAY=-1SU
END:DAYLIGHT
BEGIN:STANDARD
TZNAME:CET
TZOFFSETFROM:+0200
TZOFFSETTO:+0100
DTSTART:19961027T030000
RRULE:FREQ=YEARLY;BYMONTH=10;BYDAY=-1SU
END:STANDARD
END:VTIMEZONE
BEGIN:VEVENT
DTSTAMP:20260424T084019Z
DTSTART;TZID=Europe/Berlin:20251107T193000
DTEND;TZID=Europe/Berlin:20251107T223000
SUMMARY:HE 3. Liga Gr. 3 Burgdorf VI vs Regio Moossee (23)
UID:09839d60-934e-442d-b61d-db68386c0212
STATUS:CONFIRMED
LAST-MODIFIED:20251115T171810Z
DESCRIPTION:3. Liga Herren Gruppe 3\nBegegnungs-Nr: 23\nHeim: Burgdorf VI\nGast: Regio Moossee\n\nAdresse: Pestalozzistrasse 69\, 3400 Burgdorf\n
LOCATION:Pestalozzistrasse 69\, 3400 Burgdorf
CATEGORIES:Saison 2025/26
END:VEVENT
BEGIN:VEVENT
DTSTAMP:20260424T084019Z
DTSTART;TZID=Europe/Berlin:20251101T140000
DTEND;TZID=Europe/Berlin:20251101T170000
SUMMARY:HE 3. Liga Gr. 3 Burgdorf VI vs Wynigen (16)
UID:b8011d8f-261f-4fd1-9881-3c5549f9e572
STATUS:CONFIRMED
LAST-MODIFIED:20251111T072244Z
DESCRIPTION:3. Liga Herren Gruppe 3\nBegegnungs-Nr: 16\nHeim: Burgdorf VI\nGast: Wynigen\n\nAdresse: Pestalozzistrasse 69\, 3400 Burgdorf\n
LOCATION:Pestalozzistrasse 69\, 3400 Burgdorf
CATEGORIES:Saison 2025/26
END:VEVENT
BEGIN:VEVENT
DTSTAMP:20260424T084019Z
DTSTART;TZID=Europe/Berlin:20251017T193000
DTEND;TZID=Europe/Berlin:20251017T223000
SUMMARY:HE 3. Liga Gr. 3 Burgdorf VI vs Port VI (6)
UID:c6e337de-68df-4948-a9b0-ea49e2202b67
STATUS:CONFIRMED
LAST-MODIFIED:20251020T114305Z
DESCRIPTION:3. Liga Herren Gruppe 3\nBegegnungs-Nr: 6\nHeim: Burgdorf VI\nGast: Port VI\n\nAdresse: Pestalozzistrasse 69\, 3400 Burgdorf\n
LOCATION:Pestalozzistrasse 69\, 3400 Burgdorf
CATEGORIES:Saison 2025/26
END:VEVENT
BEGIN:VEVENT
DTSTAMP:20260424T084019Z
DTSTART;TZID=Europe/Berlin:20260307T140000
DTEND;TZID=Europe/Berlin:20260307T170000
SUMMARY:HE 3. Liga Gr. 3 Burgdorf VI vs Langenthal (20)
UID:43bac1ba-6c3b-4c04-b99b-16519e6c7ce4
STATUS:CONFIRMED
LAST-MODIFIED:20260308T173942Z
DESCRIPTION:3. Liga Herren Gruppe 3\nBegegnungs-Nr: 20\nHeim: Burgdorf VI\nGast: Langenthal\n\nAdresse: Pestalozzistrasse 69\, 3400 Burgdorf\n
LOCATION:Pestalozzistrasse 69\, 3400 Burgdorf
CATEGORIES:Saison 2025/26
END:VEVENT
BEGIN:VEVENT
DTSTAMP:20260424T084019Z
DTSTART;TZID=Europe/Berlin:20260318T200000
DTEND;TZID=Europe/Berlin:20260318T230000
SUMMARY:HE 3. Liga Gr. 3 Burgdorf VI vs Aarberg III (28)
UID:e9106da9-c999-4610-bfc6-a4d210e3e94a
STATUS:CONFIRMED
LAST-MODIFIED:20260327T143506Z
DESCRIPTION:3. Liga Herren Gruppe 3\nBegegnungs-Nr: 28\nHeim: Burgdorf VI\nGast: Aarberg III\n\nAdresse: Pestalozzistrasse 69\, 3400 Burgdorf\n
LOCATION:Pestalozzistrasse 69\, 3400 Burgdorf
CATEGORIES:Saison 2025/26
END:VEVENT
BEGIN:VEVENT
DTSTAMP:20260424T084019Z
DTSTART;TZID=Europe/Berlin:20260109T193000
DTEND;TZID=Europe/Berlin:20260109T223000
SUMMARY:HE 3. Liga Gr. 3 Burgdorf VI vs Herzogenbuchsee III (1)
UID:726ed27a-ca7b-4b66-8b1b-f141180f6dfd
STATUS:CONFIRMED
LAST-MODIFIED:20260125T001139Z
DESCRIPTION:3. Liga Herren Gruppe 3\nBegegnungs-Nr: 1\nHeim: Burgdorf VI\nGast: Herzogenbuchsee III\n\nAdresse: Pestalozzistrasse 69\, 3400 Burgdorf\n
LOCATION:Pestalozzistrasse 69\, 3400 Burgdorf
CATEGORIES:Saison 2025/26
END:VEVENT
BEGIN:VEVENT
DTSTAMP:20260424T084019Z
DTSTART;TZID=Europe/Berlin:20260206T193000
DTEND;TZID=Europe/Berlin:20260206T223000
SUMMARY:HE 3. Liga Gr. 3 Burgdorf VI vs Lyss (11)
UID:3218ff41-6d6a-4f81-a7ff-84535ce46980
STATUS:CONFIRMED
LAST-MODIFIED:20260217T212839Z
DESCRIPTION:3. Liga Herren Gruppe 3\nBegegnungs-Nr: 11\nHeim: Burgdorf VI\nGast: Lyss\n\nAdresse: Pestalozzistrasse 69\, 3400 Burgdorf\n
LOCATION:Pestalozzistrasse 69\, 3400 Burgdorf
CATEGORIES:Saison 2025/26
END:VEVENT
BEGIN:VEVENT
DTSTAMP:20260424T084019Z
DTSTART;TZID=Europe/Berlin:20251217T201500
DTEND;TZID=Europe/Berlin:20251217T231500
SUMMARY:HE 3. Liga Gr. 3 Aarberg III vs Burgdorf VI (28)
UID:44d59d65-b3dd-46de-8458-4951285bd1f0
STATUS:CONFIRMED
LAST-MODIFIED:20251223T090836Z
DESCRIPTION:3. Liga Herren Gruppe 3\nBegegnungs-Nr: 28\nHeim: Aarberg III\nGast: Burgdorf VI\n\nAdresse: Nidaustrasse 7\, 3270 Aarberg\n
LOCATION:Nidaustrasse 7\, 3270 Aarberg
CATEGORIES:Saison 2025/26
END:VEVENT
BEGIN:VEVENT
DTSTAMP:20260424T084019Z
DTSTART;TZID=Europe/Berlin:20251117T200000
DTEND;TZID=Europe/Berlin:20251117T230000
SUMMARY:HE 3. Liga Gr. 3 Langenthal vs Burgdorf VI (20)
UID:ee9efacc-4138-44d5-b6a9-740096940f9d
STATUS:CONFIRMED
LAST-MODIFIED:20251122T090830Z
DESCRIPTION:3. Liga Herren Gruppe 3\nBegegnungs-Nr: 20\nHeim: Langenthal\nGast: Burgdorf VI\n\nAdresse: Weststrasse 29\, 4900 Langenthal\n
LOCATION:Weststrasse 29\, 4900 Langenthal
CATEGORIES:Saison 2025/26
END:VEVENT
BEGIN:VEVENT
DTSTAMP:20260424T084019Z
DTSTART;TZID=Europe/Berlin:20251014T200000
DTEND;TZID=Europe/Berlin:20251014T230000
SUMMARY:HE 3. Liga Gr. 3 Lyss vs Burgdorf VI (11)
UID:2c469c0b-1012-486e-a03c-50b935ef379b
STATUS:CONFIRMED
LAST-MODIFIED:20251016T191433Z
DESCRIPTION:3. Liga Herren Gruppe 3\nBegegnungs-Nr: 11\nHeim: Lyss\nGast: Burgdorf VI\n\nAdresse: Stegmattweg 15-17\, 3250 Lyss\n
LOCATION:Stegmattweg 15-17\, 3250 Lyss
CATEGORIES:Saison 2025/26
END:VEVENT
BEGIN:VEVENT
DTSTAMP:20260424T084019Z
DTSTART;TZID=Europe/Berlin:20250905T200000
DTEND;TZID=Europe/Berlin:20250905T230000
SUMMARY:HE 3. Liga Gr. 3 Herzogenbuchsee III vs Burgdorf VI (1)
UID:a1fd9999-1550-4982-996d-dd8b6106fff7
STATUS:CONFIRMED
LAST-MODIFIED:20250907T200004Z
DESCRIPTION:3. Liga Herren Gruppe 3\nBegegnungs-Nr: 1\nHeim: Herzogenbuchsee III\nGast: Burgdorf VI\n\nAdresse: Ringstrasse 10\, 3360 Herzogenbuchsee\n
LOCATION:Ringstrasse 10\, 3360 Herzogenbuchsee
CATEGORIES:Saison 2025/26
END:VEVENT
BEGIN:VEVENT
DTSTAMP:20260424T084019Z
DTSTART;TZID=Europe/Berlin:20260317T194500
DTEND;TZID=Europe/Berlin:20260317T224500
SUMMARY:HE 3. Liga Gr. 3 Regio Moossee vs Burgdorf VI (23)
UID:4fb2442a-6660-4f16-85fa-cc32a734d3b2
STATUS:CONFIRMED
LAST-MODIFIED:20260327T143442Z
DESCRIPTION:3. Liga Herren Gruppe 3\nBegegnungs-Nr: 23\nHeim: Regio Moossee\nGast: Burgdorf VI\n\nAdresse: Schulhausstrasse 23-25\, 3302 Moosseedorf\n
LOCATION:Schulhausstrasse 23-25\, 3302 Moosseedorf
CATEGORIES:Saison 2025/26
END:VEVENT
BEGIN:VEVENT
DTSTAMP:20260424T084019Z
DTSTART;TZID=Europe/Berlin:20260216T201500
DTEND;TZID=Europe/Berlin:20260216T231500
SUMMARY:HE 3. Liga Gr. 3 Wynigen vs Burgdorf VI (16)
UID:b2cedd8e-9042-4077-af57-59ddbd236a4e
STATUS:CONFIRMED
LAST-MODIFIED:20260217T212940Z
DESCRIPTION:3. Liga Herren Gruppe 3\nBegegnungs-Nr: 16\nHeim: Wynigen\nGast: Burgdorf VI\n\nAdresse: -\, 3472 Wynigen\n
LOCATION:-\, 3472 Wynigen
CATEGORIES:Saison 2025/26
END:VEVENT
BEGIN:VEVENT
DTSTAMP:20260424T084019Z
DTSTART;TZID=Europe/Berlin:20260123T194500
DTEND;TZID=Europe/Berlin:20260123T224500
SUMMARY:HE 3. Liga Gr. 3 Port VI vs Burgdorf VI (6)
UID:79bde13e-b402-46e4-aabc-5271ff2fd778
STATUS:CONFIRMED
LAST-MODIFIED:20260125T001229Z
DESCRIPTION:3. Liga Herren Gruppe 3\nBegegnungs-Nr: 6\nHeim: Port VI\nGast: Burgdorf VI\n\nAdresse: Allmendstrasse 23\, 2562 Port\n
LOCATION:Allmendstrasse 23\, 2562 Port
CATEGORIES:Saison 2025/26
END:VEVENT
END:VCALENDAR
