BEGIN:VCALENDAR
PRODID:-//nuDatenautomaten//framework iCal4j //DE
VERSION:2.0
CALSCALE:GREGORIAN
BEGIN:VTIMEZONE
TZID:Europe/Berlin
LAST-MODIFIED:20260306T231828Z
TZURL:https://www.tzurl.org/zoneinfo/Europe/Berlin
X-LIC-LOCATION:Europe/Berlin
X-PROLEPTIC-TZNAME:LMT
BEGIN:STANDARD
TZNAME:CET
TZOFFSETFROM:+005328
TZOFFSETTO:+0100
DTSTART:18930401T000000
END:STANDARD
BEGIN:DAYLIGHT
TZNAME:CEST
TZOFFSETFROM:+0100
TZOFFSETTO:+0200
DTSTART:19160430T230000
RDATE:19400401T020000
RDATE:19430329T020000
RDATE:19460414T020000
RDATE:19470406T030000
RDATE:19480418T020000
RDATE:19490410T020000
RDATE:19800406T020000
END:DAYLIGHT
BEGIN:STANDARD
TZNAME:CET
TZOFFSETFROM:+0200
TZOFFSETTO:+0100
DTSTART:19161001T010000
RDATE:19421102T030000
RDATE:19431004T030000
RDATE:19441002T030000
RDATE:19451118T030000
RDATE:19461007T030000
END:STANDARD
BEGIN:DAYLIGHT
TZNAME:CEST
TZOFFSETFROM:+0100
TZOFFSETTO:+0200
DTSTART:19170416T020000
RRULE:FREQ=YEARLY;UNTIL=19180415T010000Z;BYMONTH=4;BYDAY=3MO
END:DAYLIGHT
BEGIN:STANDARD
TZNAME:CET
TZOFFSETFROM:+0200
TZOFFSETTO:+0100
DTSTART:19170917T030000
RRULE:FREQ=YEARLY;UNTIL=19180916T010000Z;BYMONTH=9;BYDAY=3MO
END:STANDARD
BEGIN:DAYLIGHT
TZNAME:CEST
TZOFFSETFROM:+0100
TZOFFSETTO:+0200
DTSTART:19440403T020000
RRULE:FREQ=YEARLY;UNTIL=19450402T010000Z;BYMONTH=4;BYDAY=1MO
END:DAYLIGHT
BEGIN:DAYLIGHT
TZNAME:CEMT
TZOFFSETFROM:+0200
TZOFFSETTO:+0300
DTSTART:19450524T020000
RDATE:19470511T030000
END:DAYLIGHT
BEGIN:DAYLIGHT
TZNAME:CEST
TZOFFSETFROM:+0300
TZOFFSETTO:+0200
DTSTART:19450924T030000
RDATE:19470629T030000
END:DAYLIGHT
BEGIN:STANDARD
TZNAME:CET
TZOFFSETFROM:+0100
TZOFFSETTO:+0100
DTSTART:19460101T000000
RDATE:19800101T000000
END:STANDARD
BEGIN:STANDARD
TZNAME:CET
TZOFFSETFROM:+0200
TZOFFSETTO:+0100
DTSTART:19471005T030000
RRULE:FREQ=YEARLY;UNTIL=19491002T010000Z;BYMONTH=10;BYDAY=1SU
END:STANDARD
BEGIN:STANDARD
TZNAME:CET
TZOFFSETFROM:+0200
TZOFFSETTO:+0100
DTSTART:19800928T030000
RRULE:FREQ=YEARLY;UNTIL=19950924T010000Z;BYMONTH=9;BYDAY=-1SU
END:STANDARD
BEGIN:DAYLIGHT
TZNAME:CEST
TZOFFSETFROM:+0100
TZOFFSETTO:+0200
DTSTART:19810329T020000
RRULE:FREQ=YEARLY;BYMONTH=3;BYDAY=-1SU
END:DAYLIGHT
BEGIN:STANDARD
TZNAME:CET
TZOFFSETFROM:+0200
TZOFFSETTO:+0100
DTSTART:19961027T030000
RRULE:FREQ=YEARLY;BYMONTH=10;BYDAY=-1SU
END:STANDARD
END:VTIMEZONE
BEGIN:VEVENT
DTSTAMP:20260423T224750Z
DTSTART;TZID=Europe/Berlin:20251115T130000
DTEND;TZID=Europe/Berlin:20251115T160000
SUMMARY:He 4. Liga Gr. 2 Rapid Luzern VIII vs Willisau II (0)
UID:04389c46-99db-49ba-b2e6-aadc944f4043
STATUS:CONFIRMED
LAST-MODIFIED:20251125T135231Z
DESCRIPTION:4. Liga Herren Gruppe 2\nBegegnungs-Nr: 0\nHeim: Rapid Luzern VIII\nGast: Willisau II\n\nAdresse: Kreuzbuchstr. 60\, 6006 Luzern\n
LOCATION:Kreuzbuchstr. 60\, 6006 Luzern
CATEGORIES:Saison 2025/26
END:VEVENT
BEGIN:VEVENT
DTSTAMP:20260423T224750Z
DTSTART;TZID=Europe/Berlin:20251101T153000
DTEND;TZID=Europe/Berlin:20251101T183000
SUMMARY:He 4. Liga Gr. 2 Rapid Luzern VIII vs Rotkreuz III (0)
UID:c6e9843f-9ea6-4392-9df5-ea9e74f95d87
STATUS:CONFIRMED
LAST-MODIFIED:20251125T134637Z
DESCRIPTION:4. Liga Herren Gruppe 2\nBegegnungs-Nr: 0\nHeim: Rapid Luzern VIII\nGast: Rotkreuz III\n\nAdresse: Kreuzbuchstr. 60\, 6006 Luzern\n
LOCATION:Kreuzbuchstr. 60\, 6006 Luzern
CATEGORIES:Saison 2025/26
END:VEVENT
BEGIN:VEVENT
DTSTAMP:20260423T224750Z
DTSTART;TZID=Europe/Berlin:20250823T153000
DTEND;TZID=Europe/Berlin:20250823T183000
SUMMARY:He 4. Liga Gr. 2 Rapid Luzern VIII vs Kriens VII (0)
UID:53278460-f375-4a3b-812b-4077f5c58b03
STATUS:CONFIRMED
LAST-MODIFIED:20250831T092412Z
DESCRIPTION:4. Liga Herren Gruppe 2\nBegegnungs-Nr: 0\nHeim: Rapid Luzern VIII\nGast: Kriens VII\n\nAdresse: Kreuzbuchstr. 60\, 6006 Luzern\n
LOCATION:Kreuzbuchstr. 60\, 6006 Luzern
CATEGORIES:Saison 2025/26
END:VEVENT
BEGIN:VEVENT
DTSTAMP:20260423T224750Z
DTSTART;TZID=Europe/Berlin:20260110T130000
DTEND;TZID=Europe/Berlin:20260110T160000
SUMMARY:He 4. Liga Gr. 2 Rapid Luzern VIII vs Rothenburg V (0)
UID:22c37506-8ad0-4013-b9c3-35cc4b7d4ebe
STATUS:CONFIRMED
LAST-MODIFIED:20260122T191652Z
DESCRIPTION:4. Liga Herren Gruppe 2\nBegegnungs-Nr: 0\nHeim: Rapid Luzern VIII\nGast: Rothenburg V\n\nAdresse: Kreuzbuchstr. 60\, 6006 Luzern\n
LOCATION:Kreuzbuchstr. 60\, 6006 Luzern
CATEGORIES:Saison 2025/26
END:VEVENT
BEGIN:VEVENT
DTSTAMP:20260423T224750Z
DTSTART;TZID=Europe/Berlin:20251220T130000
DTEND;TZID=Europe/Berlin:20251220T160000
SUMMARY:He 4. Liga Gr. 2 Rapid Luzern VIII vs Zug IV (0)
UID:7d5fed62-e924-4120-8fb2-4e3050278ecf
STATUS:CONFIRMED
LAST-MODIFIED:20260108T130641Z
DESCRIPTION:4. Liga Herren Gruppe 2\nBegegnungs-Nr: 0\nHeim: Rapid Luzern VIII\nGast: Zug IV\n\nAdresse: Kreuzbuchstr. 60\, 6006 Luzern\n
LOCATION:Kreuzbuchstr. 60\, 6006 Luzern
CATEGORIES:Saison 2025/26
END:VEVENT
BEGIN:VEVENT
DTSTAMP:20260423T224750Z
DTSTART;TZID=Europe/Berlin:20250919T200000
DTEND;TZID=Europe/Berlin:20250919T230000
SUMMARY:He 4. Liga Gr. 2 Zug IV vs Rapid Luzern VIII (0)
UID:430b5263-d6e4-4d53-a964-f5a73275555d
STATUS:CONFIRMED
LAST-MODIFIED:20250930T053123Z
DESCRIPTION:4. Liga Herren Gruppe 2\nBegegnungs-Nr: 0\nHeim: Zug IV\nGast: Rapid Luzern VIII\n\nAdresse: Lüssiweg 24\, 6300 Zug\n
LOCATION:Lüssiweg 24\, 6300 Zug
CATEGORIES:Saison 2025/26
END:VEVENT
BEGIN:VEVENT
DTSTAMP:20260423T224750Z
DTSTART;TZID=Europe/Berlin:20250926T200000
DTEND;TZID=Europe/Berlin:20250926T230000
SUMMARY:He 4. Liga Gr. 2 Rothenburg V vs Rapid Luzern VIII (0)
UID:cd95c218-9e78-477c-a200-517aa6414771
STATUS:CONFIRMED
LAST-MODIFIED:20250930T053740Z
DESCRIPTION:4. Liga Herren Gruppe 2\nBegegnungs-Nr: 0\nHeim: Rothenburg V\nGast: Rapid Luzern VIII\n\nAdresse: Schulhausstrasse 6a\, 6023 Rothenburg\n
LOCATION:Schulhausstrasse 6a\, 6023 Rothenburg
CATEGORIES:Saison 2025/26
END:VEVENT
BEGIN:VEVENT
DTSTAMP:20260423T224750Z
DTSTART;TZID=Europe/Berlin:20260302T194500
DTEND;TZID=Europe/Berlin:20260302T224500
SUMMARY:He 4. Liga Gr. 2 Willisau II vs Rapid Luzern VIII (0)
UID:6cca80c6-85c7-4c88-ac99-08925db2452e
STATUS:CONFIRMED
LAST-MODIFIED:20260329T152927Z
DESCRIPTION:4. Liga Herren Gruppe 2\nBegegnungs-Nr: 0\nHeim: Willisau II\nGast: Rapid Luzern VIII\n\nAdresse: Berufsbildung-Zentrum\, 6130 Willisau\n
LOCATION:Berufsbildung-Zentrum\, 6130 Willisau
CATEGORIES:Saison 2025/26
END:VEVENT
BEGIN:VEVENT
DTSTAMP:20260423T224750Z
DTSTART;TZID=Europe/Berlin:20251205T200000
DTEND;TZID=Europe/Berlin:20251205T230000
SUMMARY:He 4. Liga Gr. 2 Kriens VII vs Rapid Luzern VIII (0)
UID:2633a59b-402d-4238-b53f-cfba0e8eaf0b
STATUS:CONFIRMED
LAST-MODIFIED:20260108T130544Z
DESCRIPTION:4. Liga Herren Gruppe 2\nBegegnungs-Nr: 0\nHeim: Kriens VII\nGast: Rapid Luzern VIII\n\nAdresse: Krauerstrasse 1\, 6010 Kriens\n
LOCATION:Krauerstrasse 1\, 6010 Kriens
CATEGORIES:Saison 2025/26
END:VEVENT
BEGIN:VEVENT
DTSTAMP:20260423T224750Z
DTSTART;TZID=Europe/Berlin:20260123T201500
DTEND;TZID=Europe/Berlin:20260123T231500
SUMMARY:He 4. Liga Gr. 2 Rotkreuz III vs Rapid Luzern VIII (0)
UID:a5a251f9-9b46-4b9e-9c48-f12c2faf4b43
STATUS:CONFIRMED
LAST-MODIFIED:20260205T133107Z
DESCRIPTION:4. Liga Herren Gruppe 2\nBegegnungs-Nr: 0\nHeim: Rotkreuz III\nGast: Rapid Luzern VIII\n\nAdresse: Buonaserstr. 23\, 6343 Rotkreuz\n
LOCATION:Buonaserstr. 23\, 6343 Rotkreuz
CATEGORIES:Saison 2025/26
END:VEVENT
END:VCALENDAR
