BEGIN:VCALENDAR
PRODID:-//nuDatenautomaten//framework iCal4j //DE
VERSION:2.0
CALSCALE:GREGORIAN
BEGIN:VTIMEZONE
TZID:Europe/Berlin
LAST-MODIFIED:20260306T231828Z
TZURL:https://www.tzurl.org/zoneinfo/Europe/Berlin
X-LIC-LOCATION:Europe/Berlin
X-PROLEPTIC-TZNAME:LMT
BEGIN:STANDARD
TZNAME:CET
TZOFFSETFROM:+005328
TZOFFSETTO:+0100
DTSTART:18930401T000000
END:STANDARD
BEGIN:DAYLIGHT
TZNAME:CEST
TZOFFSETFROM:+0100
TZOFFSETTO:+0200
DTSTART:19160430T230000
RDATE:19400401T020000
RDATE:19430329T020000
RDATE:19460414T020000
RDATE:19470406T030000
RDATE:19480418T020000
RDATE:19490410T020000
RDATE:19800406T020000
END:DAYLIGHT
BEGIN:STANDARD
TZNAME:CET
TZOFFSETFROM:+0200
TZOFFSETTO:+0100
DTSTART:19161001T010000
RDATE:19421102T030000
RDATE:19431004T030000
RDATE:19441002T030000
RDATE:19451118T030000
RDATE:19461007T030000
END:STANDARD
BEGIN:DAYLIGHT
TZNAME:CEST
TZOFFSETFROM:+0100
TZOFFSETTO:+0200
DTSTART:19170416T020000
RRULE:FREQ=YEARLY;UNTIL=19180415T010000Z;BYMONTH=4;BYDAY=3MO
END:DAYLIGHT
BEGIN:STANDARD
TZNAME:CET
TZOFFSETFROM:+0200
TZOFFSETTO:+0100
DTSTART:19170917T030000
RRULE:FREQ=YEARLY;UNTIL=19180916T010000Z;BYMONTH=9;BYDAY=3MO
END:STANDARD
BEGIN:DAYLIGHT
TZNAME:CEST
TZOFFSETFROM:+0100
TZOFFSETTO:+0200
DTSTART:19440403T020000
RRULE:FREQ=YEARLY;UNTIL=19450402T010000Z;BYMONTH=4;BYDAY=1MO
END:DAYLIGHT
BEGIN:DAYLIGHT
TZNAME:CEMT
TZOFFSETFROM:+0200
TZOFFSETTO:+0300
DTSTART:19450524T020000
RDATE:19470511T030000
END:DAYLIGHT
BEGIN:DAYLIGHT
TZNAME:CEST
TZOFFSETFROM:+0300
TZOFFSETTO:+0200
DTSTART:19450924T030000
RDATE:19470629T030000
END:DAYLIGHT
BEGIN:STANDARD
TZNAME:CET
TZOFFSETFROM:+0100
TZOFFSETTO:+0100
DTSTART:19460101T000000
RDATE:19800101T000000
END:STANDARD
BEGIN:STANDARD
TZNAME:CET
TZOFFSETFROM:+0200
TZOFFSETTO:+0100
DTSTART:19471005T030000
RRULE:FREQ=YEARLY;UNTIL=19491002T010000Z;BYMONTH=10;BYDAY=1SU
END:STANDARD
BEGIN:STANDARD
TZNAME:CET
TZOFFSETFROM:+0200
TZOFFSETTO:+0100
DTSTART:19800928T030000
RRULE:FREQ=YEARLY;UNTIL=19950924T010000Z;BYMONTH=9;BYDAY=-1SU
END:STANDARD
BEGIN:DAYLIGHT
TZNAME:CEST
TZOFFSETFROM:+0100
TZOFFSETTO:+0200
DTSTART:19810329T020000
RRULE:FREQ=YEARLY;BYMONTH=3;BYDAY=-1SU
END:DAYLIGHT
BEGIN:STANDARD
TZNAME:CET
TZOFFSETFROM:+0200
TZOFFSETTO:+0100
DTSTART:19961027T030000
RRULE:FREQ=YEARLY;BYMONTH=10;BYDAY=-1SU
END:STANDARD
END:VTIMEZONE
BEGIN:VEVENT
DTSTAMP:20260424T115147Z
DTSTART;TZID=Europe/Berlin:20250917T194500
DTEND;TZID=Europe/Berlin:20250917T224500
SUMMARY:Ligue 5 Gr.1 Ph.A Châtelaine VIII vs Meyrin VII (3)
UID:383cd9c1-11f3-4967-adb8-989569c36e37
STATUS:CONFIRMED
LAST-MODIFIED:20250918T144504Z
DESCRIPTION:5ème ligue Hommes Gr.1 Phase A\nBegegnungs-Nr: 3\nHeim: Châtelaine VIII\nGast: Meyrin VII\n
LOCATION:
CATEGORIES:Saison 2025/26
END:VEVENT
BEGIN:VEVENT
DTSTAMP:20260424T115147Z
DTSTART;TZID=Europe/Berlin:20251029T194500
DTEND;TZID=Europe/Berlin:20251029T224500
SUMMARY:Ligue 5 Gr.1 Ph.A Châtelaine VIII vs Mandement VI (12)
UID:26e2e1fa-e06d-4353-89a5-3e8428052a19
STATUS:CONFIRMED
LAST-MODIFIED:20251031T075059Z
DESCRIPTION:5ème ligue Hommes Gr.1 Phase A\nBegegnungs-Nr: 12\nHeim: Châtelaine VIII\nGast: Mandement VI\n
LOCATION:
CATEGORIES:Saison 2025/26
END:VEVENT
BEGIN:VEVENT
DTSTAMP:20260424T115147Z
DTSTART;TZID=Europe/Berlin:20251119T194500
DTEND;TZID=Europe/Berlin:20251119T224500
SUMMARY:Ligue 5 Gr.1 Ph.A Châtelaine VIII vs Versoix VI (15)
UID:87c7266c-b955-4b0f-aed0-aa546ec80347
STATUS:CONFIRMED
LAST-MODIFIED:20251120T123827Z
DESCRIPTION:5ème ligue Hommes Gr.1 Phase A\nBegegnungs-Nr: 15\nHeim: Châtelaine VIII\nGast: Versoix VI\n
LOCATION:
CATEGORIES:Saison 2025/26
END:VEVENT
BEGIN:VEVENT
DTSTAMP:20260424T115147Z
DTSTART;TZID=Europe/Berlin:20251126T194500
DTEND;TZID=Europe/Berlin:20251126T224500
SUMMARY:Ligue 5 Gr.1 Ph.A Châtelaine VIII vs ZZ-Lancy X (18)
UID:b9733a00-566f-4d5a-9694-8b4a0bbf9010
STATUS:CONFIRMED
LAST-MODIFIED:20251127T185627Z
DESCRIPTION:5ème ligue Hommes Gr.1 Phase A\nBegegnungs-Nr: 18\nHeim: Châtelaine VIII\nGast: ZZ-Lancy X\n
LOCATION:
CATEGORIES:Saison 2025/26
END:VEVENT
BEGIN:VEVENT
DTSTAMP:20260424T115147Z
DTSTART;TZID=Europe/Berlin:20260326T200000
DTEND;TZID=Europe/Berlin:20260326T230000
SUMMARY:Ligue 5 Gr.4 Ph.B Châtelaine VIII vs Veyrier V (23)
UID:c316bfbe-eed8-42e8-aa05-4153e19a5f3b
STATUS:CONFIRMED
LAST-MODIFIED:20260325T142315Z
DESCRIPTION:5ème ligue Hommes Gr.4 Phase B\nBegegnungs-Nr: 23\nHeim: Châtelaine VIII\nGast: Veyrier V\n
LOCATION:
CATEGORIES:Saison 2025/26
END:VEVENT
BEGIN:VEVENT
DTSTAMP:20260424T115147Z
DTSTART;TZID=Europe/Berlin:20260319T200000
DTEND;TZID=Europe/Berlin:20260319T230000
SUMMARY:Ligue 5 Gr.4 Ph.B Châtelaine VIII vs Versoix VII (19)
UID:061127ef-3436-4f90-9abd-296a7f11f6ca
STATUS:CONFIRMED
LAST-MODIFIED:20260320T082230Z
DESCRIPTION:5ème ligue Hommes Gr.4 Phase B\nBegegnungs-Nr: 19\nHeim: Châtelaine VIII\nGast: Versoix VII\n
LOCATION:
CATEGORIES:Saison 2025/26
END:VEVENT
BEGIN:VEVENT
DTSTAMP:20260424T115147Z
DTSTART;TZID=Europe/Berlin:20260219T200000
DTEND;TZID=Europe/Berlin:20260219T230000
SUMMARY:Ligue 5 Gr.4 Ph.B Châtelaine VIII vs Puplinge III (14)
UID:7955a986-c053-47fe-a7e6-eb1faeec954b
STATUS:CONFIRMED
LAST-MODIFIED:20260220T081657Z
DESCRIPTION:5ème ligue Hommes Gr.4 Phase B\nBegegnungs-Nr: 14\nHeim: Châtelaine VIII\nGast: Puplinge III\n
LOCATION:
CATEGORIES:Saison 2025/26
END:VEVENT
BEGIN:VEVENT
DTSTAMP:20260424T115147Z
DTSTART;TZID=Europe/Berlin:20260212T200000
DTEND;TZID=Europe/Berlin:20260212T230000
SUMMARY:Ligue 5 Gr.4 Ph.B Châtelaine VIII vs Bernex VI (10)
UID:c65c3ee7-b7a0-4779-968d-a49ca39b2c11
STATUS:CONFIRMED
LAST-MODIFIED:20260213T084703Z
DESCRIPTION:5ème ligue Hommes Gr.4 Phase B\nBegegnungs-Nr: 10\nHeim: Châtelaine VIII\nGast: Bernex VI\n
LOCATION:
CATEGORIES:Saison 2025/26
END:VEVENT
BEGIN:VEVENT
DTSTAMP:20260424T115147Z
DTSTART;TZID=Europe/Berlin:20250902T194500
DTEND;TZID=Europe/Berlin:20250902T224500
SUMMARY:Ligue 5 Gr.1 Ph.A Mandement VI vs Châtelaine VIII (2)
UID:7772bea9-8a29-4848-9cd9-f1b1ee391e19
STATUS:CONFIRMED
LAST-MODIFIED:20250904T111951Z
DESCRIPTION:5ème ligue Hommes Gr.1 Phase A\nBegegnungs-Nr: 2\nHeim: Mandement VI\nGast: Châtelaine VIII\n
LOCATION:
CATEGORIES:Saison 2025/26
END:VEVENT
BEGIN:VEVENT
DTSTAMP:20260424T115147Z
DTSTART;TZID=Europe/Berlin:20250922T194500
DTEND;TZID=Europe/Berlin:20250922T224500
SUMMARY:Ligue 5 Gr.1 Ph.A Versoix VI vs Châtelaine VIII (5)
UID:ff6a0495-f383-4a60-838c-dbf70d18381f
STATUS:CONFIRMED
LAST-MODIFIED:20250923T071655Z
DESCRIPTION:5ème ligue Hommes Gr.1 Phase A\nBegegnungs-Nr: 5\nHeim: Versoix VI\nGast: Châtelaine VIII\n
LOCATION:
CATEGORIES:Saison 2025/26
END:VEVENT
BEGIN:VEVENT
DTSTAMP:20260424T115147Z
DTSTART;TZID=Europe/Berlin:20251006T200000
DTEND;TZID=Europe/Berlin:20251006T230000
SUMMARY:Ligue 5 Gr.1 Ph.A ZZ-Lancy X vs Châtelaine VIII (8)
UID:b599dc9b-942b-459e-8f90-abd2abffcda3
STATUS:CONFIRMED
LAST-MODIFIED:20251007T160246Z
DESCRIPTION:5ème ligue Hommes Gr.1 Phase A\nBegegnungs-Nr: 8\nHeim: ZZ-Lancy X\nGast: Châtelaine VIII\n
LOCATION:
CATEGORIES:Saison 2025/26
END:VEVENT
BEGIN:VEVENT
DTSTAMP:20260424T115147Z
DTSTART;TZID=Europe/Berlin:20251110T194500
DTEND;TZID=Europe/Berlin:20251110T224500
SUMMARY:Ligue 5 Gr.1 Ph.A Meyrin VII vs Châtelaine VIII (13)
UID:0bc646e4-28df-4184-896a-ab1d16d62bad
STATUS:CONFIRMED
LAST-MODIFIED:20251111T164802Z
DESCRIPTION:5ème ligue Hommes Gr.1 Phase A\nBegegnungs-Nr: 13\nHeim: Meyrin VII\nGast: Châtelaine VIII\n
LOCATION:
CATEGORIES:Saison 2025/26
END:VEVENT
BEGIN:VEVENT
DTSTAMP:20260424T115147Z
DTSTART;TZID=Europe/Berlin:20260428T194500
DTEND;TZID=Europe/Berlin:20260428T224500
SUMMARY:Ligue 5 Gr.4 Ph.B Puplinge III vs Châtelaine VIII (29)
UID:12205ca0-0392-4850-962e-cbc3d75147ad
STATUS:CONFIRMED
LAST-MODIFIED:20260325T142103Z
DESCRIPTION:5ème ligue Hommes Gr.4 Phase B\nBegegnungs-Nr: 29\nHeim: Puplinge III\nGast: Châtelaine VIII\n\nAdresse: Chemin de la Brenaz\,  15\, 1241 Puplinge\n
LOCATION:Chemin de la Brenaz\,  15\, 1241 Puplinge
CATEGORIES:Saison 2025/26
END:VEVENT
BEGIN:VEVENT
DTSTAMP:20260424T115147Z
DTSTART;TZID=Europe/Berlin:20260330T194500
DTEND;TZID=Europe/Berlin:20260330T224500
SUMMARY:Ligue 5 Gr.4 Ph.B Bernex VI vs Châtelaine VIII (25)
UID:d735b65a-9fb4-4fd8-8cf4-3594c6499d27
STATUS:CONFIRMED
LAST-MODIFIED:20260331T071952Z
DESCRIPTION:5ème ligue Hommes Gr.4 Phase B\nBegegnungs-Nr: 25\nHeim: Bernex VI\nGast: Châtelaine VIII\n
LOCATION:
CATEGORIES:Saison 2025/26
END:VEVENT
BEGIN:VEVENT
DTSTAMP:20260424T115147Z
DTSTART;TZID=Europe/Berlin:20260126T194500
DTEND;TZID=Europe/Berlin:20260126T224500
SUMMARY:Ligue 5 Gr.4 Ph.B Veyrier V vs Châtelaine VIII (8)
UID:ef7bd857-58af-41b8-a490-ad0ba9ab39eb
STATUS:CONFIRMED
LAST-MODIFIED:20260127T165505Z
DESCRIPTION:5ème ligue Hommes Gr.4 Phase B\nBegegnungs-Nr: 8\nHeim: Veyrier V\nGast: Châtelaine VIII\n\nAdresse: -\, 1255 Veyrier\n
LOCATION:-\, 1255 Veyrier
CATEGORIES:Saison 2025/26
END:VEVENT
BEGIN:VEVENT
DTSTAMP:20260424T115147Z
DTSTART;TZID=Europe/Berlin:20260119T194500
DTEND;TZID=Europe/Berlin:20260119T224500
SUMMARY:Ligue 5 Gr.4 Ph.B Versoix VII vs Châtelaine VIII (4)
UID:e6b6432f-d912-4478-814d-ae79bfdde765
STATUS:CONFIRMED
LAST-MODIFIED:20260120T121249Z
DESCRIPTION:5ème ligue Hommes Gr.4 Phase B\nBegegnungs-Nr: 4\nHeim: Versoix VII\nGast: Châtelaine VIII\n
LOCATION:
CATEGORIES:Saison 2025/26
END:VEVENT
END:VCALENDAR
